Workbook
Name escuderias: OFFSET(PILOTOS!$G$13,0,0,COUNTA(PILOTOS!$G$13:$G$25,">=0")-1,1)
Name gpremios: Conf!$C$2:$C$20
Name imagenescuderia: INDIRECT(img!$F$25)
Name imagenpiloto: INDIRECT(img!$F$1)
Name pilotos: OFFSET(PILOTOS!$D$13,0,0,COUNTA(PILOTOS!$D$13:$D$44,">=0")-1,1)

Sheet RESUMEN
B11: CALENDARIO | G11: GP > | H11: GP AUSTRALIA | J11: CLASIFICACIÓN
B12: # | C12: FECHA | D12: GRAN PREMIO | G12: P. | H12: PILOTO | J12: P. | K12: PILOTO | L12: Ptos
B13: 1 | C13: =VLOOKUP($B13,Conf!$A$2:$C$20,2,0) -> 14-16 Marzo | D13: =VLOOKUP($B13,Conf!$A$2:$C$20,3,0) -> GP AUSTRALIA | G13: 1 | H13: =Conf!E117 | J13: 1 | K13: =VLOOKUP($J13,Conf!$G$4:$J$35,2,0) -> Sebastian VETTEL | L13: =VLOOKUP($J13,Conf!$G$4:$J$35,4,0) -> 0
B14: =B13+1 -> 2 | C14: =VLOOKUP($B14,Conf!$A$2:$C$20,2,0) -> 28-30 Marzo | D14: =VLOOKUP($B14,Conf!$A$2:$C$20,3,0) -> GP MALAYSIA | G14: 2 | H14: =Conf!E118 | J14: =J13+1 -> 2 | K14: =VLOOKUP($J14,Conf!$G$4:$J$35,2,0) -> Daniel RICCIARDO | L14: =VLOOKUP($J14,Conf!$G$4:$J$35,4,0) -> 0
B15: =B14+1 -> 3 | C15: =VLOOKUP($B15,Conf!$A$2:$C$20,2,0) -> 4-6 Abril | D15: =VLOOKUP($B15,Conf!$A$2:$C$20,3,0) -> GP BAHRAIN | G15: 3 | H15: =Conf!E119 | J15: =J14+1 -> 3 | K15: =VLOOKUP($J15,Conf!$G$4:$J$35,2,0) -> Max CHILTON | L15: =VLOOKUP($J15,Conf!$G$4:$J$35,4,0) -> 0
B16: =B15+1 -> 4 | C16: =VLOOKUP($B16,Conf!$A$2:$C$20,2,0) -> 18-20 Abril | D16: =VLOOKUP($B16,Conf!$A$2:$C$20,3,0) -> GP CHINA | G16: 4 | H16: =Conf!E120 | J16: =J15+1 -> 4 | K16: =VLOOKUP($J16,Conf!$G$4:$J$35,2,0) -> Nico ROSBERG | L16: =VLOOKUP($J16,Conf!$G$4:$J$35,4,0) -> 0
B17: =B16+1 -> 5 | C17: =VLOOKUP($B17,Conf!$A$2:$C$20,2,0) -> 9-11 Mayo | D17: =VLOOKUP($B17,Conf!$A$2:$C$20,3,0) -> GP ESPAÑA | G17: 5 | H17: =Conf!E121 | J17: =J16+1 -> 5 | K17: =VLOOKUP($J17,Conf!$G$4:$J$35,2,0) -> Kimi RAIKKONEN | L17: =VLOOKUP($J17,Conf!$G$4:$J$35,4,0) -> 0

Sheet PILOTOS
D11: PILOTO | E11: ESCUDERÍA | G11: ESCUDERÍA
C13: 1 | D13: Sebastian VETTEL | E13: Red Bull | G13: Red Bull
C14: 3 | D14: Daniel RICCIARDO | E14: Red Bull | G14: Mercedes
C15: 4 | D15: Max CHILTON | E15: Marussia | G15: Ferrari
C16: 6 | D16: Nico ROSBERG | E16: Mercedes | G16: Lotus
C17: 7 | D17: Kimi RAIKKONEN | E17: Ferrari | G17: McLaren
C18: 8 | D18: Romain GROSJEAN | E18: Lotus | G18: Force India
C19: 9 | D19: Marcus ERICSSON | E19: Caterham | G19: Sauber
C20: 10 | D20: Kamui KOBAYASHI | E20: Caterham | G20: Toro Rosso
C21: 11 | D21: Sergio PEREZ | E21: Force India | G21: Williams
C22: 13 | D22: Pastor MALDONADO | E22: Lotus | G22: Marussia
C23: 14 | D23: Fernando ALONSO | E23: Ferrari | G23: Caterham
C24: 17 | D24: Jules BIANCHI | E24: Marussia
C25: 19 | D25: Felipe MASSA | E25: Williams
C26: 20 | D26: Kevin MAGNUSSEN | E26: McLaren
C27: 21 | D27: Esteban GUTIERREZ | E27: Sauber
C28: 22 | D28: Jenson BUTTON | E28: McLaren
C29: 25 | D29: Jean-Eric VERGNE | E29: Toro Rosso
C30: 26 | D30: Daniil KVYAT | E30: Toro Rosso
C31: 27 | D31: Nico HULKENBERG | E31: Force India
C32: 44 | D32: Lewis HAMILTON | E32: Mercedes
C33: 77 | D33: Valtteri BOTTAS | E33: Williams
C34: 99 | D34: Adrian SUTIL | E34: Sauber

Sheet CLASIFICACIONES
C11: CLASIFICACIÓN DE PILOTOS | I11: ESCUDERÍAS
C13: Pos. | D13: PILOTO | E13: ESCUDERÍA | F13: PTOS | G13: DIF 1º | I13: Pos. | J13: ESCUDERÍA | K13: PTOS | L13: DIF 1º
C14: 1 | D14: =IFERROR(VLOOKUP($C14,Conf!$G$4:$J$35,2,0),"") -> Sebastian VETTEL | E14: =IFERROR(VLOOKUP($C14,Conf!$G$4:$J$35,3,0),"") -> Red Bull | F14: =IFERROR(VLOOKUP($C14,Conf!$G$4:$J$35,4,0),"") -> 0 | I14: 1 | J14: =IFERROR(VLOOKUP($I14,Conf!$G$40:$J$52,2,0),"") -> Red Bull | K14: =IFERROR(VLOOKUP($I14,Conf!$G$40:$J$52,4,0),"") -> 0
C15: 2 | D15: =IFERROR(VLOOKUP($C15,Conf!$G$4:$J$35,2,0),"") -> Daniel RICCIARDO | E15: =IFERROR(VLOOKUP($C15,Conf!$G$4:$J$35,3,0),"") -> Red Bull | F15: =IFERROR(VLOOKUP($C15,Conf!$G$4:$J$35,4,0),"") -> 0 | G15: =IFERROR(F15-$F$14,"") -> 0 | I15: 2 | J15: =IFERROR(VLOOKUP($I15,Conf!$G$40:$J$52,2,0),"") -> Mercedes | K15: =IFERROR(VLOOKUP($I15,Conf!$G$40:$J$52,4,0),"") -> 0 | L15: =IFERROR(K15-$K$14,"") -> 0
C16: 3 | D16: =IFERROR(VLOOKUP($C16,Conf!$G$4:$J$35,2,0),"") -> Max CHILTON | E16: =IFERROR(VLOOKUP($C16,Conf!$G$4:$J$35,3,0),"") -> Marussia | F16: =IFERROR(VLOOKUP($C16,Conf!$G$4:$J$35,4,0),"") -> 0 | G16: =IFERROR(F16-$F$14,"") -> 0 | I16: 3 | J16: =IFERROR(VLOOKUP($I16,Conf!$G$40:$J$52,2,0),"") -> Ferrari | K16: =IFERROR(VLOOKUP($I16,Conf!$G$40:$J$52,4,0),"") -> 0 | L16: =IFERROR(K16-$K$14,"") -> 0
C17: 4 | D17: =IFERROR(VLOOKUP($C17,Conf!$G$4:$J$35,2,0),"") -> Nico ROSBERG | E17: =IFERROR(VLOOKUP($C17,Conf!$G$4:$J$35,3,0),"") -> Mercedes | F17: =IFERROR(VLOOKUP($C17,Conf!$G$4:$J$35,4,0),"") -> 0 | G17: =IFERROR(F17-$F$14,"") -> 0 | I17: 4 | J17: =IFERROR(VLOOKUP($I17,Conf!$G$40:$J$52,2,0),"") -> Lotus | K17: =IFERROR(VLOOKUP($I17,Conf!$G$40:$J$52,4,0),"") -> 0 | L17: =IFERROR(K17-$K$14,"") -> 0
C18: 5 | D18: =IFERROR(VLOOKUP($C18,Conf!$G$4:$J$35,2,0),"") -> Kimi RAIKKONEN | E18: =IFERROR(VLOOKUP($C18,Conf!$G$4:$J$35,3,0),"") -> Ferrari | F18: =IFERROR(VLOOKUP($C18,Conf!$G$4:$J$35,4,0),"") -> 0 | G18: =IFERROR(F18-$F$14,"") -> 0 | I18: 5 | J18: =IFERROR(VLOOKUP($I18,Conf!$G$40:$J$52,2,0),"") -> McLaren | K18: =IFERROR(VLOOKUP($I18,Conf!$G$40:$J$52,4,0),"") -> 0 | L18: =IFERROR(K18-$K$14,"") -> 0
C19: 6 | D19: =IFERROR(VLOOKUP($C19,Conf!$G$4:$J$35,2,0),"") -> Romain GROSJEAN | E19: =IFERROR(VLOOKUP($C19,Conf!$G$4:$J$35,3,0),"") -> Lotus | F19: =IFERROR(VLOOKUP($C19,Conf!$G$4:$J$35,4,0),"") -> 0 | G19: =IFERROR(F19-$F$14,"") -> 0 | I19: 6 | J19: =IFERROR(VLOOKUP($I19,Conf!$G$40:$J$52,2,0),"") -> Force India | K19: =IFERROR(VLOOKUP($I19,Conf!$G$40:$J$52,4,0),"") -> 0 | L19: =IFERROR(K19-$K$14,"") -> 0
C20: 7 | D20: =IFERROR(VLOOKUP($C20,Conf!$G$4:$J$35,2,0),"") -> Marcus ERICSSON | E20: =IFERROR(VLOOKUP($C20,Conf!$G$4:$J$35,3,0),"") -> Caterham | F20: =IFERROR(VLOOKUP($C20,Conf!$G$4:$J$35,4,0),"") -> 0 | G20: =IFERROR(F20-$F$14,"") -> 0 | I20: 7 | J20: =IFERROR(VLOOKUP($I20,Conf!$G$40:$J$52,2,0),"") -> Sauber | K20: =IFERROR(VLOOKUP($I20,Conf!$G$40:$J$52,4,0),"") -> 0 | L20: =IFERROR(K20-$K$14,"") -> 0
C21: 8 | D21: =IFERROR(VLOOKUP($C21,Conf!$G$4:$J$35,2,0),"") -> Kamui KOBAYASHI | E21: =IFERROR(VLOOKUP($C21,Conf!$G$4:$J$35,3,0),"") -> Caterham | F21: =IFERROR(VLOOKUP($C21,Conf!$G$4:$J$35,4,0),"") -> 0 | G21: =IFERROR(F21-$F$14,"") -> 0 | I21: 8 | J21: =IFERROR(VLOOKUP($I21,Conf!$G$40:$J$52,2,0),"") -> Toro Rosso | K21: =IFERROR(VLOOKUP($I21,Conf!$G$40:$J$52,4,0),"") -> 0 | L21: =IFERROR(K21-$K$14,"") -> 0
C22: 9 | D22: =IFERROR(VLOOKUP($C22,Conf!$G$4:$J$35,2,0),"") -> Sergio PEREZ | E22: =IFERROR(VLOOKUP($C22,Conf!$G$4:$J$35,3,0),"") -> Force India | F22: =IFERROR(VLOOKUP($C22,Conf!$G$4:$J$35,4,0),"") -> 0 | G22: =IFERROR(F22-$F$14,"") -> 0 | I22: 9 | J22: =IFERROR(VLOOKUP($I22,Conf!$G$40:$J$52,2,0),"") -> Williams | K22: =IFERROR(VLOOKUP($I22,Conf!$G$40:$J$52,4,0),"") -> 0 | L22: =IFERROR(K22-$K$14,"") -> 0
C23: 10 | D23: =IFERROR(VLOOKUP($C23,Conf!$G$4:$J$35,2,0),"") -> Pastor MALDONADO | E23: =IFERROR(VLOOKUP($C23,Conf!$G$4:$J$35,3,0),"") -> Lotus | F23: =IFERROR(VLOOKUP($C23,Conf!$G$4:$J$35,4,0),"") -> 0 | G23: =IFERROR(F23-$F$14,"") -> 0 | I23: 10 | J23: =IFERROR(VLOOKUP($I23,Conf!$G$40:$J$52,2,0),"") -> Marussia | K23: =IFERROR(VLOOKUP($I23,Conf!$G$40:$J$52,4,0),"") -> 0 | L23: =IFERROR(K23-$K$14,"") -> 0
C24: 11 | D24: =IFERROR(VLOOKUP($C24,Conf!$G$4:$J$35,2,0),"") -> Fernando ALONSO | E24: =IFERROR(VLOOKUP($C24,Conf!$G$4:$J$35,3,0),"") -> Ferrari | F24: =IFERROR(VLOOKUP($C24,Conf!$G$4:$J$35,4,0),"") -> 0 | G24: =IFERROR(F24-$F$14,"") -> 0 | I24: 11 | J24: =IFERROR(VLOOKUP($I24,Conf!$G$40:$J$52,2,0),"") -> Caterham | K24: =IFERROR(VLOOKUP($I24,Conf!$G$40:$J$52,4,0),"") -> 0 | L24: =IFERROR(K24-$K$14,"") -> 0
C25: 12 | D25: =IFERROR(VLOOKUP($C25,Conf!$G$4:$J$35,2,0),"") -> Jules BIANCHI | E25: =IFERROR(VLOOKUP($C25,Conf!$G$4:$J$35,3,0),"") -> Marussia | F25: =IFERROR(VLOOKUP($C25,Conf!$G$4:$J$35,4,0),"") -> 0 | G25: =IFERROR(F25-$F$14,"") -> 0 | J25: =IFERROR(VLOOKUP($I25,Conf!$G$40:$J$52,2,0),"") | K25: =IFERROR(VLOOKUP($I25,Conf!$G$40:$J$52,4,0),"") | L25: =IFERROR(K25-$K$14,"")
C26: 13 | D26: =IFERROR(VLOOKUP($C26,Conf!$G$4:$J$35,2,0),"") -> Felipe MASSA | E26: =IFERROR(VLOOKUP($C26,Conf!$G$4:$J$35,3,0),"") -> Williams | F26: =IFERROR(VLOOKUP($C26,Conf!$G$4:$J$35,4,0),"") -> 0 | G26: =IFERROR(F26-$F$14,"") -> 0 | J26: =IFERROR(VLOOKUP($I26,Conf!$G$40:$J$52,2,0),"") | K26: =IFERROR(VLOOKUP($I26,Conf!$G$40:$J$52,4,0),"") | L26: =IFERROR(K26-$K$14,"")
C27: 14 | D27: =IFERROR(VLOOKUP($C27,Conf!$G$4:$J$35,2,0),"") -> Kevin MAGNUSSEN | E27: =IFERROR(VLOOKUP($C27,Conf!$G$4:$J$35,3,0),"") -> McLaren | F27: =IFERROR(VLOOKUP($C27,Conf!$G$4:$J$35,4,0),"") -> 0 | G27: =IFERROR(F27-$F$14,"") -> 0
C28: 15 | D28: =IFERROR(VLOOKUP($C28,Conf!$G$4:$J$35,2,0),"") -> Esteban GUTIERREZ | E28: =IFERROR(VLOOKUP($C28,Conf!$G$4:$J$35,3,0),"") -> Sauber | F28: =IFERROR(VLOOKUP($C28,Conf!$G$4:$J$35,4,0),"") -> 0 | G28: =IFERROR(F28-$F$14,"") -> 0
C29: 16 | D29: =IFERROR(VLOOKUP($C29,Conf!$G$4:$J$35,2,0),"") -> Jenson BUTTON | E29: =IFERROR(VLOOKUP($C29,Conf!$G$4:$J$35,3,0),"") -> McLaren | F29: =IFERROR(VLOOKUP($C29,Conf!$G$4:$J$35,4,0),"") -> 0 | G29: =IFERROR(F29-$F$14,"") -> 0
C30: 17 | D30: =IFERROR(VLOOKUP($C30,Conf!$G$4:$J$35,2,0),"") -> Jean-Eric VERGNE | E30: =IFERROR(VLOOKUP($C30,Conf!$G$4:$J$35,3,0),"") -> Toro Rosso | F30: =IFERROR(VLOOKUP($C30,Conf!$G$4:$J$35,4,0),"") -> 0 | G30: =IFERROR(F30-$F$14,"") -> 0
C31: 18 | D31: =IFERROR(VLOOKUP($C31,Conf!$G$4:$J$35,2,0),"") -> Daniil KVYAT | E31: =IFERROR(VLOOKUP($C31,Conf!$G$4:$J$35,3,0),"") -> Toro Rosso | F31: =IFERROR(VLOOKUP($C31,Conf!$G$4:$J$35,4,0),"") -> 0 | G31: =IFERROR(F31-$F$14,"") -> 0
C32: 19 | D32: =IFERROR(VLOOKUP($C32,Conf!$G$4:$J$35,2,0),"") -> Nico HULKENBERG | E32: =IFERROR(VLOOKUP($C32,Conf!$G$4:$J$35,3,0),"") -> Force India | F32: =IFERROR(VLOOKUP($C32,Conf!$G$4:$J$35,4,0),"") -> 0 | G32: =IFERROR(F32-$F$14,"") -> 0
C33: 20 | D33: =IFERROR(VLOOKUP($C33,Conf!$G$4:$J$35,2,0),"") -> Lewis HAMILTON | E33: =IFERROR(VLOOKUP($C33,Conf!$G$4:$J$35,3,0),"") -> Mercedes | F33: =IFERROR(VLOOKUP($C33,Conf!$G$4:$J$35,4,0),"") -> 0 | G33: =IFERROR(F33-$F$14,"") -> 0
C34: 21 | D34: =IFERROR(VLOOKUP($C34,Conf!$G$4:$J$35,2,0),"") -> Valtteri BOTTAS | E34: =IFERROR(VLOOKUP($C34,Conf!$G$4:$J$35,3,0),"") -> Williams | F34: =IFERROR(VLOOKUP($C34,Conf!$G$4:$J$35,4,0),"") -> 0 | G34: =IFERROR(F34-$F$14,"") -> 0
C35: 22 | D35: =IFERROR(VLOOKUP($C35,Conf!$G$4:$J$35,2,0),"") -> Adrian SUTIL | E35: =IFERROR(VLOOKUP($C35,Conf!$G$4:$J$35,3,0),"") -> Sauber | F35: =IFERROR(VLOOKUP($C35,Conf!$G$4:$J$35,4,0),"") -> 0 | G35: =IFERROR(F35-$F$14,"") -> 0
C36: =Conf!G26 | D36: =IFERROR(VLOOKUP($C36,Conf!$G$4:$J$35,2,0),"") | E36: =IFERROR(VLOOKUP($C36,Conf!$G$4:$J$35,3,0),"") | F36: =IFERROR(VLOOKUP($C36,Conf!$G$4:$J$35,4,0),"") | G36: =IFERROR(F36-$F$14,"")
C37: =Conf!G27 | D37: =IFERROR(VLOOKUP($C37,Conf!$G$4:$J$35,2,0),"") | E37: =IFERROR(VLOOKUP($C37,Conf!$G$4:$J$35,3,0),"") | F37: =IFERROR(VLOOKUP($C37,Conf!$G$4:$J$35,4,0),"") | G37: =IFERROR(F37-$F$14,"")
C38: =Conf!G28 | D38: =IFERROR(VLOOKUP($C38,Conf!$G$4:$J$35,2,0),"") | E38: =IFERROR(VLOOKUP($C38,Conf!$G$4:$J$35,3,0),"") | F38: =IFERROR(VLOOKUP($C38,Conf!$G$4:$J$35,4,0),"") | G38: =IFERROR(F38-$F$14,"")
C39: =Conf!G29 | D39: =IFERROR(VLOOKUP($C39,Conf!$G$4:$J$35,2,0),"") | E39: =IFERROR(VLOOKUP($C39,Conf!$G$4:$J$35,3,0),"") | F39: =IFERROR(VLOOKUP($C39,Conf!$G$4:$J$35,4,0),"") | G39: =IFERROR(F39-$F$14,"")
C40: =Conf!G30 | D40: =IFERROR(VLOOKUP($C40,Conf!$G$4:$J$35,2,0),"") | E40: =IFERROR(VLOOKUP($C40,Conf!$G$4:$J$35,3,0),"") | F40: =IFERROR(VLOOKUP($C40,Conf!$G$4:$J$35,4,0),"") | G40: =IFERROR(F40-$F$14,"")
C41: =Conf!G31 | D41: =IFERROR(VLOOKUP($C41,Conf!$G$4:$J$35,2,0),"") | E41: =IFERROR(VLOOKUP($C41,Conf!$G$4:$J$35,3,0),"") | F41: =IFERROR(VLOOKUP($C41,Conf!$G$4:$J$35,4,0),"") | G41: =IFERROR(F41-$F$14,"")
C42: =Conf!G32 | D42: =IFERROR(VLOOKUP($C42,Conf!$G$4:$J$35,2,0),"") | E42: =IFERROR(VLOOKUP($C42,Conf!$G$4:$J$35,3,0),"") | F42: =IFERROR(VLOOKUP($C42,Conf!$G$4:$J$35,4,0),"") | G42: =IFERROR(F42-$F$14,"")
C43: =Conf!G33 | D43: =IFERROR(VLOOKUP($C43,Conf!$G$4:$J$35,2,0),"") | E43: =IFERROR(VLOOKUP($C43,Conf!$G$4:$J$35,3,0),"") | F43: =IFERROR(VLOOKUP($C43,Conf!$G$4:$J$35,4,0),"") | G43: =IFERROR(F43-$F$14,"")
C44: =Conf!G34 | D44: =IFERROR(VLOOKUP($C44,Conf!$G$4:$J$35,2,0),"") | E44: =IFERROR(VLOOKUP($C44,Conf!$G$4:$J$35,3,0),"") | F44: =IFERROR(VLOOKUP($C44,Conf!$G$4:$J$35,4,0),"") | G44: =IFERROR(F44-$F$14,"")
C45: =Conf!G35 | D45: =IFERROR(VLOOKUP($C45,Conf!$G$4:$J$35,2,0),"") | E45: =IFERROR(VLOOKUP($C45,Conf!$G$4:$J$35,3,0),"") | F45: =IFERROR(VLOOKUP($C45,Conf!$G$4:$J$35,4,0),"") | G45: =IFERROR(F45-$F$14,"")

Sheet ESTADISTICAS
H10: 4 | I10: 5 | J10: 6 | K10: 7 | L10: 8 | M10: 9 | N10: 10 | O10: 11 | P10: 12 | Q10: 13 | R10: 83
B11: PILOTO CON MÁS VICTORIAS | G11: RESUMEN DE LA TEMPORADA DE TODOS LOS PILOTOS | Z11: RESUMEN DE LOS RESULTADOS OBTENIDOS EN LAS CLASIFICACIONES
B12: 1 | C12: =VLOOKUP($B12,Conf!$DG$4:$DJ$35,2,0) -> Sebastian VETTEL | D12: =VLOOKUP($B12,Conf!$DG$4:$DJ$35,4,0) -> 0 | G12: PILOTO | H12: 1º | I12: 2º | J12: 3º | K12: 4º | L12: 5º | M12: 6º | N12: 7º | O12: 8º | P12: 9º | Q12: 10º | R12: Poles | S12: Podios | T12: Sin puntos | W12: 25 | X12: =W12/2 -> 12.5 | Y12: 1 | Z12: CALIF. | AA12: Q3 | AB12: Q2 | AC12: Q1 | AD12: AUS | AE12: MAL | AF12: BAH | AG12: CHI | AH12: ESP | AI12: MON | AJ12: CAN | AK12: AUT | AL12: GB | AM12: ALE | AN12: HUN | AO12: BEL | AP12: ITA | AQ12: SIN | AR12: JAP | AS12: RUS | AT12: USA | AU12: BRA | AV12: ABU
B13: =B12+1 -> 2 | C13: =VLOOKUP($B13,Conf!$DG$4:$DJ$35,2,0) -> Daniel RICCIARDO | D13: =VLOOKUP($B13,Conf!$DG$4:$DJ$35,4,0) -> 0 | G13: =Conf!H4 -> Sebastian VETTEL | H13: =IF($G13="","",VLOOKUP($G13,Conf!$H$4:$DE$35,ESTADISTICAS!H$10,0)) -> 0 | I13: =IF($G13="","",VLOOKUP($G13,Conf!$H$4:$DE$35,ESTADISTICAS!I$10,0)) -> 0 | J13: =IF($G13="","",VLOOKUP($G13,Conf!$H$4:$DE$35,ESTADISTICAS!J$10,0)) -> 0 | K13: =IF($G13="","",VLOOKUP($G13,Conf!$H$4:$DE$35,ESTADISTICAS!K$10,0)) -> 0 | L13: =IF($G13="","",VLOOKUP($G13,Conf!$H$4:$DE$35,ESTADISTICAS!L$10,0)) -> 0 | M13: =IF($G13="","",VLOOKUP($G13,Conf!$H$4:$DE$35,ESTADISTICAS!M$10,0)) -> 0 | N13: =IF($G13="","",VLOOKUP($G13,Conf!$H$4:$DE$35,ESTADISTICAS!N$10,0)) -> 0 | O13: =IF($G13="","",VLOOKUP($G13,Conf!$H$4:$DE$35,ESTADISTICAS!O$10,0)) -> 0 | ... R13: =IF($G13="","",VLOOKUP($G13,Conf!$H$4:$DE$35,ESTADISTICAS!R$10,0)) -> 0 | S13: =IF(G13="","",H13+I13+J13) -> 0 | T13: =IF(G13="","",Conf!$B$42-SUM(H13:Q13)) -> 0 | U13: =IF(G13="","",CONCATENATE("(",Conf!$B$42,")")) -> (0) | W13: 18 | X13: =W13/2 -> 9 | Y13: 2 | Z13: =IF($G13="","",VLOOKUP($G13,Conf!$H$56:$M$87,3,0)) -> 0 | AA13: =IF($G13="","",VLOOKUP($G13,Conf!$H$56:$M$87,4,0)) -> 0 | AB13: =IF($G13="","",VLOOKUP($G13,Conf!$H$56:$M$87,5,0)) -> 0 | AC13: =IF($G13="","",VLOOKUP($G13,Conf!$H$56:$M$87,6,0)) -> 0 | AD13: =Conf!AG56 | AE13: =Conf!AH56 | AF13: =Conf!AI56 | AG13: =Conf!AJ56 | AH13: =Conf!AK56 | AI13: =Conf!AL56 | AJ13: =Conf!AM56 | AK13: =Conf!AN56 | ... AV13: =Conf!AY56
B14: =B13+1 -> 3 | C14: =VLOOKUP($B14,Conf!$DG$4:$DJ$35,2,0) -> Max CHILTON | D14: =VLOOKUP($B14,Conf!$DG$4:$DJ$35,4,0) -> 0 | G14: =Conf!H5 -> Daniel RICCIARDO | H14: =IF($G14="","",VLOOKUP($G14,Conf!$H$4:$DE$35,ESTADISTICAS!H$10,0)) -> 0 | I14: =IF($G14="","",VLOOKUP($G14,Conf!$H$4:$DE$35,ESTADISTICAS!I$10,0)) -> 0 | J14: =IF($G14="","",VLOOKUP($G14,Conf!$H$4:$DE$35,ESTADISTICAS!J$10,0)) -> 0 | K14: =IF($G14="","",VLOOKUP($G14,Conf!$H$4:$DE$35,ESTADISTICAS!K$10,0)) -> 0 | L14: =IF($G14="","",VLOOKUP($G14,Conf!$H$4:$DE$35,ESTADISTICAS!L$10,0)) -> 0 | M14: =IF($G14="","",VLOOKUP($G14,Conf!$H$4:$DE$35,ESTADISTICAS!M$10,0)) -> 0 | N14: =IF($G14="","",VLOOKUP($G14,Conf!$H$4:$DE$35,ESTADISTICAS!N$10,0)) -> 0 | O14: =IF($G14="","",VLOOKUP($G14,Conf!$H$4:$DE$35,ESTADISTICAS!O$10,0)) -> 0 | ... R14: =IF($G14="","",VLOOKUP($G14,Conf!$H$4:$DE$35,ESTADISTICAS!R$10,0)) -> 0 | S14: =IF(G14="","",H14+I14+J14) -> 0 | T14: =IF(G14="","",Conf!$B$42-SUM(H14:Q14)) -> 0 | U14: =IF(G14="","",CONCATENATE("(",Conf!$B$42,")")) -> (0) | W14: 15 | X14: =W14/2 -> 7.5 | Y14: 3 | Z14: =IF($G14="","",VLOOKUP($G14,Conf!$H$56:$M$87,3,0)) -> 0 | AA14: =IF($G14="","",VLOOKUP($G14,Conf!$H$56:$M$87,4,0)) -> 0 | AB14: =IF($G14="","",VLOOKUP($G14,Conf!$H$56:$M$87,5,0)) -> 0 | AC14: =IF($G14="","",VLOOKUP($G14,Conf!$H$56:$M$87,6,0)) -> 0 | AD14: =Conf!AG57 | AE14: =Conf!AH57 | AF14: =Conf!AI57 | AG14: =Conf!AJ57 | AH14: =Conf!AK57 | AI14: =Conf!AL57 | AJ14: =Conf!AM57 | AK14: =Conf!AN57 | ... AV14: =Conf!AY57
B15: =B14+1 -> 4 | C15: =VLOOKUP($B15,Conf!$DG$4:$DJ$35,2,0) -> Nico ROSBERG | D15: =VLOOKUP($B15,Conf!$DG$4:$DJ$35,4,0) -> 0 | G15: =Conf!H6 -> Max CHILTON | H15: =IF($G15="","",VLOOKUP($G15,Conf!$H$4:$DE$35,ESTADISTICAS!H$10,0)) -> 0 | I15: =IF($G15="","",VLOOKUP($G15,Conf!$H$4:$DE$35,ESTADISTICAS!I$10,0)) -> 0 | J15: =IF($G15="","",VLOOKUP($G15,Conf!$H$4:$DE$35,ESTADISTICAS!J$10,0)) -> 0 | K15: =IF($G15="","",VLOOKUP($G15,Conf!$H$4:$DE$35,ESTADISTICAS!K$10,0)) -> 0 | L15: =IF($G15="","",VLOOKUP($G15,Conf!$H$4:$DE$35,ESTADISTICAS!L$10,0)) -> 0 | M15: =IF($G15="","",VLOOKUP($G15,Conf!$H$4:$DE$35,ESTADISTICAS!M$10,0)) -> 0 | N15: =IF($G15="","",VLOOKUP($G15,Conf!$H$4:$DE$35,ESTADISTICAS!N$10,0)) -> 0 | O15: =IF($G15="","",VLOOKUP($G15,Conf!$H$4:$DE$35,ESTADISTICAS!O$10,0)) -> 0 | ... R15: =IF($G15="","",VLOOKUP($G15,Conf!$H$4:$DE$35,ESTADISTICAS!R$10,0)) -> 0 | S15: =IF(G15="","",H15+I15+J15) -> 0 | T15: =IF(G15="","",Conf!$B$42-SUM(H15:Q15)) -> 0 | U15: =IF(G15="","",CONCATENATE("(",Conf!$B$42,")")) -> (0) | W15: 12 | X15: =W15/2 -> 6 | Y15: 4 | Z15: =IF($G15="","",VLOOKUP($G15,Conf!$H$56:$M$87,3,0)) -> 0 | AA15: =IF($G15="","",VLOOKUP($G15,Conf!$H$56:$M$87,4,0)) -> 0 | AB15: =IF($G15="","",VLOOKUP($G15,Conf!$H$56:$M$87,5,0)) -> 0 | AC15: =IF($G15="","",VLOOKUP($G15,Conf!$H$56:$M$87,6,0)) -> 0 | AD15: =Conf!AG58 | AE15: =Conf!AH58 | AF15: =Conf!AI58 | AG15: =Conf!AJ58 | AH15: =Conf!AK58 | AI15: =Conf!AL58 | AJ15: =Conf!AM58 | AK15: =Conf!AN58 | ... AV15: =Conf!AY58
B16: =B15+1 -> 5 | C16: =VLOOKUP($B16,Conf!$DG$4:$DJ$35,2,0) -> Kimi RAIKKONEN | D16: =VLOOKUP($B16,Conf!$DG$4:$DJ$35,4,0) -> 0 | G16: =Conf!H7 -> Nico ROSBERG | H16: =IF($G16="","",VLOOKUP($G16,Conf!$H$4:$DE$35,ESTADISTICAS!H$10,0)) -> 0 | I16: =IF($G16="","",VLOOKUP($G16,Conf!$H$4:$DE$35,ESTADISTICAS!I$10,0)) -> 0 | J16: =IF($G16="","",VLOOKUP($G16,Conf!$H$4:$DE$35,ESTADISTICAS!J$10,0)) -> 0 | K16: =IF($G16="","",VLOOKUP($G16,Conf!$H$4:$DE$35,ESTADISTICAS!K$10,0)) -> 0 | L16: =IF($G16="","",VLOOKUP($G16,Conf!$H$4:$DE$35,ESTADISTICAS!L$10,0)) -> 0 | M16: =IF($G16="","",VLOOKUP($G16,Conf!$H$4:$DE$35,ESTADISTICAS!M$10,0)) -> 0 | N16: =IF($G16="","",VLOOKUP($G16,Conf!$H$4:$DE$35,ESTADISTICAS!N$10,0)) -> 0 | O16: =IF($G16="","",VLOOKUP($G16,Conf!$H$4:$DE$35,ESTADISTICAS!O$10,0)) -> 0 | ... R16: =IF($G16="","",VLOOKUP($G16,Conf!$H$4:$DE$35,ESTADISTICAS!R$10,0)) -> 0 | S16: =IF(G16="","",H16+I16+J16) -> 0 | T16: =IF(G16="","",Conf!$B$42-SUM(H16:Q16)) -> 0 | U16: =IF(G16="","",CONCATENATE("(",Conf!$B$42,")")) -> (0) | W16: 10 | X16: =W16/2 -> 5 | Y16: 5 | Z16: =IF($G16="","",VLOOKUP($G16,Conf!$H$56:$M$87,3,0)) -> 0 | AA16: =IF($G16="","",VLOOKUP($G16,Conf!$H$56:$M$87,4,0)) -> 0 | AB16: =IF($G16="","",VLOOKUP($G16,Conf!$H$56:$M$87,5,0)) -> 0 | AC16: =IF($G16="","",VLOOKUP($G16,Conf!$H$56:$M$87,6,0)) -> 0 | AD16: =Conf!AG59 | AE16: =Conf!AH59 | AF16: =Conf!AI59 | AG16: =Conf!AJ59 | AH16: =Conf!AK59 | AI16: =Conf!AL59 | AJ16: =Conf!AM59 | AK16: =Conf!AN59 | ... AV16: =Conf!AY59
G17: =Conf!H8 -> Kimi RAIKKONEN | H17: =IF($G17="","",VLOOKUP($G17,Conf!$H$4:$DE$35,ESTADISTICAS!H$10,0)) -> 0 | I17: =IF($G17="","",VLOOKUP($G17,Conf!$H$4:$DE$35,ESTADISTICAS!I$10,0)) -> 0 | J17: =IF($G17="","",VLOOKUP($G17,Conf!$H$4:$DE$35,ESTADISTICAS!J$10,0)) -> 0 | K17: =IF($G17="","",VLOOKUP($G17,Conf!$H$4:$DE$35,ESTADISTICAS!K$10,0)) -> 0 | L17: =IF($G17="","",VLOOKUP($G17,Conf!$H$4:$DE$35,ESTADISTICAS!L$10,0)) -> 0 | M17: =IF($G17="","",VLOOKUP($G17,Conf!$H$4:$DE$35,ESTADISTICAS!M$10,0)) -> 0 | N17: =IF($G17="","",VLOOKUP($G17,Conf!$H$4:$DE$35,ESTADISTICAS!N$10,0)) -> 0 | O17: =IF($G17="","",VLOOKUP($G17,Conf!$H$4:$DE$35,ESTADISTICAS!O$10,0)) -> 0 | ... R17: =IF($G17="","",VLOOKUP($G17,Conf!$H$4:$DE$35,ESTADISTICAS!R$10,0)) -> 0 | S17: =IF(G17="","",H17+I17+J17) -> 0 | T17: =IF(G17="","",Conf!$B$42-SUM(H17:Q17)) -> 0 | U17: =IF(G17="","",CONCATENATE("(",Conf!$B$42,")")) -> (0) | W17: 8 | X17: =W17/2 -> 4 | Y17: 6 | Z17: =IF($G17="","",VLOOKUP($G17,Conf!$H$56:$M$87,3,0)) -> 0 | AA17: =IF($G17="","",VLOOKUP($G17,Conf!$H$56:$M$87,4,0)) -> 0 | AB17: =IF($G17="","",VLOOKUP($G17,Conf!$H$56:$M$87,5,0)) -> 0 | AC17: =IF($G17="","",VLOOKUP($G17,Conf!$H$56:$M$87,6,0)) -> 0 | AD17: =Conf!AG60 | AE17: =Conf!AH60 | AF17: =Conf!AI60 | AG17: =Conf!AJ60 | AH17: =Conf!AK60 | AI17: =Conf!AL60 | AJ17: =Conf!AM60 | AK17: =Conf!AN60 | ... AV17: =Conf!AY60
B18: PILOTO CON MÁS POLES | G18: =Conf!H9 -> Romain GROSJEAN | H18: =IF($G18="","",VLOOKUP($G18,Conf!$H$4:$DE$35,ESTADISTICAS!H$10,0)) -> 0 | I18: =IF($G18="","",VLOOKUP($G18,Conf!$H$4:$DE$35,ESTADISTICAS!I$10,0)) -> 0 | J18: =IF($G18="","",VLOOKUP($G18,Conf!$H$4:$DE$35,ESTADISTICAS!J$10,0)) -> 0 | K18: =IF($G18="","",VLOOKUP($G18,Conf!$H$4:$DE$35,ESTADISTICAS!K$10,0)) -> 0 | L18: =IF($G18="","",VLOOKUP($G18,Conf!$H$4:$DE$35,ESTADISTICAS!L$10,0)) -> 0 | M18: =IF($G18="","",VLOOKUP($G18,Conf!$H$4:$DE$35,ESTADISTICAS!M$10,0)) -> 0 | N18: =IF($G18="","",VLOOKUP($G18,Conf!$H$4:$DE$35,ESTADISTICAS!N$10,0)) -> 0 | O18: =IF($G18="","",VLOOKUP($G18,Conf!$H$4:$DE$35,ESTADISTICAS!O$10,0)) -> 0 | ... R18: =IF($G18="","",VLOOKUP($G18,Conf!$H$4:$DE$35,ESTADISTICAS!R$10,0)) -> 0 | S18: =IF(G18="","",H18+I18+J18) -> 0 | T18: =IF(G18="","",Conf!$B$42-SUM(H18:Q18)) -> 0 | U18: =IF(G18="","",CONCATENATE("(",Conf!$B$42,")")) -> (0) | W18: 6 | X18: =W18/2 -> 3 | Y18: 7 | Z18: =IF($G18="","",VLOOKUP($G18,Conf!$H$56:$M$87,3,0)) -> 0 | AA18: =IF($G18="","",VLOOKUP($G18,Conf!$H$56:$M$87,4,0)) -> 0 | AB18: =IF($G18="","",VLOOKUP($G18,Conf!$H$56:$M$87,5,0)) -> 0 | AC18: =IF($G18="","",VLOOKUP($G18,Conf!$H$56:$M$87,6,0)) -> 0 | AD18: =Conf!AG61 | AE18: =Conf!AH61 | AF18: =Conf!AI61 | AG18: =Conf!AJ61 | AH18: =Conf!AK61 | AI18: =Conf!AL61 | AJ18: =Conf!AM61 | AK18: =Conf!AN61 | ... AV18: =Conf!AY61
B19: 1 | C19: =VLOOKUP($B19,Conf!$DM$4:$DP$35,2,0) -> Sebastian VETTEL | D19: =VLOOKUP($B19,Conf!$DM$4:$DP$35,4,0) -> 0 | G19: =Conf!H10 -> Marcus ERICSSON | H19: =IF($G19="","",VLOOKUP($G19,Conf!$H$4:$DE$35,ESTADISTICAS!H$10,0)) -> 0 | I19: =IF($G19="","",VLOOKUP($G19,Conf!$H$4:$DE$35,ESTADISTICAS!I$10,0)) -> 0 | J19: =IF($G19="","",VLOOKUP($G19,Conf!$H$4:$DE$35,ESTADISTICAS!J$10,0)) -> 0 | K19: =IF($G19="","",VLOOKUP($G19,Conf!$H$4:$DE$35,ESTADISTICAS!K$10,0)) -> 0 | L19: =IF($G19="","",VLOOKUP($G19,Conf!$H$4:$DE$35,ESTADISTICAS!L$10,0)) -> 0 | M19: =IF($G19="","",VLOOKUP($G19,Conf!$H$4:$DE$35,ESTADISTICAS!M$10,0)) -> 0 | N19: =IF($G19="","",VLOOKUP($G19,Conf!$H$4:$DE$35,ESTADISTICAS!N$10,0)) -> 0 | O19: =IF($G19="","",VLOOKUP($G19,Conf!$H$4:$DE$35,ESTADISTICAS!O$10,0)) -> 0 | ... R19: =IF($G19="","",VLOOKUP($G19,Conf!$H$4:$DE$35,ESTADISTICAS!R$10,0)) -> 0 | S19: =IF(G19="","",H19+I19+J19) -> 0 | T19: =IF(G19="","",Conf!$B$42-SUM(H19:Q19)) -> 0 | U19: =IF(G19="","",CONCATENATE("(",Conf!$B$42,")")) -> (0) | W19: 4 | X19: =W19/2 -> 2 | Y19: 8 | Z19: =IF($G19="","",VLOOKUP($G19,Conf!$H$56:$M$87,3,0)) -> 0 | AA19: =IF($G19="","",VLOOKUP($G19,Conf!$H$56:$M$87,4,0)) -> 0 | AB19: =IF($G19="","",VLOOKUP($G19,Conf!$H$56:$M$87,5,0)) -> 0 | AC19: =IF($G19="","",VLOOKUP($G19,Conf!$H$56:$M$87,6,0)) -> 0 | AD19: =Conf!AG62 | AE19: =Conf!AH62 | AF19: =Conf!AI62 | AG19: =Conf!AJ62 | AH19: =Conf!AK62 | AI19: =Conf!AL62 | AJ19: =Conf!AM62 | AK19: =Conf!AN62 | ... AV19: =Conf!AY62
B20: =B19+1 -> 2 | C20: =VLOOKUP($B20,Conf!$DM$4:$DP$35,2,0) -> Daniel RICCIARDO | D20: =VLOOKUP($B20,Conf!$DM$4:$DP$35,4,0) -> 0 | G20: =Conf!H11 -> Kamui KOBAYASHI | H20: =IF($G20="","",VLOOKUP($G20,Conf!$H$4:$DE$35,ESTADISTICAS!H$10,0)) -> 0 | I20: =IF($G20="","",VLOOKUP($G20,Conf!$H$4:$DE$35,ESTADISTICAS!I$10,0)) -> 0 | J20: =IF($G20="","",VLOOKUP($G20,Conf!$H$4:$DE$35,ESTADISTICAS!J$10,0)) -> 0 | K20: =IF($G20="","",VLOOKUP($G20,Conf!$H$4:$DE$35,ESTADISTICAS!K$10,0)) -> 0 | L20: =IF($G20="","",VLOOKUP($G20,Conf!$H$4:$DE$35,ESTADISTICAS!L$10,0)) -> 0 | M20: =IF($G20="","",VLOOKUP($G20,Conf!$H$4:$DE$35,ESTADISTICAS!M$10,0)) -> 0 | N20: =IF($G20="","",VLOOKUP($G20,Conf!$H$4:$DE$35,ESTADISTICAS!N$10,0)) -> 0 | O20: =IF($G20="","",VLOOKUP($G20,Conf!$H$4:$DE$35,ESTADISTICAS!O$10,0)) -> 0 | ... R20: =IF($G20="","",VLOOKUP($G20,Conf!$H$4:$DE$35,ESTADISTICAS!R$10,0)) -> 0 | S20: =IF(G20="","",H20+I20+J20) -> 0 | T20: =IF(G20="","",Conf!$B$42-SUM(H20:Q20)) -> 0 | U20: =IF(G20="","",CONCATENATE("(",Conf!$B$42,")")) -> (0) | W20: 2 | X20: =W20/2 -> 1 | Y20: 9 | Z20: =IF($G20="","",VLOOKUP($G20,Conf!$H$56:$M$87,3,0)) -> 0 | AA20: =IF($G20="","",VLOOKUP($G20,Conf!$H$56:$M$87,4,0)) -> 0 | AB20: =IF($G20="","",VLOOKUP($G20,Conf!$H$56:$M$87,5,0)) -> 0 | AC20: =IF($G20="","",VLOOKUP($G20,Conf!$H$56:$M$87,6,0)) -> 0 | AD20: =Conf!AG63 | AE20: =Conf!AH63 | AF20: =Conf!AI63 | AG20: =Conf!AJ63 | AH20: =Conf!AK63 | AI20: =Conf!AL63 | AJ20: =Conf!AM63 | AK20: =Conf!AN63 | ... AV20: =Conf!AY63
B21: =B20+1 -> 3 | C21: =VLOOKUP($B21,Conf!$DM$4:$DP$35,2,0) -> Max CHILTON | D21: =VLOOKUP($B21,Conf!$DM$4:$DP$35,4,0) -> 0 | G21: =Conf!H12 -> Sergio PEREZ | H21: =IF($G21="","",VLOOKUP($G21,Conf!$H$4:$DE$35,ESTADISTICAS!H$10,0)) -> 0 | I21: =IF($G21="","",VLOOKUP($G21,Conf!$H$4:$DE$35,ESTADISTICAS!I$10,0)) -> 0 | J21: =IF($G21="","",VLOOKUP($G21,Conf!$H$4:$DE$35,ESTADISTICAS!J$10,0)) -> 0 | K21: =IF($G21="","",VLOOKUP($G21,Conf!$H$4:$DE$35,ESTADISTICAS!K$10,0)) -> 0 | L21: =IF($G21="","",VLOOKUP($G21,Conf!$H$4:$DE$35,ESTADISTICAS!L$10,0)) -> 0 | M21: =IF($G21="","",VLOOKUP($G21,Conf!$H$4:$DE$35,ESTADISTICAS!M$10,0)) -> 0 | N21: =IF($G21="","",VLOOKUP($G21,Conf!$H$4:$DE$35,ESTADISTICAS!N$10,0)) -> 0 | O21: =IF($G21="","",VLOOKUP($G21,Conf!$H$4:$DE$35,ESTADISTICAS!O$10,0)) -> 0 | ... R21: =IF($G21="","",VLOOKUP($G21,Conf!$H$4:$DE$35,ESTADISTICAS!R$10,0)) -> 0 | S21: =IF(G21="","",H21+I21+J21) -> 0 | T21: =IF(G21="","",Conf!$B$42-SUM(H21:Q21)) -> 0 | U21: =IF(G21="","",CONCATENATE("(",Conf!$B$42,")")) -> (0) | W21: 1 | X21: =W21/2 -> 0.5 | Y21: 10 | Z21: =IF($G21="","",VLOOKUP($G21,Conf!$H$56:$M$87,3,0)) -> 0 | AA21: =IF($G21="","",VLOOKUP($G21,Conf!$H$56:$M$87,4,0)) -> 0 | AB21: =IF($G21="","",VLOOKUP($G21,Conf!$H$56:$M$87,5,0)) -> 0 | AC21: =IF($G21="","",VLOOKUP($G21,Conf!$H$56:$M$87,6,0)) -> 0 | AD21: =Conf!AG64 | AE21: =Conf!AH64 | AF21: =Conf!AI64 | AG21: =Conf!AJ64 | AH21: =Conf!AK64 | AI21: =Conf!AL64 | AJ21: =Conf!AM64 | AK21: =Conf!AN64 | ... AV21: =Conf!AY64
B22: =B21+1 -> 4 | C22: =VLOOKUP($B22,Conf!$DM$4:$DP$35,2,0) -> Nico ROSBERG | D22: =VLOOKUP($B22,Conf!$DM$4:$DP$35,4,0) -> 0 | G22: =Conf!H13 -> Pastor MALDONADO | H22: =IF($G22="","",VLOOKUP($G22,Conf!$H$4:$DE$35,ESTADISTICAS!H$10,0)) -> 0 | I22: =IF($G22="","",VLOOKUP($G22,Conf!$H$4:$DE$35,ESTADISTICAS!I$10,0)) -> 0 | J22: =IF($G22="","",VLOOKUP($G22,Conf!$H$4:$DE$35,ESTADISTICAS!J$10,0)) -> 0 | K22: =IF($G22="","",VLOOKUP($G22,Conf!$H$4:$DE$35,ESTADISTICAS!K$10,0)) -> 0 | L22: =IF($G22="","",VLOOKUP($G22,Conf!$H$4:$DE$35,ESTADISTICAS!L$10,0)) -> 0 | M22: =IF($G22="","",VLOOKUP($G22,Conf!$H$4:$DE$35,ESTADISTICAS!M$10,0)) -> 0 | N22: =IF($G22="","",VLOOKUP($G22,Conf!$H$4:$DE$35,ESTADISTICAS!N$10,0)) -> 0 | O22: =IF($G22="","",VLOOKUP($G22,Conf!$H$4:$DE$35,ESTADISTICAS!O$10,0)) -> 0 | ... R22: =IF($G22="","",VLOOKUP($G22,Conf!$H$4:$DE$35,ESTADISTICAS!R$10,0)) -> 0 | S22: =IF(G22="","",H22+I22+J22) -> 0 | T22: =IF(G22="","",Conf!$B$42-SUM(H22:Q22)) -> 0 | U22: =IF(G22="","",CONCATENATE("(",Conf!$B$42,")")) -> (0) | Z22: =IF($G22="","",VLOOKUP($G22,Conf!$H$56:$M$87,3,0)) -> 0 | AA22: =IF($G22="","",VLOOKUP($G22,Conf!$H$56:$M$87,4,0)) -> 0 | AB22: =IF($G22="","",VLOOKUP($G22,Conf!$H$56:$M$87,5,0)) -> 0 | AC22: =IF($G22="","",VLOOKUP($G22,Conf!$H$56:$M$87,6,0)) -> 0 | AD22: =Conf!AG65 | AE22: =Conf!AH65 | AF22: =Conf!AI65 | AG22: =Conf!AJ65 | AH22: =Conf!AK65 | AI22: =Conf!AL65 | AJ22: =Conf!AM65 | AK22: =Conf!AN65 | ... AV22: =Conf!AY65
B23: =B22+1 -> 5 | C23: =VLOOKUP($B23,Conf!$DM$4:$DP$35,2,0) -> Kimi RAIKKONEN | D23: =VLOOKUP($B23,Conf!$DM$4:$DP$35,4,0) -> 0 | G23: =Conf!H14 -> Fernando ALONSO | H23: =IF($G23="","",VLOOKUP($G23,Conf!$H$4:$DE$35,ESTADISTICAS!H$10,0)) -> 0 | I23: =IF($G23="","",VLOOKUP($G23,Conf!$H$4:$DE$35,ESTADISTICAS!I$10,0)) -> 0 | J23: =IF($G23="","",VLOOKUP($G23,Conf!$H$4:$DE$35,ESTADISTICAS!J$10,0)) -> 0 | K23: =IF($G23="","",VLOOKUP($G23,Conf!$H$4:$DE$35,ESTADISTICAS!K$10,0)) -> 0 | L23: =IF($G23="","",VLOOKUP($G23,Conf!$H$4:$DE$35,ESTADISTICAS!L$10,0)) -> 0 | M23: =IF($G23="","",VLOOKUP($G23,Conf!$H$4:$DE$35,ESTADISTICAS!M$10,0)) -> 0 | N23: =IF($G23="","",VLOOKUP($G23,Conf!$H$4:$DE$35,ESTADISTICAS!N$10,0)) -> 0 | O23: =IF($G23="","",VLOOKUP($G23,Conf!$H$4:$DE$35,ESTADISTICAS!O$10,0)) -> 0 | ... R23: =IF($G23="","",VLOOKUP($G23,Conf!$H$4:$DE$35,ESTADISTICAS!R$10,0)) -> 0 | S23: =IF(G23="","",H23+I23+J23) -> 0 | T23: =IF(G23="","",Conf!$B$42-SUM(H23:Q23)) -> 0 | U23: =IF(G23="","",CONCATENATE("(",Conf!$B$42,")")) -> (0) | Z23: =IF($G23="","",VLOOKUP($G23,Conf!$H$56:$M$87,3,0)) -> 0 | AA23: =IF($G23="","",VLOOKUP($G23,Conf!$H$56:$M$87,4,0)) -> 0 | AB23: =IF($G23="","",VLOOKUP($G23,Conf!$H$56:$M$87,5,0)) -> 0 | AC23: =IF($G23="","",VLOOKUP($G23,Conf!$H$56:$M$87,6,0)) -> 0 | AD23: =Conf!AG66 | AE23: =Conf!AH66 | AF23: =Conf!AI66 | AG23: =Conf!AJ66 | AH23: =Conf!AK66 | AI23: =Conf!AL66 | AJ23: =Conf!AM66 | AK23: =Conf!AN66 | ... AV23: =Conf!AY66
G24: =Conf!H15 -> Jules BIANCHI | H24: =IF($G24="","",VLOOKUP($G24,Conf!$H$4:$DE$35,ESTADISTICAS!H$10,0)) -> 0 | I24: =IF($G24="","",VLOOKUP($G24,Conf!$H$4:$DE$35,ESTADISTICAS!I$10,0)) -> 0 | J24: =IF($G24="","",VLOOKUP($G24,Conf!$H$4:$DE$35,ESTADISTICAS!J$10,0)) -> 0 | K24: =IF($G24="","",VLOOKUP($G24,Conf!$H$4:$DE$35,ESTADISTICAS!K$10,0)) -> 0 | L24: =IF($G24="","",VLOOKUP($G24,Conf!$H$4:$DE$35,ESTADISTICAS!L$10,0)) -> 0 | M24: =IF($G24="","",VLOOKUP($G24,Conf!$H$4:$DE$35,ESTADISTICAS!M$10,0)) -> 0 | N24: =IF($G24="","",VLOOKUP($G24,Conf!$H$4:$DE$35,ESTADISTICAS!N$10,0)) -> 0 | O24: =IF($G24="","",VLOOKUP($G24,Conf!$H$4:$DE$35,ESTADISTICAS!O$10,0)) -> 0 | ... R24: =IF($G24="","",VLOOKUP($G24,Conf!$H$4:$DE$35,ESTADISTICAS!R$10,0)) -> 0 | S24: =IF(G24="","",H24+I24+J24) -> 0 | T24: =IF(G24="","",Conf!$B$42-SUM(H24:Q24)) -> 0 | U24: =IF(G24="","",CONCATENATE("(",Conf!$B$42,")")) -> (0) | Z24: =IF($G24="","",VLOOKUP($G24,Conf!$H$56:$M$87,3,0)) -> 0 | AA24: =IF($G24="","",VLOOKUP($G24,Conf!$H$56:$M$87,4,0)) -> 0 | AB24: =IF($G24="","",VLOOKUP($G24,Conf!$H$56:$M$87,5,0)) -> 0 | AC24: =IF($G24="","",VLOOKUP($G24,Conf!$H$56:$M$87,6,0)) -> 0 | AD24: =Conf!AG67 | AE24: =Conf!AH67 | AF24: =Conf!AI67 | AG24: =Conf!AJ67 | AH24: =Conf!AK67 | AI24: =Conf!AL67 | AJ24: =Conf!AM67 | AK24: =Conf!AN67 | ... AV24: =Conf!AY67
B25: PILOTO CON MÁS PODIOS | G25: =Conf!H16 -> Felipe MASSA | H25: =IF($G25="","",VLOOKUP($G25,Conf!$H$4:$DE$35,ESTADISTICAS!H$10,0)) -> 0 | I25: =IF($G25="","",VLOOKUP($G25,Conf!$H$4:$DE$35,ESTADISTICAS!I$10,0)) -> 0 | J25: =IF($G25="","",VLOOKUP($G25,Conf!$H$4:$DE$35,ESTADISTICAS!J$10,0)) -> 0 | K25: =IF($G25="","",VLOOKUP($G25,Conf!$H$4:$DE$35,ESTADISTICAS!K$10,0)) -> 0 | L25: =IF($G25="","",VLOOKUP($G25,Conf!$H$4:$DE$35,ESTADISTICAS!L$10,0)) -> 0 | M25: =IF($G25="","",VLOOKUP($G25,Conf!$H$4:$DE$35,ESTADISTICAS!M$10,0)) -> 0 | N25: =IF($G25="","",VLOOKUP($G25,Conf!$H$4:$DE$35,ESTADISTICAS!N$10,0)) -> 0 | O25: =IF($G25="","",VLOOKUP($G25,Conf!$H$4:$DE$35,ESTADISTICAS!O$10,0)) -> 0 | ... R25: =IF($G25="","",VLOOKUP($G25,Conf!$H$4:$DE$35,ESTADISTICAS!R$10,0)) -> 0 | S25: =IF(G25="","",H25+I25+J25) -> 0 | T25: =IF(G25="","",Conf!$B$42-SUM(H25:Q25)) -> 0 | U25: =IF(G25="","",CONCATENATE("(",Conf!$B$42,")")) -> (0) | Z25: =IF($G25="","",VLOOKUP($G25,Conf!$H$56:$M$87,3,0)) -> 0 | AA25: =IF($G25="","",VLOOKUP($G25,Conf!$H$56:$M$87,4,0)) -> 0 | AB25: =IF($G25="","",VLOOKUP($G25,Conf!$H$56:$M$87,5,0)) -> 0 | AC25: =IF($G25="","",VLOOKUP($G25,Conf!$H$56:$M$87,6,0)) -> 0 | AD25: =Conf!AG68 | AE25: =Conf!AH68 | AF25: =Conf!AI68 | AG25: =Conf!AJ68 | AH25: =Conf!AK68 | AI25: =Conf!AL68 | AJ25: =Conf!AM68 | AK25: =Conf!AN68 | ... AV25: =Conf!AY68
B26: 1 | C26: =VLOOKUP($B26,Conf!$DS$4:$DV$35,2,0) -> Sebastian VETTEL | D26: =VLOOKUP($B26,Conf!$DS$4:$DV$35,4,0) -> 0 | G26: =Conf!H17 -> Kevin MAGNUSSEN | H26: =IF($G26="","",VLOOKUP($G26,Conf!$H$4:$DE$35,ESTADISTICAS!H$10,0)) -> 0 | I26: =IF($G26="","",VLOOKUP($G26,Conf!$H$4:$DE$35,ESTADISTICAS!I$10,0)) -> 0 | J26: =IF($G26="","",VLOOKUP($G26,Conf!$H$4:$DE$35,ESTADISTICAS!J$10,0)) -> 0 | K26: =IF($G26="","",VLOOKUP($G26,Conf!$H$4:$DE$35,ESTADISTICAS!K$10,0)) -> 0 | L26: =IF($G26="","",VLOOKUP($G26,Conf!$H$4:$DE$35,ESTADISTICAS!L$10,0)) -> 0 | M26: =IF($G26="","",VLOOKUP($G26,Conf!$H$4:$DE$35,ESTADISTICAS!M$10,0)) -> 0 | N26: =IF($G26="","",VLOOKUP($G26,Conf!$H$4:$DE$35,ESTADISTICAS!N$10,0)) -> 0 | O26: =IF($G26="","",VLOOKUP($G26,Conf!$H$4:$DE$35,ESTADISTICAS!O$10,0)) -> 0 | ... R26: =IF($G26="","",VLOOKUP($G26,Conf!$H$4:$DE$35,ESTADISTICAS!R$10,0)) -> 0 | S26: =IF(G26="","",H26+I26+J26) -> 0 | T26: =IF(G26="","",Conf!$B$42-SUM(H26:Q26)) -> 0 | U26: =IF(G26="","",CONCATENATE("(",Conf!$B$42,")")) -> (0) | Z26: =IF($G26="","",VLOOKUP($G26,Conf!$H$56:$M$87,3,0)) -> 0 | AA26: =IF($G26="","",VLOOKUP($G26,Conf!$H$56:$M$87,4,0)) -> 0 | AB26: =IF($G26="","",VLOOKUP($G26,Conf!$H$56:$M$87,5,0)) -> 0 | AC26: =IF($G26="","",VLOOKUP($G26,Conf!$H$56:$M$87,6,0)) -> 0 | AD26: =Conf!AG69 | AE26: =Conf!AH69 | AF26: =Conf!AI69 | AG26: =Conf!AJ69 | AH26: =Conf!AK69 | AI26: =Conf!AL69 | AJ26: =Conf!AM69 | AK26: =Conf!AN69 | ... AV26: =Conf!AY69
B27: =B26+1 -> 2 | C27: =VLOOKUP($B27,Conf!$DS$4:$DV$35,2,0) -> Daniel RICCIARDO | D27: =VLOOKUP($B27,Conf!$DS$4:$DV$35,4,0) -> 0 | G27: =Conf!H18 -> Esteban GUTIERREZ | H27: =IF($G27="","",VLOOKUP($G27,Conf!$H$4:$DE$35,ESTADISTICAS!H$10,0)) -> 0 | I27: =IF($G27="","",VLOOKUP($G27,Conf!$H$4:$DE$35,ESTADISTICAS!I$10,0)) -> 0 | J27: =IF($G27="","",VLOOKUP($G27,Conf!$H$4:$DE$35,ESTADISTICAS!J$10,0)) -> 0 | K27: =IF($G27="","",VLOOKUP($G27,Conf!$H$4:$DE$35,ESTADISTICAS!K$10,0)) -> 0 | L27: =IF($G27="","",VLOOKUP($G27,Conf!$H$4:$DE$35,ESTADISTICAS!L$10,0)) -> 0 | M27: =IF($G27="","",VLOOKUP($G27,Conf!$H$4:$DE$35,ESTADISTICAS!M$10,0)) -> 0 | N27: =IF($G27="","",VLOOKUP($G27,Conf!$H$4:$DE$35,ESTADISTICAS!N$10,0)) -> 0 | O27: =IF($G27="","",VLOOKUP($G27,Conf!$H$4:$DE$35,ESTADISTICAS!O$10,0)) -> 0 | ... R27: =IF($G27="","",VLOOKUP($G27,Conf!$H$4:$DE$35,ESTADISTICAS!R$10,0)) -> 0 | S27: =IF(G27="","",H27+I27+J27) -> 0 | T27: =IF(G27="","",Conf!$B$42-SUM(H27:Q27)) -> 0 | U27: =IF(G27="","",CONCATENATE("(",Conf!$B$42,")")) -> (0) | Z27: =IF($G27="","",VLOOKUP($G27,Conf!$H$56:$M$87,3,0)) -> 0 | AA27: =IF($G27="","",VLOOKUP($G27,Conf!$H$56:$M$87,4,0)) -> 0 | AB27: =IF($G27="","",VLOOKUP($G27,Conf!$H$56:$M$87,5,0)) -> 0 | AC27: =IF($G27="","",VLOOKUP($G27,Conf!$H$56:$M$87,6,0)) -> 0 | AD27: =Conf!AG70 | AE27: =Conf!AH70 | AF27: =Conf!AI70 | AG27: =Conf!AJ70 | AH27: =Conf!AK70 | AI27: =Conf!AL70 | AJ27: =Conf!AM70 | AK27: =Conf!AN70 | ... AV27: =Conf!AY70
B28: =B27+1 -> 3 | C28: =VLOOKUP($B28,Conf!$DS$4:$DV$35,2,0) -> Max CHILTON | D28: =VLOOKUP($B28,Conf!$DS$4:$DV$35,4,0) -> 0 | G28: =Conf!H19 -> Jenson BUTTON | H28: =IF($G28="","",VLOOKUP($G28,Conf!$H$4:$DE$35,ESTADISTICAS!H$10,0)) -> 0 | I28: =IF($G28="","",VLOOKUP($G28,Conf!$H$4:$DE$35,ESTADISTICAS!I$10,0)) -> 0 | J28: =IF($G28="","",VLOOKUP($G28,Conf!$H$4:$DE$35,ESTADISTICAS!J$10,0)) -> 0 | K28: =IF($G28="","",VLOOKUP($G28,Conf!$H$4:$DE$35,ESTADISTICAS!K$10,0)) -> 0 | L28: =IF($G28="","",VLOOKUP($G28,Conf!$H$4:$DE$35,ESTADISTICAS!L$10,0)) -> 0 | M28: =IF($G28="","",VLOOKUP($G28,Conf!$H$4:$DE$35,ESTADISTICAS!M$10,0)) -> 0 | N28: =IF($G28="","",VLOOKUP($G28,Conf!$H$4:$DE$35,ESTADISTICAS!N$10,0)) -> 0 | O28: =IF($G28="","",VLOOKUP($G28,Conf!$H$4:$DE$35,ESTADISTICAS!O$10,0)) -> 0 | ... R28: =IF($G28="","",VLOOKUP($G28,Conf!$H$4:$DE$35,ESTADISTICAS!R$10,0)) -> 0 | S28: =IF(G28="","",H28+I28+J28) -> 0 | T28: =IF(G28="","",Conf!$B$42-SUM(H28:Q28)) -> 0 | U28: =IF(G28="","",CONCATENATE("(",Conf!$B$42,")")) -> (0) | Z28: =IF($G28="","",VLOOKUP($G28,Conf!$H$56:$M$87,3,0)) -> 0 | AA28: =IF($G28="","",VLOOKUP($G28,Conf!$H$56:$M$87,4,0)) -> 0 | AB28: =IF($G28="","",VLOOKUP($G28,Conf!$H$56:$M$87,5,0)) -> 0 | AC28: =IF($G28="","",VLOOKUP($G28,Conf!$H$56:$M$87,6,0)) -> 0 | AD28: =Conf!AG71 | AE28: =Conf!AH71 | AF28: =Conf!AI71 | AG28: =Conf!AJ71 | AH28: =Conf!AK71 | AI28: =Conf!AL71 | AJ28: =Conf!AM71 | AK28: =Conf!AN71 | ... AV28: =Conf!AY71
B29: =B28+1 -> 4 | C29: =VLOOKUP($B29,Conf!$DS$4:$DV$35,2,0) -> Nico ROSBERG | D29: =VLOOKUP($B29,Conf!$DS$4:$DV$35,4,0) -> 0 | G29: =Conf!H20 -> Jean-Eric VERGNE | H29: =IF($G29="","",VLOOKUP($G29,Conf!$H$4:$DE$35,ESTADISTICAS!H$10,0)) -> 0 | I29: =IF($G29="","",VLOOKUP($G29,Conf!$H$4:$DE$35,ESTADISTICAS!I$10,0)) -> 0 | J29: =IF($G29="","",VLOOKUP($G29,Conf!$H$4:$DE$35,ESTADISTICAS!J$10,0)) -> 0 | K29: =IF($G29="","",VLOOKUP($G29,Conf!$H$4:$DE$35,ESTADISTICAS!K$10,0)) -> 0 | L29: =IF($G29="","",VLOOKUP($G29,Conf!$H$4:$DE$35,ESTADISTICAS!L$10,0)) -> 0 | M29: =IF($G29="","",VLOOKUP($G29,Conf!$H$4:$DE$35,ESTADISTICAS!M$10,0)) -> 0 | N29: =IF($G29="","",VLOOKUP($G29,Conf!$H$4:$DE$35,ESTADISTICAS!N$10,0)) -> 0 | O29: =IF($G29="","",VLOOKUP($G29,Conf!$H$4:$DE$35,ESTADISTICAS!O$10,0)) -> 0 | ... R29: =IF($G29="","",VLOOKUP($G29,Conf!$H$4:$DE$35,ESTADISTICAS!R$10,0)) -> 0 | S29: =IF(G29="","",H29+I29+J29) -> 0 | T29: =IF(G29="","",Conf!$B$42-SUM(H29:Q29)) -> 0 | U29: =IF(G29="","",CONCATENATE("(",Conf!$B$42,")")) -> (0) | Z29: =IF($G29="","",VLOOKUP($G29,Conf!$H$56:$M$87,3,0)) -> 0 | AA29: =IF($G29="","",VLOOKUP($G29,Conf!$H$56:$M$87,4,0)) -> 0 | AB29: =IF($G29="","",VLOOKUP($G29,Conf!$H$56:$M$87,5,0)) -> 0 | AC29: =IF($G29="","",VLOOKUP($G29,Conf!$H$56:$M$87,6,0)) -> 0 | AD29: =Conf!AG72 | AE29: =Conf!AH72 | AF29: =Conf!AI72 | AG29: =Conf!AJ72 | AH29: =Conf!AK72 | AI29: =Conf!AL72 | AJ29: =Conf!AM72 | AK29: =Conf!AN72 | ... AV29: =Conf!AY72
B30: =B29+1 -> 5 | C30: =VLOOKUP($B30,Conf!$DS$4:$DV$35,2,0) -> Kimi RAIKKONEN | D30: =VLOOKUP($B30,Conf!$DS$4:$DV$35,4,0) -> 0 | G30: =Conf!H21 -> Daniil KVYAT | H30: =IF($G30="","",VLOOKUP($G30,Conf!$H$4:$DE$35,ESTADISTICAS!H$10,0)) -> 0 | I30: =IF($G30="","",VLOOKUP($G30,Conf!$H$4:$DE$35,ESTADISTICAS!I$10,0)) -> 0 | J30: =IF($G30="","",VLOOKUP($G30,Conf!$H$4:$DE$35,ESTADISTICAS!J$10,0)) -> 0 | K30: =IF($G30="","",VLOOKUP($G30,Conf!$H$4:$DE$35,ESTADISTICAS!K$10,0)) -> 0 | L30: =IF($G30="","",VLOOKUP($G30,Conf!$H$4:$DE$35,ESTADISTICAS!L$10,0)) -> 0 | M30: =IF($G30="","",VLOOKUP($G30,Conf!$H$4:$DE$35,ESTADISTICAS!M$10,0)) -> 0 | N30: =IF($G30="","",VLOOKUP($G30,Conf!$H$4:$DE$35,ESTADISTICAS!N$10,0)) -> 0 | O30: =IF($G30="","",VLOOKUP($G30,Conf!$H$4:$DE$35,ESTADISTICAS!O$10,0)) -> 0 | ... R30: =IF($G30="","",VLOOKUP($G30,Conf!$H$4:$DE$35,ESTADISTICAS!R$10,0)) -> 0 | S30: =IF(G30="","",H30+I30+J30) -> 0 | T30: =IF(G30="","",Conf!$B$42-SUM(H30:Q30)) -> 0 | U30: =IF(G30="","",CONCATENATE("(",Conf!$B$42,")")) -> (0) | Z30: =IF($G30="","",VLOOKUP($G30,Conf!$H$56:$M$87,3,0)) -> 0 | AA30: =IF($G30="","",VLOOKUP($G30,Conf!$H$56:$M$87,4,0)) -> 0 | AB30: =IF($G30="","",VLOOKUP($G30,Conf!$H$56:$M$87,5,0)) -> 0 | AC30: =IF($G30="","",VLOOKUP($G30,Conf!$H$56:$M$87,6,0)) -> 0 | AD30: =Conf!AG73 | AE30: =Conf!AH73 | AF30: =Conf!AI73 | AG30: =Conf!AJ73 | AH30: =Conf!AK73 | AI30: =Conf!AL73 | AJ30: =Conf!AM73 | AK30: =Conf!AN73 | ... AV30: =Conf!AY73
G31: =Conf!H22 -> Nico HULKENBERG | H31: =IF($G31="","",VLOOKUP($G31,Conf!$H$4:$DE$35,ESTADISTICAS!H$10,0)) -> 0 | I31: =IF($G31="","",VLOOKUP($G31,Conf!$H$4:$DE$35,ESTADISTICAS!I$10,0)) -> 0 | J31: =IF($G31="","",VLOOKUP($G31,Conf!$H$4:$DE$35,ESTADISTICAS!J$10,0)) -> 0 | K31: =IF($G31="","",VLOOKUP($G31,Conf!$H$4:$DE$35,ESTADISTICAS!K$10,0)) -> 0 | L31: =IF($G31="","",VLOOKUP($G31,Conf!$H$4:$DE$35,ESTADISTICAS!L$10,0)) -> 0 | M31: =IF($G31="","",VLOOKUP($G31,Conf!$H$4:$DE$35,ESTADISTICAS!M$10,0)) -> 0 | N31: =IF($G31="","",VLOOKUP($G31,Conf!$H$4:$DE$35,ESTADISTICAS!N$10,0)) -> 0 | O31: =IF($G31="","",VLOOKUP($G31,Conf!$H$4:$DE$35,ESTADISTICAS!O$10,0)) -> 0 | ... R31: =IF($G31="","",VLOOKUP($G31,Conf!$H$4:$DE$35,ESTADISTICAS!R$10,0)) -> 0 | S31: =IF(G31="","",H31+I31+J31) -> 0 | T31: =IF(G31="","",Conf!$B$42-SUM(H31:Q31)) -> 0 | U31: =IF(G31="","",CONCATENATE("(",Conf!$B$42,")")) -> (0) | Z31: =IF($G31="","",VLOOKUP($G31,Conf!$H$56:$M$87,3,0)) -> 0 | AA31: =IF($G31="","",VLOOKUP($G31,Conf!$H$56:$M$87,4,0)) -> 0 | AB31: =IF($G31="","",VLOOKUP($G31,Conf!$H$56:$M$87,5,0)) -> 0 | AC31: =IF($G31="","",VLOOKUP($G31,Conf!$H$56:$M$87,6,0)) -> 0 | AD31: =Conf!AG74 | AE31: =Conf!AH74 | AF31: =Conf!AI74 | AG31: =Conf!AJ74 | AH31: =Conf!AK74 | AI31: =Conf!AL74 | AJ31: =Conf!AM74 | AK31: =Conf!AN74 | ... AV31: =Conf!AY74
B32: PILOTO CON MÁS CARRERAS EN PUNTOS | G32: =Conf!H23 -> Lewis HAMILTON | H32: =IF($G32="","",VLOOKUP($G32,Conf!$H$4:$DE$35,ESTADISTICAS!H$10,0)) -> 0 | I32: =IF($G32="","",VLOOKUP($G32,Conf!$H$4:$DE$35,ESTADISTICAS!I$10,0)) -> 0 | J32: =IF($G32="","",VLOOKUP($G32,Conf!$H$4:$DE$35,ESTADISTICAS!J$10,0)) -> 0 | K32: =IF($G32="","",VLOOKUP($G32,Conf!$H$4:$DE$35,ESTADISTICAS!K$10,0)) -> 0 | L32: =IF($G32="","",VLOOKUP($G32,Conf!$H$4:$DE$35,ESTADISTICAS!L$10,0)) -> 0 | M32: =IF($G32="","",VLOOKUP($G32,Conf!$H$4:$DE$35,ESTADISTICAS!M$10,0)) -> 0 | N32: =IF($G32="","",VLOOKUP($G32,Conf!$H$4:$DE$35,ESTADISTICAS!N$10,0)) -> 0 | O32: =IF($G32="","",VLOOKUP($G32,Conf!$H$4:$DE$35,ESTADISTICAS!O$10,0)) -> 0 | ... R32: =IF($G32="","",VLOOKUP($G32,Conf!$H$4:$DE$35,ESTADISTICAS!R$10,0)) -> 0 | S32: =IF(G32="","",H32+I32+J32) -> 0 | T32: =IF(G32="","",Conf!$B$42-SUM(H32:Q32)) -> 0 | U32: =IF(G32="","",CONCATENATE("(",Conf!$B$42,")")) -> (0) | Z32: =IF($G32="","",VLOOKUP($G32,Conf!$H$56:$M$87,3,0)) -> 0 | AA32: =IF($G32="","",VLOOKUP($G32,Conf!$H$56:$M$87,4,0)) -> 0 | AB32: =IF($G32="","",VLOOKUP($G32,Conf!$H$56:$M$87,5,0)) -> 0 | AC32: =IF($G32="","",VLOOKUP($G32,Conf!$H$56:$M$87,6,0)) -> 0 | AD32: =Conf!AG75 | AE32: =Conf!AH75 | AF32: =Conf!AI75 | AG32: =Conf!AJ75 | AH32: =Conf!AK75 | AI32: =Conf!AL75 | AJ32: =Conf!AM75 | AK32: =Conf!AN75 | ... AV32: =Conf!AY75
B33: 1 | C33: =VLOOKUP($B33,Conf!$DY$4:$EB$35,2,0) -> Sebastian VETTEL | D33: =VLOOKUP($B33,Conf!$DY$4:$EB$35,4,0) -> 0 | G33: =Conf!H24 -> Valtteri BOTTAS | H33: =IF($G33="","",VLOOKUP($G33,Conf!$H$4:$DE$35,ESTADISTICAS!H$10,0)) -> 0 | I33: =IF($G33="","",VLOOKUP($G33,Conf!$H$4:$DE$35,ESTADISTICAS!I$10,0)) -> 0 | J33: =IF($G33="","",VLOOKUP($G33,Conf!$H$4:$DE$35,ESTADISTICAS!J$10,0)) -> 0 | K33: =IF($G33="","",VLOOKUP($G33,Conf!$H$4:$DE$35,ESTADISTICAS!K$10,0)) -> 0 | L33: =IF($G33="","",VLOOKUP($G33,Conf!$H$4:$DE$35,ESTADISTICAS!L$10,0)) -> 0 | M33: =IF($G33="","",VLOOKUP($G33,Conf!$H$4:$DE$35,ESTADISTICAS!M$10,0)) -> 0 | N33: =IF($G33="","",VLOOKUP($G33,Conf!$H$4:$DE$35,ESTADISTICAS!N$10,0)) -> 0 | O33: =IF($G33="","",VLOOKUP($G33,Conf!$H$4:$DE$35,ESTADISTICAS!O$10,0)) -> 0 | ... R33: =IF($G33="","",VLOOKUP($G33,Conf!$H$4:$DE$35,ESTADISTICAS!R$10,0)) -> 0 | S33: =IF(G33="","",H33+I33+J33) -> 0 | T33: =IF(G33="","",Conf!$B$42-SUM(H33:Q33)) -> 0 | U33: =IF(G33="","",CONCATENATE("(",Conf!$B$42,")")) -> (0) | Z33: =IF($G33="","",VLOOKUP($G33,Conf!$H$56:$M$87,3,0)) -> 0 | AA33: =IF($G33="","",VLOOKUP($G33,Conf!$H$56:$M$87,4,0)) -> 0 | AB33: =IF($G33="","",VLOOKUP($G33,Conf!$H$56:$M$87,5,0)) -> 0 | AC33: =IF($G33="","",VLOOKUP($G33,Conf!$H$56:$M$87,6,0)) -> 0 | AD33: =Conf!AG76 | AE33: =Conf!AH76 | AF33: =Conf!AI76 | AG33: =Conf!AJ76 | AH33: =Conf!AK76 | AI33: =Conf!AL76 | AJ33: =Conf!AM76 | AK33: =Conf!AN76 | ... AV33: =Conf!AY76
B34: =B33+1 -> 2 | C34: =VLOOKUP($B34,Conf!$DY$4:$EB$35,2,0) -> Daniel RICCIARDO | D34: =VLOOKUP($B34,Conf!$DY$4:$EB$35,4,0) -> 0 | G34: =Conf!H25 -> Adrian SUTIL | H34: =IF($G34="","",VLOOKUP($G34,Conf!$H$4:$DE$35,ESTADISTICAS!H$10,0)) -> 0 | I34: =IF($G34="","",VLOOKUP($G34,Conf!$H$4:$DE$35,ESTADISTICAS!I$10,0)) -> 0 | J34: =IF($G34="","",VLOOKUP($G34,Conf!$H$4:$DE$35,ESTADISTICAS!J$10,0)) -> 0 | K34: =IF($G34="","",VLOOKUP($G34,Conf!$H$4:$DE$35,ESTADISTICAS!K$10,0)) -> 0 | L34: =IF($G34="","",VLOOKUP($G34,Conf!$H$4:$DE$35,ESTADISTICAS!L$10,0)) -> 0 | M34: =IF($G34="","",VLOOKUP($G34,Conf!$H$4:$DE$35,ESTADISTICAS!M$10,0)) -> 0 | N34: =IF($G34="","",VLOOKUP($G34,Conf!$H$4:$DE$35,ESTADISTICAS!N$10,0)) -> 0 | O34: =IF($G34="","",VLOOKUP($G34,Conf!$H$4:$DE$35,ESTADISTICAS!O$10,0)) -> 0 | ... R34: =IF($G34="","",VLOOKUP($G34,Conf!$H$4:$DE$35,ESTADISTICAS!R$10,0)) -> 0 | S34: =IF(G34="","",H34+I34+J34) -> 0 | T34: =IF(G34="","",Conf!$B$42-SUM(H34:Q34)) -> 0 | U34: =IF(G34="","",CONCATENATE("(",Conf!$B$42,")")) -> (0) | Z34: =IF($G34="","",VLOOKUP($G34,Conf!$H$56:$M$87,3,0)) -> 0 | AA34: =IF($G34="","",VLOOKUP($G34,Conf!$H$56:$M$87,4,0)) -> 0 | AB34: =IF($G34="","",VLOOKUP($G34,Conf!$H$56:$M$87,5,0)) -> 0 | AC34: =IF($G34="","",VLOOKUP($G34,Conf!$H$56:$M$87,6,0)) -> 0 | AD34: =Conf!AG77 | AE34: =Conf!AH77 | AF34: =Conf!AI77 | AG34: =Conf!AJ77 | AH34: =Conf!AK77 | AI34: =Conf!AL77 | AJ34: =Conf!AM77 | AK34: =Conf!AN77 | ... AV34: =Conf!AY77
B35: =B34+1 -> 3 | C35: =VLOOKUP($B35,Conf!$DY$4:$EB$35,2,0) -> Max CHILTON | D35: =VLOOKUP($B35,Conf!$DY$4:$EB$35,4,0) -> 0 | G35: =Conf!H26 | H35: =IF($G35="","",VLOOKUP($G35,Conf!$H$4:$DE$35,ESTADISTICAS!H$10,0)) | I35: =IF($G35="","",VLOOKUP($G35,Conf!$H$4:$DE$35,ESTADISTICAS!I$10,0)) | J35: =IF($G35="","",VLOOKUP($G35,Conf!$H$4:$DE$35,ESTADISTICAS!J$10,0)) | K35: =IF($G35="","",VLOOKUP($G35,Conf!$H$4:$DE$35,ESTADISTICAS!K$10,0)) | L35: =IF($G35="","",VLOOKUP($G35,Conf!$H$4:$DE$35,ESTADISTICAS!L$10,0)) | M35: =IF($G35="","",VLOOKUP($G35,Conf!$H$4:$DE$35,ESTADISTICAS!M$10,0)) | N35: =IF($G35="","",VLOOKUP($G35,Conf!$H$4:$DE$35,ESTADISTICAS!N$10,0)) | O35: =IF($G35="","",VLOOKUP($G35,Conf!$H$4:$DE$35,ESTADISTICAS!O$10,0)) | ... R35: =IF($G35="","",VLOOKUP($G35,Conf!$H$4:$DE$35,ESTADISTICAS!R$10,0)) | S35: =IF(G35="","",H35+I35+J35) | T35: =IF(G35="","",Conf!$B$42-SUM(H35:Q35)) | U35: =IF(G35="","",CONCATENATE("(",Conf!$B$42,")")) | Z35: =IF($G35="","",VLOOKUP($G35,Conf!$H$56:$M$87,3,0)) | AA35: =IF($G35="","",VLOOKUP($G35,Conf!$H$56:$M$87,4,0)) | AB35: =IF($G35="","",VLOOKUP($G35,Conf!$H$56:$M$87,5,0)) | AC35: =IF($G35="","",VLOOKUP($G35,Conf!$H$56:$M$87,6,0)) | AD35: =Conf!AG78 | AE35: =Conf!AH78 | AF35: =Conf!AI78 | AG35: =Conf!AJ78 | AH35: =Conf!AK78 | AI35: =Conf!AL78 | AJ35: =Conf!AM78 | AK35: =Conf!AN78 | ... AV35: =Conf!AY78
B36: =B35+1 -> 4 | C36: =VLOOKUP($B36,Conf!$DY$4:$EB$35,2,0) -> Nico ROSBERG | D36: =VLOOKUP($B36,Conf!$DY$4:$EB$35,4,0) -> 0 | G36: =Conf!H27 | H36: =IF($G36="","",VLOOKUP($G36,Conf!$H$4:$DE$35,ESTADISTICAS!H$10,0)) | I36: =IF($G36="","",VLOOKUP($G36,Conf!$H$4:$DE$35,ESTADISTICAS!I$10,0)) | J36: =IF($G36="","",VLOOKUP($G36,Conf!$H$4:$DE$35,ESTADISTICAS!J$10,0)) | K36: =IF($G36="","",VLOOKUP($G36,Conf!$H$4:$DE$35,ESTADISTICAS!K$10,0)) | L36: =IF($G36="","",VLOOKUP($G36,Conf!$H$4:$DE$35,ESTADISTICAS!L$10,0)) | M36: =IF($G36="","",VLOOKUP($G36,Conf!$H$4:$DE$35,ESTADISTICAS!M$10,0)) | N36: =IF($G36="","",VLOOKUP($G36,Conf!$H$4:$DE$35,ESTADISTICAS!N$10,0)) | O36: =IF($G36="","",VLOOKUP($G36,Conf!$H$4:$DE$35,ESTADISTICAS!O$10,0)) | ... R36: =IF($G36="","",VLOOKUP($G36,Conf!$H$4:$DE$35,ESTADISTICAS!R$10,0)) | S36: =IF(G36="","",H36+I36+J36) | T36: =IF(G36="","",Conf!$B$42-SUM(H36:Q36)) | U36: =IF(G36="","",CONCATENATE("(",Conf!$B$42,")")) | Z36: =IF($G36="","",VLOOKUP($G36,Conf!$H$56:$M$87,3,0)) | AA36: =IF($G36="","",VLOOKUP($G36,Conf!$H$56:$M$87,4,0)) | AB36: =IF($G36="","",VLOOKUP($G36,Conf!$H$56:$M$87,5,0)) | AC36: =IF($G36="","",VLOOKUP($G36,Conf!$H$56:$M$87,6,0)) | AD36: =Conf!AG79 | AE36: =Conf!AH79 | AF36: =Conf!AI79 | AG36: =Conf!AJ79 | AH36: =Conf!AK79 | AI36: =Conf!AL79 | AJ36: =Conf!AM79 | AK36: =Conf!AN79 | ... AV36: =Conf!AY79
B37: =B36+1 -> 5 | C37: =VLOOKUP($B37,Conf!$DY$4:$EB$35,2,0) -> Kimi RAIKKONEN | D37: =VLOOKUP($B37,Conf!$DY$4:$EB$35,4,0) -> 0 | G37: =Conf!H28 | H37: =IF($G37="","",VLOOKUP($G37,Conf!$H$4:$DE$35,ESTADISTICAS!H$10,0)) | I37: =IF($G37="","",VLOOKUP($G37,Conf!$H$4:$DE$35,ESTADISTICAS!I$10,0)) | J37: =IF($G37="","",VLOOKUP($G37,Conf!$H$4:$DE$35,ESTADISTICAS!J$10,0)) | K37: =IF($G37="","",VLOOKUP($G37,Conf!$H$4:$DE$35,ESTADISTICAS!K$10,0)) | L37: =IF($G37="","",VLOOKUP($G37,Conf!$H$4:$DE$35,ESTADISTICAS!L$10,0)) | M37: =IF($G37="","",VLOOKUP($G37,Conf!$H$4:$DE$35,ESTADISTICAS!M$10,0)) | N37: =IF($G37="","",VLOOKUP($G37,Conf!$H$4:$DE$35,ESTADISTICAS!N$10,0)) | O37: =IF($G37="","",VLOOKUP($G37,Conf!$H$4:$DE$35,ESTADISTICAS!O$10,0)) | ... R37: =IF($G37="","",VLOOKUP($G37,Conf!$H$4:$DE$35,ESTADISTICAS!R$10,0)) | S37: =IF(G37="","",H37+I37+J37) | T37: =IF(G37="","",Conf!$B$42-SUM(H37:Q37)) | U37: =IF(G37="","",CONCATENATE("(",Conf!$B$42,")")) | Z37: =IF($G37="","",VLOOKUP($G37,Conf!$H$56:$M$87,3,0)) | AA37: =IF($G37="","",VLOOKUP($G37,Conf!$H$56:$M$87,4,0)) | AB37: =IF($G37="","",VLOOKUP($G37,Conf!$H$56:$M$87,5,0)) | AC37: =IF($G37="","",VLOOKUP($G37,Conf!$H$56:$M$87,6,0)) | AD37: =Conf!AG80 | AE37: =Conf!AH80 | AF37: =Conf!AI80 | AG37: =Conf!AJ80 | AH37: =Conf!AK80 | AI37: =Conf!AL80 | AJ37: =Conf!AM80 | AK37: =Conf!AN80 | ... AV37: =Conf!AY80
G38: =Conf!H29 | H38: =IF($G38="","",VLOOKUP($G38,Conf!$H$4:$DE$35,ESTADISTICAS!H$10,0)) | I38: =IF($G38="","",VLOOKUP($G38,Conf!$H$4:$DE$35,ESTADISTICAS!I$10,0)) | J38: =IF($G38="","",VLOOKUP($G38,Conf!$H$4:$DE$35,ESTADISTICAS!J$10,0)) | K38: =IF($G38="","",VLOOKUP($G38,Conf!$H$4:$DE$35,ESTADISTICAS!K$10,0)) | L38: =IF($G38="","",VLOOKUP($G38,Conf!$H$4:$DE$35,ESTADISTICAS!L$10,0)) | M38: =IF($G38="","",VLOOKUP($G38,Conf!$H$4:$DE$35,ESTADISTICAS!M$10,0)) | N38: =IF($G38="","",VLOOKUP($G38,Conf!$H$4:$DE$35,ESTADISTICAS!N$10,0)) | O38: =IF($G38="","",VLOOKUP($G38,Conf!$H$4:$DE$35,ESTADISTICAS!O$10,0)) | ... R38: =IF($G38="","",VLOOKUP($G38,Conf!$H$4:$DE$35,ESTADISTICAS!R$10,0)) | S38: =IF(G38="","",H38+I38+J38) | T38: =IF(G38="","",Conf!$B$42-SUM(H38:Q38)) | U38: =IF(G38="","",CONCATENATE("(",Conf!$B$42,")")) | Z38: =IF($G38="","",VLOOKUP($G38,Conf!$H$56:$M$87,3,0)) | AA38: =IF($G38="","",VLOOKUP($G38,Conf!$H$56:$M$87,4,0)) | AB38: =IF($G38="","",VLOOKUP($G38,Conf!$H$56:$M$87,5,0)) | AC38: =IF($G38="","",VLOOKUP($G38,Conf!$H$56:$M$87,6,0)) | AD38: =Conf!AG81 | AE38: =Conf!AH81 | AF38: =Conf!AI81 | AG38: =Conf!AJ81 | AH38: =Conf!AK81 | AI38: =Conf!AL81 | AJ38: =Conf!AM81 | AK38: =Conf!AN81 | ... AV38: =Conf!AY81
B39: ESCUDERÍA CON MÁS VICTORIAS | G39: =Conf!H30 | H39: =IF($G39="","",VLOOKUP($G39,Conf!$H$4:$DE$35,ESTADISTICAS!H$10,0)) | I39: =IF($G39="","",VLOOKUP($G39,Conf!$H$4:$DE$35,ESTADISTICAS!I$10,0)) | J39: =IF($G39="","",VLOOKUP($G39,Conf!$H$4:$DE$35,ESTADISTICAS!J$10,0)) | K39: =IF($G39="","",VLOOKUP($G39,Conf!$H$4:$DE$35,ESTADISTICAS!K$10,0)) | L39: =IF($G39="","",VLOOKUP($G39,Conf!$H$4:$DE$35,ESTADISTICAS!L$10,0)) | M39: =IF($G39="","",VLOOKUP($G39,Conf!$H$4:$DE$35,ESTADISTICAS!M$10,0)) | N39: =IF($G39="","",VLOOKUP($G39,Conf!$H$4:$DE$35,ESTADISTICAS!N$10,0)) | O39: =IF($G39="","",VLOOKUP($G39,Conf!$H$4:$DE$35,ESTADISTICAS!O$10,0)) | ... R39: =IF($G39="","",VLOOKUP($G39,Conf!$H$4:$DE$35,ESTADISTICAS!R$10,0)) | S39: =IF(G39="","",H39+I39+J39) | T39: =IF(G39="","",Conf!$B$42-SUM(H39:Q39)) | U39: =IF(G39="","",CONCATENATE("(",Conf!$B$42,")")) | Z39: =IF($G39="","",VLOOKUP($G39,Conf!$H$56:$M$87,3,0)) | AA39: =IF($G39="","",VLOOKUP($G39,Conf!$H$56:$M$87,4,0)) | AB39: =IF($G39="","",VLOOKUP($G39,Conf!$H$56:$M$87,5,0)) | AC39: =IF($G39="","",VLOOKUP($G39,Conf!$H$56:$M$87,6,0)) | AD39: =Conf!AG82 | AE39: =Conf!AH82 | AF39: =Conf!AI82 | AG39: =Conf!AJ82 | AH39: =Conf!AK82 | AI39: =Conf!AL82 | AJ39: =Conf!AM82 | AK39: =Conf!AN82 | ... AV39: =Conf!AY82
B40: 1 | C40: =VLOOKUP($B40,Conf!$DG$40:$DJ$52,2,0) -> Red Bull | D40: =VLOOKUP($B40,Conf!$DG$40:$DJ$52,4,0) -> 0 | G40: =Conf!H31 | H40: =IF($G40="","",VLOOKUP($G40,Conf!$H$4:$DE$35,ESTADISTICAS!H$10,0)) | I40: =IF($G40="","",VLOOKUP($G40,Conf!$H$4:$DE$35,ESTADISTICAS!I$10,0)) | J40: =IF($G40="","",VLOOKUP($G40,Conf!$H$4:$DE$35,ESTADISTICAS!J$10,0)) | K40: =IF($G40="","",VLOOKUP($G40,Conf!$H$4:$DE$35,ESTADISTICAS!K$10,0)) | L40: =IF($G40="","",VLOOKUP($G40,Conf!$H$4:$DE$35,ESTADISTICAS!L$10,0)) | M40: =IF($G40="","",VLOOKUP($G40,Conf!$H$4:$DE$35,ESTADISTICAS!M$10,0)) | N40: =IF($G40="","",VLOOKUP($G40,Conf!$H$4:$DE$35,ESTADISTICAS!N$10,0)) | O40: =IF($G40="","",VLOOKUP($G40,Conf!$H$4:$DE$35,ESTADISTICAS!O$10,0)) | ... R40: =IF($G40="","",VLOOKUP($G40,Conf!$H$4:$DE$35,ESTADISTICAS!R$10,0)) | S40: =IF(G40="","",H40+I40+J40) | T40: =IF(G40="","",Conf!$B$42-SUM(H40:Q40)) | U40: =IF(G40="","",CONCATENATE("(",Conf!$B$42,")")) | Z40: =IF($G40="","",VLOOKUP($G40,Conf!$H$56:$M$87,3,0)) | AA40: =IF($G40="","",VLOOKUP($G40,Conf!$H$56:$M$87,4,0)) | AB40: =IF($G40="","",VLOOKUP($G40,Conf!$H$56:$M$87,5,0)) | AC40: =IF($G40="","",VLOOKUP($G40,Conf!$H$56:$M$87,6,0)) | AD40: =Conf!AG83 | AE40: =Conf!AH83 | AF40: =Conf!AI83 | AG40: =Conf!AJ83 | AH40: =Conf!AK83 | AI40: =Conf!AL83 | AJ40: =Conf!AM83 | AK40: =Conf!AN83 | ... AV40: =Conf!AY83
B41: =B40+1 -> 2 | C41: =VLOOKUP($B41,Conf!$DG$40:$DJ$52,2,0) -> Mercedes | D41: =VLOOKUP($B41,Conf!$DG$40:$DJ$52,4,0) -> 0 | G41: =Conf!H32 | H41: =IF($G41="","",VLOOKUP($G41,Conf!$H$4:$DE$35,ESTADISTICAS!H$10,0)) | I41: =IF($G41="","",VLOOKUP($G41,Conf!$H$4:$DE$35,ESTADISTICAS!I$10,0)) | J41: =IF($G41="","",VLOOKUP($G41,Conf!$H$4:$DE$35,ESTADISTICAS!J$10,0)) | K41: =IF($G41="","",VLOOKUP($G41,Conf!$H$4:$DE$35,ESTADISTICAS!K$10,0)) | L41: =IF($G41="","",VLOOKUP($G41,Conf!$H$4:$DE$35,ESTADISTICAS!L$10,0)) | M41: =IF($G41="","",VLOOKUP($G41,Conf!$H$4:$DE$35,ESTADISTICAS!M$10,0)) | N41: =IF($G41="","",VLOOKUP($G41,Conf!$H$4:$DE$35,ESTADISTICAS!N$10,0)) | O41: =IF($G41="","",VLOOKUP($G41,Conf!$H$4:$DE$35,ESTADISTICAS!O$10,0)) | ... R41: =IF($G41="","",VLOOKUP($G41,Conf!$H$4:$DE$35,ESTADISTICAS!R$10,0)) | S41: =IF(G41="","",H41+I41+J41) | T41: =IF(G41="","",Conf!$B$42-SUM(H41:Q41)) | U41: =IF(G41="","",CONCATENATE("(",Conf!$B$42,")")) | Z41: =IF($G41="","",VLOOKUP($G41,Conf!$H$56:$M$87,3,0)) | AA41: =IF($G41="","",VLOOKUP($G41,Conf!$H$56:$M$87,4,0)) | AB41: =IF($G41="","",VLOOKUP($G41,Conf!$H$56:$M$87,5,0)) | AC41: =IF($G41="","",VLOOKUP($G41,Conf!$H$56:$M$87,6,0)) | AD41: =Conf!AG84 | AE41: =Conf!AH84 | AF41: =Conf!AI84 | AG41: =Conf!AJ84 | AH41: =Conf!AK84 | AI41: =Conf!AL84 | AJ41: =Conf!AM84 | AK41: =Conf!AN84 | ... AV41: =Conf!AY84
B42: =B41+1 -> 3 | C42: =VLOOKUP($B42,Conf!$DG$40:$DJ$52,2,0) -> Ferrari | D42: =VLOOKUP($B42,Conf!$DG$40:$DJ$52,4,0) -> 0 | G42: =Conf!H33 | H42: =IF($G42="","",VLOOKUP($G42,Conf!$H$4:$DE$35,ESTADISTICAS!H$10,0)) | I42: =IF($G42="","",VLOOKUP($G42,Conf!$H$4:$DE$35,ESTADISTICAS!I$10,0)) | J42: =IF($G42="","",VLOOKUP($G42,Conf!$H$4:$DE$35,ESTADISTICAS!J$10,0)) | K42: =IF($G42="","",VLOOKUP($G42,Conf!$H$4:$DE$35,ESTADISTICAS!K$10,0)) | L42: =IF($G42="","",VLOOKUP($G42,Conf!$H$4:$DE$35,ESTADISTICAS!L$10,0)) | M42: =IF($G42="","",VLOOKUP($G42,Conf!$H$4:$DE$35,ESTADISTICAS!M$10,0)) | N42: =IF($G42="","",VLOOKUP($G42,Conf!$H$4:$DE$35,ESTADISTICAS!N$10,0)) | O42: =IF($G42="","",VLOOKUP($G42,Conf!$H$4:$DE$35,ESTADISTICAS!O$10,0)) | ... R42: =IF($G42="","",VLOOKUP($G42,Conf!$H$4:$DE$35,ESTADISTICAS!R$10,0)) | S42: =IF(G42="","",H42+I42+J42) | T42: =IF(G42="","",Conf!$B$42-SUM(H42:Q42)) | U42: =IF(G42="","",CONCATENATE("(",Conf!$B$42,")")) | Z42: =IF($G42="","",VLOOKUP($G42,Conf!$H$56:$M$87,3,0)) | AA42: =IF($G42="","",VLOOKUP($G42,Conf!$H$56:$M$87,4,0)) | AB42: =IF($G42="","",VLOOKUP($G42,Conf!$H$56:$M$87,5,0)) | AC42: =IF($G42="","",VLOOKUP($G42,Conf!$H$56:$M$87,6,0)) | AD42: =Conf!AG85 | AE42: =Conf!AH85 | AF42: =Conf!AI85 | AG42: =Conf!AJ85 | AH42: =Conf!AK85 | AI42: =Conf!AL85 | AJ42: =Conf!AM85 | AK42: =Conf!AN85 | ... AV42: =Conf!AY85
B43: =B42+1 -> 4 | C43: =VLOOKUP($B43,Conf!$DG$40:$DJ$52,2,0) -> Lotus | D43: =VLOOKUP($B43,Conf!$DG$40:$DJ$52,4,0) -> 0 | G43: =Conf!H34 | H43: =IF($G43="","",VLOOKUP($G43,Conf!$H$4:$DE$35,ESTADISTICAS!H$10,0)) | I43: =IF($G43="","",VLOOKUP($G43,Conf!$H$4:$DE$35,ESTADISTICAS!I$10,0)) | J43: =IF($G43="","",VLOOKUP($G43,Conf!$H$4:$DE$35,ESTADISTICAS!J$10,0)) | K43: =IF($G43="","",VLOOKUP($G43,Conf!$H$4:$DE$35,ESTADISTICAS!K$10,0)) | L43: =IF($G43="","",VLOOKUP($G43,Conf!$H$4:$DE$35,ESTADISTICAS!L$10,0)) | M43: =IF($G43="","",VLOOKUP($G43,Conf!$H$4:$DE$35,ESTADISTICAS!M$10,0)) | N43: =IF($G43="","",VLOOKUP($G43,Conf!$H$4:$DE$35,ESTADISTICAS!N$10,0)) | O43: =IF($G43="","",VLOOKUP($G43,Conf!$H$4:$DE$35,ESTADISTICAS!O$10,0)) | ... R43: =IF($G43="","",VLOOKUP($G43,Conf!$H$4:$DE$35,ESTADISTICAS!R$10,0)) | S43: =IF(G43="","",H43+I43+J43) | T43: =IF(G43="","",Conf!$B$42-SUM(H43:Q43)) | U43: =IF(G43="","",CONCATENATE("(",Conf!$B$42,")")) | Z43: =IF($G43="","",VLOOKUP($G43,Conf!$H$56:$M$87,3,0)) | AA43: =IF($G43="","",VLOOKUP($G43,Conf!$H$56:$M$87,4,0)) | AB43: =IF($G43="","",VLOOKUP($G43,Conf!$H$56:$M$87,5,0)) | AC43: =IF($G43="","",VLOOKUP($G43,Conf!$H$56:$M$87,6,0)) | AD43: =Conf!AG86 | AE43: =Conf!AH86 | AF43: =Conf!AI86 | AG43: =Conf!AJ86 | AH43: =Conf!AK86 | AI43: =Conf!AL86 | AJ43: =Conf!AM86 | AK43: =Conf!AN86 | ... AV43: =Conf!AY86
B44: =B43+1 -> 5 | C44: =VLOOKUP($B44,Conf!$DG$40:$DJ$52,2,0) -> McLaren | D44: =VLOOKUP($B44,Conf!$DG$40:$DJ$52,4,0) -> 0 | G44: =Conf!H35 | H44: =IF($G44="","",VLOOKUP($G44,Conf!$H$4:$DE$35,ESTADISTICAS!H$10,0)) | I44: =IF($G44="","",VLOOKUP($G44,Conf!$H$4:$DE$35,ESTADISTICAS!I$10,0)) | J44: =IF($G44="","",VLOOKUP($G44,Conf!$H$4:$DE$35,ESTADISTICAS!J$10,0)) | K44: =IF($G44="","",VLOOKUP($G44,Conf!$H$4:$DE$35,ESTADISTICAS!K$10,0)) | L44: =IF($G44="","",VLOOKUP($G44,Conf!$H$4:$DE$35,ESTADISTICAS!L$10,0)) | M44: =IF($G44="","",VLOOKUP($G44,Conf!$H$4:$DE$35,ESTADISTICAS!M$10,0)) | N44: =IF($G44="","",VLOOKUP($G44,Conf!$H$4:$DE$35,ESTADISTICAS!N$10,0)) | O44: =IF($G44="","",VLOOKUP($G44,Conf!$H$4:$DE$35,ESTADISTICAS!O$10,0)) | ... R44: =IF($G44="","",VLOOKUP($G44,Conf!$H$4:$DE$35,ESTADISTICAS!R$10,0)) | S44: =IF(G44="","",H44+I44+J44) | T44: =IF(G44="","",Conf!$B$42-SUM(H44:Q44)) | U44: =IF(G44="","",CONCATENATE("(",Conf!$B$42,")")) | Z44: =IF($G44="","",VLOOKUP($G44,Conf!$H$56:$M$87,3,0)) | AA44: =IF($G44="","",VLOOKUP($G44,Conf!$H$56:$M$87,4,0)) | AB44: =IF($G44="","",VLOOKUP($G44,Conf!$H$56:$M$87,5,0)) | AC44: =IF($G44="","",VLOOKUP($G44,Conf!$H$56:$M$87,6,0)) | AD44: =Conf!AG87 | AE44: =Conf!AH87 | AF44: =Conf!AI87 | AG44: =Conf!AJ87 | AH44: =Conf!AK87 | AI44: =Conf!AL87 | AJ44: =Conf!AM87 | AK44: =Conf!AN87 | ... AV44: =Conf!AY87
I45: 64 | J45: 65 | K45: 66 | L45: 67 | M45: 68 | N45: 69 | O45: 70 | P45: 71 | Q45: 72 | R45: 73 | S45: 74 | T45: 75 | U45: 76 | V45: 77 | W45: 78 | X45: 79 | Y45: 80 | Z45: 81 | AA45: 82
I46: 45 | J46: 46 | K46: 47 | L46: 48 | M46: 49 | N46: 50 | O46: 51 | P46: 52 | Q46: 53 | R46: 54 | S46: 55 | T46: 56 | U46: 57 | V46: 58 | W46: 59 | X46: 60 | Y46: 61 | Z46: 62 | AA46: 63
B47: RESUMEN ESTADÍSTICO COMPLETO DE UN PILOTO CONCRETO
I48: =Conf!AG36 -> 1 | J48: =Conf!AH36 -> 1 | K48: =Conf!AI36 -> 1 | L48: =Conf!AJ36 -> 1 | M48: =Conf!AK36 -> 1 | N48: =Conf!AL36 -> 1 | O48: =Conf!AM36 -> 1 | P48: =Conf!AN36 -> 1 | ... AA48: =Conf!AY36 -> 1
I49: POSICIÓN EN TODOS LOS GRANDES PREMIOS DE LA TEMPORADA
...

Sheet img
B1: 1 | C1: 5 | D1: =IF(PILOTOS!D13="","",PILOTOS!D13) -> Sebastian VETTEL | E1: ="img!"&"A"&B1&":"&"A"&C1 -> img!A1:A5 | F1: =VLOOKUP(ESTADISTICAS!B49,D1:E23,2,0) -> img!A111:A115
B2: 6 | C2: =C1+5 -> 10 | D2: =IF(PILOTOS!D14="","",PILOTOS!D14) -> Daniel RICCIARDO | E2: ="img!"&"A"&B2&":"&"A"&C2 -> img!A6:A10
B3: =B2+5 -> 11 | C3: =C2+5 -> 15 | D3: =IF(PILOTOS!D15="","",PILOTOS!D15) -> Max CHILTON | E3: ="img!"&"A"&B3&":"&"A"&C3 -> img!A11:A15
B4: =B3+5 -> 16 | C4: =C3+5 -> 20 | D4: =IF(PILOTOS!D16="","",PILOTOS!D16) -> Nico ROSBERG | E4: ="img!"&"A"&B4&":"&"A"&C4 -> img!A16:A20
