Workbook
Name escuderias: OFFSET(PILOTOS!$G$13,0,0,COUNTA(PILOTOS!$G$13:$G$25,">=0")-1,1)
Name gpremios: Conf!$C$2:$C$20
Name imagenescuderia: INDIRECT(img!$F$25)
Name imagenpiloto: INDIRECT(img!$F$1)
Name pilotos: OFFSET(PILOTOS!$D$13,0,0,COUNTA(PILOTOS!$D$13:$D$44,">=0")-1,1)

Sheet RESUMEN
B11: CALENDARIO | G11: GP > | H11: GP AUSTRALIA | J11: CLASIFICACIÓN
B12: # | C12: FECHA | D12: GRAN PREMIO | G12: P. | H12: PILOTO | J12: P. | K12: PILOTO | L12: Ptos
B13: 1 | C13: =VLOOKUP($B13,Conf!$A$2:$C$20,2,0) -> 14-16 Marzo | D13: =VLOOKUP($B13,Conf!$A$2:$C$20,3,0) -> GP AUSTRALIA | G13: 1 | H13: =Conf!E117 | J13: 1 | K13: =VLOOKUP($J13,Conf!$G$4:$J$35,2,0) -> Sebastian VETTEL | L13: =VLOOKUP($J13,Conf!$G$4:$J$35,4,0) -> 0
B14: =B13+1 -> 2 | C14: =VLOOKUP($B14,Conf!$A$2:$C$20,2,0) -> 28-30 Marzo | D14: =VLOOKUP($B14,Conf!$A$2:$C$20,3,0) -> GP MALAYSIA | G14: 2 | H14: =Conf!E118 | J14: =J13+1 -> 2 | K14: =VLOOKUP($J14,Conf!$G$4:$J$35,2,0) -> Daniel RICCIARDO | L14: =VLOOKUP($J14,Conf!$G$4:$J$35,4,0) -> 0
B15: =B14+1 -> 3 | C15: =VLOOKUP($B15,Conf!$A$2:$C$20,2,0) -> 4-6 Abril | D15: =VLOOKUP($B15,Conf!$A$2:$C$20,3,0) -> GP BAHRAIN | G15: 3 | H15: =Conf!E119 | J15: =J14+1 -> 3 | K15: =VLOOKUP($J15,Conf!$G$4:$J$35,2,0) -> Max CHILTON | L15: =VLOOKUP($J15,Conf!$G$4:$J$35,4,0) -> 0
B16: =B15+1 -> 4 | C16: =VLOOKUP($B16,Conf!$A$2:$C$20,2,0) -> 18-20 Abril | D16: =VLOOKUP($B16,Conf!$A$2:$C$20,3,0) -> GP CHINA | G16: 4 | H16: =Conf!E120 | J16: =J15+1 -> 4 | K16: =VLOOKUP($J16,Conf!$G$4:$J$35,2,0) -> Nico ROSBERG | L16: =VLOOKUP($J16,Conf!$G$4:$J$35,4,0) -> 0
B17: =B16+1 -> 5 | C17: =VLOOKUP($B17,Conf!$A$2:$C$20,2,0) -> 9-11 Mayo | D17: =VLOOKUP($B17,Conf!$A$2:$C$20,3,0) -> GP ESPAÑA | G17: 5 | H17: =Conf!E121 | J17: =J16+1 -> 5 | K17: =VLOOKUP($J17,Conf!$G$4:$J$35,2,0) -> Kimi RAIKKONEN | L17: =VLOOKUP($J17,Conf!$G$4:$J$35,4,0) -> 0

Sheet PILOTOS
D11: PILOTO | E11: ESCUDERÍA | G11: ESCUDERÍA
C13: 1 | D13: Sebastian VETTEL | E13: Red Bull | G13: Red Bull
C14: 3 | D14: Daniel RICCIARDO | E14: Red Bull | G14: Mercedes
C15: 4 | D15: Max CHILTON | E15: Marussia | G15: Ferrari
C16: 6 | D16: Nico ROSBERG | E16: Mercedes | G16: Lotus
C17: 7 | D17: Kimi RAIKKONEN | E17: Ferrari | G17: McLaren
C18: 8 | D18: Romain GROSJEAN | E18: Lotus | G18: Force India
C19: 9 | D19: Marcus ERICSSON | E19: Caterham | G19: Sauber
C20: 10 | D20: Kamui KOBAYASHI | E20: Caterham | G20: Toro Rosso
C21: 11 | D21: Sergio PEREZ | E21: Force India | G21: Williams
C22: 13 | D22: Pastor MALDONADO | E22: Lotus | G22: Marussia
C23: 14 | D23: Fernando ALONSO | E23: Ferrari | G23: Caterham
C24: 17 | D24: Jules BIANCHI | E24: Marussia
C25: 19 | D25: Felipe MASSA | E25: Williams
C26: 20 | D26: Kevin MAGNUSSEN | E26: McLaren
C27: 21 | D27: Esteban GUTIERREZ | E27: Sauber
C28: 22 | D28: Jenson BUTTON | E28: McLaren
C29: 25 | D29: Jean-Eric VERGNE | E29: Toro Rosso
C30: 26 | D30: Daniil KVYAT | E30: Toro Rosso
C31: 27 | D31: Nico HULKENBERG | E31: Force India
C32: 44 | D32: Lewis HAMILTON | E32: Mercedes
C33: 77 | D33: Valtteri BOTTAS | E33: Williams
C34: 99 | D34: Adrian SUTIL | E34: Sauber

Sheet CLASIFICACIONES
C11: CLASIFICACIÓN DE PILOTOS | I11: ESCUDERÍAS
C13: Pos. | D13: PILOTO | E13: ESCUDERÍA | F13: PTOS | G13: DIF 1º | I13: Pos. | J13: ESCUDERÍA | K13: PTOS | L13: DIF 1º
C14: 1 | D14: =IFERROR(VLOOKUP($C14,Conf!$G$4:$J$35,2,0),"") -> Sebastian VETTEL | E14: =IFERROR(VLOOKUP($C14,Conf!$G$4:$J$35,3,0),"") -> Red Bull | F14: =IFERROR(VLOOKUP($C14,Conf!$G$4:$J$35,4,0),"") -> 0 | I14: 1 | J14: =IFERROR(VLOOKUP($I14,Conf!$G$40:$J$52,2,0),"") -> Red Bull | K14: =IFERROR(VLOOKUP($I14,Conf!$G$40:$J$52,4,0),"") -> 0
C15: 2 | D15: =IFERROR(VLOOKUP($C15,Conf!$G$4:$J$35,2,0),"") -> Daniel RICCIARDO | E15: =IFERROR(VLOOKUP($C15,Conf!$G$4:$J$35,3,0),"") -> Red Bull | F15: =IFERROR(VLOOKUP($C15,Conf!$G$4:$J$35,4,0),"") -> 0 | G15: =IFERROR(F15-$F$14,"") -> 0 | I15: 2 | J15: =IFERROR(VLOOKUP($I15,Conf!$G$40:$J$52,2,0),"") -> Mercedes | K15: =IFERROR(VLOOKUP($I15,Conf!$G$40:$J$52,4,0),"") -> 0 | L15: =IFERROR(K15-$K$14,"") -> 0
C16: 3 | D16: =IFERROR(VLOOKUP($C16,Conf!$G$4:$J$35,2,0),"") -> Max CHILTON | E16: =IFERROR(VLOOKUP($C16,Conf!$G$4:$J$35,3,0),"") -> Marussia | F16: =IFERROR(VLOOKUP($C16,Conf!$G$4:$J$35,4,0),"") -> 0 | G16: =IFERROR(F16-$F$14,"") -> 0 | I16: 3 | J16: =IFERROR(VLOOKUP($I16,Conf!$G$40:$J$52,2,0),"") -> Ferrari | K16: =IFERROR(VLOOKUP($I16,Conf!$G$40:$J$52,4,0),"") -> 0 | L16: =IFERROR(K16-$K$14,"") -> 0
C17: 4 | D17: =IFERROR(VLOOKUP($C17,Conf!$G$4:$J$35,2,0),"") -> Nico ROSBERG | E17: =IFERROR(VLOOKUP($C17,Conf!$G$4:$J$35,3,0),"") -> Mercedes | F17: =IFERROR(VLOOKUP($C17,Conf!$G$4:$J$35,4,0),"") -> 0 | G17: =IFERROR(F17-$F$14,"") -> 0 | I17: 4 | J17: =IFERROR(VLOOKUP($I17,Conf!$G$40:$J$52,2,0),"") -> Lotus | K17: =IFERROR(VLOOKUP($I17,Conf!$G$40:$J$52,4,0),"") -> 0 | L17: =IFERROR(K17-$K$14,"") -> 0
C18: 5 | D18: =IFERROR(VLOOKUP($C18,Conf!$G$4:$J$35,2,0),"") -> Kimi RAIKKONEN | E18: =IFERROR(VLOOKUP($C18,Conf!$G$4:$J$35,3,0),"") -> Ferrari | F18: =IFERROR(VLOOKUP($C18,Conf!$G$4:$J$35,4,0),"") -> 0 | G18: =IFERROR(F18-$F$14,"") -> 0 | I18: 5 | J18: =IFERROR(VLOOKUP($I18,Conf!$G$40:$J$52,2,0),"") -> McLaren | K18: =IFERROR(VLOOKUP($I18,Conf!$G$40:$J$52,4,0),"") -> 0 | L18: =IFERROR(K18-$K$14,"") -> 0
C19: 6 | D19: =IFERROR(VLOOKUP($C19,Conf!$G$4:$J$35,2,0),"") -> Romain GROSJEAN | E19: =IFERROR(VLOOKUP($C19,Conf!$G$4:$J$35,3,0),"") -> Lotus | F19: =IFERROR(VLOOKUP($C19,Conf!$G$4:$J$35,4,0),"") -> 0 | G19: =IFERROR(F19-$F$14,"") -> 0 | I19: 6 | J19: =IFERROR(VLOOKUP($I19,Conf!$G$40:$J$52,2,0),"") -> Force India | K19: =IFERROR(VLOOKUP($I19,Conf!$G$40:$J$52,4,0),"") -> 0 | L19: =IFERROR(K19-$K$14,"") -> 0
C20: 7 | D20: =IFERROR(VLOOKUP($C20,Conf!$G$4:$J$35,2,0),"") -> Marcus ERICSSON | E20: =IFERROR(VLOOKUP($C20,Conf!$G$4:$J$35,3,0),"") -> Caterham | F20: =IFERROR(VLOOKUP($C20,Conf!$G$4:$J$35,4,0),"") -> 0 | G20: =IFERROR(F20-$F$14,"") -> 0 | I20: 7 | J20: =IFERROR(VLOOKUP($I20,Conf!$G$40:$J$52,2,0),"") -> Sauber | K20: =IFERROR(VLOOKUP($I20,Conf!$G$40:$J$52,4,0),"") -> 0 | L20: =IFERROR(K20-$K$14,"") -> 0
C21: 8 | D21: =IFERROR(VLOOKUP($C21,Conf!$G$4:$J$35,2,0),"") -> Kamui KOBAYASHI | E21: =IFERROR(VLOOKUP($C21,Conf!$G$4:$J$35,3,0),"") -> Caterham | F21: =IFERROR(VLOOKUP($C21,Conf!$G$4:$J$35,4,0),"") -> 0 | G21: =IFERROR(F21-$F$14,"") -> 0 | I21: 8 | J21: =IFERROR(VLOOKUP($I21,Conf!$G$40:$J$52,2,0),"") -> Toro Rosso | K21: =IFERROR(VLOOKUP($I21,Conf!$G$40:$J$52,4,0),"") -> 0 | L21: =IFERROR(K21-$K$14,"") -> 0
C22: 9 | D22: =IFERROR(VLOOKUP($C22,Conf!$G$4:$J$35,2,0),"") -> Sergio PEREZ | E22: =IFERROR(VLOOKUP($C22,Conf!$G$4:$J$35,3,0),"") -> Force India | F22: =IFERROR(VLOOKUP($C22,Conf!$G$4:$J$35,4,0),"") -> 0 | G22: =IFERROR(F22-$F$14,"") -> 0 | I22: 9 | J22: =IFERROR(VLOOKUP($I22,Conf!$G$40:$J$52,2,0),"") -> Williams | K22: =IFERROR(VLOOKUP($I22,Conf!$G$40:$J$52,4,0),"") -> 0 | L22: =IFERROR(K22-$K$14,"") -> 0
C23: 10 | D23: =IFERROR(VLOOKUP($C23,Conf!$G$4:$J$35,2,0),"") -> Pastor MALDONADO | E23: =IFERROR(VLOOKUP($C23,Conf!$G$4:$J$35,3,0),"") -> Lotus | F23: =IFERROR(VLOOKUP($C23,Conf!$G$4:$J$35,4,0),"") -> 0 | G23: =IFERROR(F23-$F$14,"") -> 0 | I23: 10 | J23: =IFERROR(VLOOKUP($I23,Conf!$G$40:$J$52,2,0),"") -> Marussia | K23: =IFERROR(VLOOKUP($I23,Conf!$G$40:$J$52,4,0),"") -> 0 | L23: =IFERROR(K23-$K$14,"") -> 0
C24: 11 | D24: =IFERROR(VLOOKUP($C24,Conf!$G$4:$J$35,2,0),"") -> Fernando ALONSO | E24: =IFERROR(VLOOKUP($C24,Conf!$G$4:$J$35,3,0),"") -> Ferrari | F24: =IFERROR(VLOOKUP($C24,Conf!$G$4:$J$35,4,0),"") -> 0 | G24: =IFERROR(F24-$F$14,"") -> 0 | I24: 11 | J24: =IFERROR(VLOOKUP($I24,Conf!$G$40:$J$52,2,0),"") -> Caterham | K24: =IFERROR(VLOOKUP($I24,Conf!$G$40:$J$52,4,0),"") -> 0 | L24: =IFERROR(K24-$K$14,"") -> 0
C25: 12 | D25: =IFERROR(VLOOKUP($C25,Conf!$G$4:$J$35,2,0),"") -> Jules BIANCHI | E25: =IFERROR(VLOOKUP($C25,Conf!$G$4:$J$35,3,0),"") -> Marussia | F25: =IFERROR(VLOOKUP($C25,Conf!$G$4:$J$35,4,0),"") -> 0 | G25: =IFERROR(F25-$F$14,"") -> 0 | J25: =IFERROR(VLOOKUP($I25,Conf!$G$40:$J$52,2,0),"") | K25: =IFERROR(VLOOKUP($I25,Conf!$G$40:$J$52,4,0),"") | L25: =IFERROR(K25-$K$14,"")
C26: 13 | D26: =IFERROR(VLOOKUP($C26,Conf!$G$4:$J$35,2,0),"") -> Felipe MASSA | E26: =IFERROR(VLOOKUP($C26,Conf!$G$4:$J$35,3,0),"") -> Williams | F26: =IFERROR(VLOOKUP($C26,Conf!$G$4:$J$35,4,0),"") -> 0 | G26: =IFERROR(F26-$F$14,"") -> 0 | J26: =IFERROR(VLOOKUP($I26,Conf!$G$40:$J$52,2,0),"") | K26: =IFERROR(VLOOKUP($I26,Conf!$G$40:$J$52,4,0),"") | L26: =IFERROR(K26-$K$14,"")
C27: 14 | D27: =IFERROR(VLOOKUP($C27,Conf!$G$4:$J$35,2,0),"") -> Kevin MAGNUSSEN | E27: =IFERROR(VLOOKUP($C27,Conf!$G$4:$J$35,3,0),"") -> McLaren | F27: =IFERROR(VLOOKUP($C27,Conf!$G$4:$J$35,4,0),"") -> 0 | G27: =IFERROR(F27-$F$14,"") -> 0
C28: 15 | D28: =IFERROR(VLOOKUP($C28,Conf!$G$4:$J$35,2,0),"") -> Esteban GUTIERREZ | E28: =IFERROR(VLOOKUP($C28,Conf!$G$4:$J$35,3,0),"") -> Sauber | F28: =IFERROR(VLOOKUP($C28,Conf!$G$4:$J$35,4,0),"") -> 0 | G28: =IFERROR(F28-$F$14,"") -> 0
C29: 16 | D29: =IFERROR(VLOOKUP($C29,Conf!$G$4:$J$35,2,0),"") -> Jenson BUTTON | E29: =IFERROR(VLOOKUP($C29,Conf!$G$4:$J$35,3,0),"") -> McLaren | F29: =IFERROR(VLOOKUP($C29,Conf!$G$4:$J$35,4,0),"") -> 0 | G29: =IFERROR(F29-$F$14,"") -> 0
C30: 17 | D30: =IFERROR(VLOOKUP($C30,Conf!$G$4:$J$35,2,0),"") -> Jean-Eric VERGNE | E30: =IFERROR(VLOOKUP($C30,Conf!$G$4:$J$35,3,0),"") -> Toro Rosso | F30: =IFERROR(VLOOKUP($C30,Conf!$G$4:$J$35,4,0),"") -> 0 | G30: =IFERROR(F30-$F$14,"") -> 0
C31: 18 | D31: =IFERROR(VLOOKUP($C31,Conf!$G$4:$J$35,2,0),"") -> Daniil KVYAT | E31: =IFERROR(VLOOKUP($C31,Conf!$G$4:$J$35,3,0),"") -> Toro Rosso | F31: =IFERROR(VLOOKUP($C31,Conf!$G$4:$J$35,4,0),"") -> 0 | G31: =IFERROR(F31-$F$14,"") -> 0
C32: 19 | D32: =IFERROR(VLOOKUP($C32,Conf!$G$4:$J$35,2,0),"") -> Nico HULKENBERG | E32: =IFERROR(VLOOKUP($C32,Conf!$G$4:$J$35,3,0),"") -> Force India | F32: =IFERROR(VLOOKUP($C32,Conf!$G$4:$J$35,4,0),"") -> 0 | G32: =IFERROR(F32-$F$14,"") -> 0
C33: 20 | D33: =IFERROR(VLOOKUP($C33,Conf!$G$4:$J$35,2,0),"") -> Lewis HAMILTON | E33: =IFERROR(VLOOKUP($C33,Conf!$G$4:$J$35,3,0),"") -> Mercedes | F33: =IFERROR(VLOOKUP($C33,Conf!$G$4:$J$35,4,0),"") -> 0 | G33: =IFERROR(F33-$F$14,"") -> 0
C34: 21 | D34: =IFERROR(VLOOKUP($C34,Conf!$G$4:$J$35,2,0),"") -> Valtteri BOTTAS | E34: =IFERROR(VLOOKUP($C34,Conf!$G$4:$J$35,3,0),"") -> Williams | F34: =IFERROR(VLOOKUP($C34,Conf!$G$4:$J$35,4,0),"") -> 0 | G34: =IFERROR(F34-$F$14,"") -> 0
C35: 22 | D35: =IFERROR(VLOOKUP($C35,Conf!$G$4:$J$35,2,0),"") -> Adrian SUTIL | E35: =IFERROR(VLOOKUP($C35,Conf!$G$4:$J$35,3,0),"") -> Sauber | F35: =IFERROR(VLOOKUP($C35,Conf!$G$4:$J$35,4,0),"") -> 0 | G35: =IFERROR(F35-$F$14,"") -> 0
C36: =Conf!G26 | D36: =IFERROR(VLOOKUP($C36,Conf!$G$4:$J$35,2,0),"") | E36: =IFERROR(VLOOKUP($C36,Conf!$G$4:$J$35,3,0),"") | F36: =IFERROR(VLOOKUP($C36,Conf!$G$4:$J$35,4,0),"") | G36: =IFERROR(F36-$F$14,"")
C37: =Conf!G27 | D37: =IFERROR(VLOOKUP($C37,Conf!$G$4:$J$35,2,0),"") | E37: =IFERROR(VLOOKUP($C37,Conf!$G$4:$J$35,3,0),"") | F37: =IFERROR(VLOOKUP($C37,Conf!$G$4:$J$35,4,0),"") | G37: =IFERROR(F37-$F$14,"")
C38: =Conf!G28 | D38: =IFERROR(VLOOKUP($C38,Conf!$G$4:$J$35,2,0),"") | E38: =IFERROR(VLOOKUP($C38,Conf!$G$4:$J$35,3,0),"") | F38: =IFERROR(VLOOKUP($C38,Conf!$G$4:$J$35,4,0),"") | G38: =IFERROR(F38-$F$14,"")
C39: =Conf!G29 | D39: =IFERROR(VLOOKUP($C39,Conf!$G$4:$J$35,2,0),"") | E39: =IFERROR(VLOOKUP($C39,Conf!$G$4:$J$35,3,0),"") | F39: =IFERROR(VLOOKUP($C39,Conf!$G$4:$J$35,4,0),"") | G39: =IFERROR(F39-$F$14,"")
C40: =Conf!G30 | D40: =IFERROR(VLOOKUP($C40,Conf!$G$4:$J$35,2,0),"") | E40: =IFERROR(VLOOKUP($C40,Conf!$G$4:$J$35,3,0),"") | F40: =IFERROR(VLOOKUP($C40,Conf!$G$4:$J$35,4,0),"") | G40: =IFERROR(F40-$F$14,"")
C41: =Conf!G31 | D41: =IFERROR(VLOOKUP($C41,Conf!$G$4:$J$35,2,0),"") | E41: =IFERROR(VLOOKUP($C41,Conf!$G$4:$J$35,3,0),"") | F41: =IFERROR(VLOOKUP($C41,Conf!$G$4:$J$35,4,0),"") | G41: =IFERROR(F41-$F$14,"")
C42: =Conf!G32 | D42: =IFERROR(VLOOKUP($C42,Conf!$G$4:$J$35,2,0),"") | E42: =IFERROR(VLOOKUP($C42,Conf!$G$4:$J$35,3,0),"") | F42: =IFERROR(VLOOKUP($C42,Conf!$G$4:$J$35,4,0),"") | G42: =IFERROR(F42-$F$14,"")
C43: =Conf!G33 | D43: =IFERROR(VLOOKUP($C43,Conf!$G$4:$J$35,2,0),"") | E43: =IFERROR(VLOOKUP($C43,Conf!$G$4:$J$35,3,0),"") | F43: =IFERROR(VLOOKUP($C43,Conf!$G$4:$J$35,4,0),"") | G43: =IFERROR(F43-$F$14,"")
C44: =Conf!G34 | D44: =IFERROR(VLOOKUP($C44,Conf!$G$4:$J$35,2,0),"") | E44: =IFERROR(VLOOKUP($C44,Conf!$G$4:$J$35,3,0),"") | F44: =IFERROR(VLOOKUP($C44,Conf!$G$4:$J$35,4,0),"") | G44: =IFERROR(F44-$F$14,"")
C45: =Conf!G35 | D45: =IFERROR(VLOOKUP($C45,Conf!$G$4:$J$35,2,0),"") | E45: =IFERROR(VLOOKUP($C45,Conf!$G$4:$J$35,3,0),"") | F45: =IFERROR(VLOOKUP($C45,Conf!$G$4:$J$35,4,0),"") | G45: =IFERROR(F45-$F$14,"")

Sheet ESTADISTICAS
H10: 4 | I10: 5 | J10: 6 | K10: 7 | L10: 8 | M10: 9 | N10: 10 | O10: 11 | P10: 12 | Q10: 13 | R10: 83
B11: PILOTO CON MÁS VICTORIAS | G11: RESUMEN DE LA TEMPORADA DE TODOS LOS PILOTOS | Z11: RESUMEN DE LOS RESULTADOS OBTENIDOS EN LAS CLASIFICACIONES
B12: 1 | C12: =VLOOKUP($B12,Conf!$DG$4:$DJ$35,2,0) -> Sebastian VETTEL | D12: =VLOOKUP($B12,Conf!$DG$4:$DJ$35,4,0) -> 0 | G12: PILOTO | H12: 1º | I12: 2º | J12: 3º | K12: 4º | L12: 5º | M12: 6º | N12: 7º | O12: 8º | P12: 9º | Q12: 10º | R12: Poles | S12: Podios | T12: Sin puntos | W12: 25 | X12: =W12/2 -> 12.5 | Y12: 1 | Z12: CALIF. | AA12: Q3 | AB12: Q2 | AC12: Q1 | AD12: AUS | AE12: MAL | AF12: BAH | AG12: CHI | AH12: ESP | AI12: MON | AJ12: CAN | AK12: AUT | AL12: GB | AM12: ALE | AN12: HUN | AO12: BEL | AP12: ITA | AQ12: SIN | AR12: JAP | AS12: RUS | AT12: USA | AU12: BRA | AV12: ABU
B13: =B12+1 -> 2 | C13: =VLOOKUP($B13,Conf!$DG$4:$DJ$35,2,0) -> Daniel RICCIARDO | D13: =VLOOKUP($B13,Conf!$DG$4:$DJ$35,4,0) -> 0 | G13: =Conf!H4 -> Sebastian VETTEL | H13: =IF($G13="","",VLOOKUP($G13,Conf!$H$4:$DE$35,ESTADISTICAS!H$10,0)) -> 0 | I13: =IF($G13="","",VLOOKUP($G13,Conf!$H$4:$DE$35,ESTADISTICAS!I$10,0)) -> 0 | J13: =IF($G13="","",VLOOKUP($G13,Conf!$H$4:$DE$35,ESTADISTICAS!J$10,0)) -> 0 | K13: =IF($G13="","",VLOOKUP($G13,Conf!$H$4:$DE$35,ESTADISTICAS!K$10,0)) -> 0 | L13: =IF($G13="","",VLOOKUP($G13,Conf!$H$4:$DE$35,ESTADISTICAS!L$10,0)) -> 0 | M13: =IF($G13="","",VLOOKUP($G13,Conf!$H$4:$DE$35,ESTADISTICAS!M$10,0)) -> 0 | N13: =IF($G13="","",VLOOKUP($G13,Conf!$H$4:$DE$35,ESTADISTICAS!N$10,0)) -> 0 | O13: =IF($G13="","",VLOOKUP($G13,Conf!$H$4:$DE$35,ESTADISTICAS!O$10,0)) -> 0 | ... R13: =IF($G13="","",VLOOKUP($G13,Conf!$H$4:$DE$35,ESTADISTICAS!R$10,0)) -> 0 | S13: =IF(G13="","",H13+I13+J13) -> 0 | T13: =IF(G13="","",Conf!$B$42-SUM(H13:Q13)) -> 0 | U13: =IF(G13="","",CONCATENATE("(",Conf!$B$42,")")) -> (0) | W13: 18 | X13: =W13/2 -> 9 | Y13: 2 | Z13: =IF($G13="","",VLOOKUP($G13,Conf!$H$56:$M$87,3,0)) -> 0 | AA13: =IF($G13="","",VLOOKUP($G13,Conf!$H$56:$M$87,4,0)) -> 0 | AB13: =IF($G13="","",VLOOKUP($G13,Conf!$H$56:$M$87,5,0)) -> 0 | AC13: =IF($G13="","",VLOOKUP($G13,Conf!$H$56:$M$87,6,0)) -> 0 | AD13: =Conf!AG56 | AE13: =Conf!AH56 | AF13: =Conf!AI56 | AG13: =Conf!AJ56 | AH13: =Conf!AK56 | AI13: =Conf!AL56 | AJ13: =Conf!AM56 | AK13: =Conf!AN56 | ... AV13: =Conf!AY56
B14: =B13+1 -> 3 | C14: =VLOOKUP($B14,Conf!$DG$4:$DJ$35,2,0) -> Max CHILTON | D14: =VLOOKUP($B14,Conf!$DG$4:$DJ$35,4,0) -> 0 | G14: =Conf!H5 -> Daniel RICCIARDO | H14: =IF($G14="","",VLOOKUP($G14,Conf!$H$4:$DE$35,ESTADISTICAS!H$10,0)) -> 0 | I14: =IF($G14="","",VLOOKUP($G14,Conf!$H$4:$DE$35,ESTADISTICAS!I$10,0)) -> 0 | J14: =IF($G14="","",VLOOKUP($G14,Conf!$H$4:$DE$35,ESTADISTICAS!J$10,0)) -> 0 | K14: =IF($G14="","",VLOOKUP($G14,Conf!$H$4:$DE$35,ESTADISTICAS!K$10,0)) -> 0 | L14: =IF($G14="","",VLOOKUP($G14,Conf!$H$4:$DE$35,ESTADISTICAS!L$10,0)) -> 0 | M14: =IF($G14="","",VLOOKUP($G14,Conf!$H$4:$DE$35,ESTADISTICAS!M$10,0)) -> 0 | N14: =IF($G14="","",VLOOKUP($G14,Conf!$H$4:$DE$35,ESTADISTICAS!N$10,0)) -> 0 | O14: =IF($G14="","",VLOOKUP($G14,Conf!$H$4:$DE$35,ESTADISTICAS!O$10,0)) -> 0 | ... R14: =IF($G14="","",VLOOKUP($G14,Conf!$H$4:$DE$35,ESTADISTICAS!R$10,0)) -> 0 | S14: =IF(G14="","",H14+I14+J14) -> 0 | T14: =IF(G14="","",Conf!$B$42-SUM(H14:Q14)) -> 0 | U14: =IF(G14="","",CONCATENATE("(",Conf!$B$42,")")) -> (0) | W14: 15 | X14: =W14/2 -> 7.5 | Y14: 3 | Z14: =IF($G14="","",VLOOKUP($G14,Conf!$H$56:$M$87,3,0)) -> 0 | AA14: =IF($G14="","",VLOOKUP($G14,Conf!$H$56:$M$87,4,0)) -> 0 | AB14: =IF($G14="","",VLOOKUP($G14,Conf!$H$56:$M$87,5,0)) -> 0 | AC14: =IF($G14="","",VLOOKUP($G14,Conf!$H$56:$M$87,6,0)) -> 0 | AD14: =Conf!AG57 | AE14: =Conf!AH57 | AF14: =Conf!AI57 | AG14: =Conf!AJ57 | AH14: =Conf!AK57 | AI14: =Conf!AL57 | AJ14: =Conf!AM57 | AK14: =Conf!AN57 | ... AV14: =Conf!AY57
B15: =B14+1 -> 4 | C15: =VLOOKUP($B15,Conf!$DG$4:$DJ$35,2,0) -> Nico ROSBERG | D15: =VLOOKUP($B15,Conf!$DG$4:$DJ$35,4,0) -> 0 | G15: =Conf!H6 -> Max CHILTON | H15: =IF($G15="","",VLOOKUP($G15,Conf!$H$4:$DE$35,ESTADISTICAS!H$10,0)) -> 0 | I15: =IF($G15="","",VLOOKUP($G15,Conf!$H$4:$DE$35,ESTADISTICAS!I$10,0)) -> 0 | J15: =IF($G15="","",VLOOKUP($G15,Conf!$H$4:$DE$35,ESTADISTICAS!J$10,0)) -> 0 | K15: =IF($G15="","",VLOOKUP($G15,Conf!$H$4:$DE$35,ESTADISTICAS!K$10,0)) -> 0 | L15: =IF($G15="","",VLOOKUP($G15,Conf!$H$4:$DE$35,ESTADISTICAS!L$10,0)) -> 0 | M15: =IF($G15="","",VLOOKUP($G15,Conf!$H$4:$DE$35,ESTADISTICAS!M$10,0)) -> 0 | N15: =IF($G15="","",VLOOKUP($G15,Conf!$H$4:$DE$35,ESTADISTICAS!N$10,0)) -> 0 | O15: =IF($G15="","",VLOOKUP($G15,Conf!$H$4:$DE$35,ESTADISTICAS!O$10,0)) -> 0 | ... R15: =IF($G15="","",VLOOKUP($G15,Conf!$H$4:$DE$35,ESTADISTICAS!R$10,0)) -> 0 | S15: =IF(G15="","",H15+I15+J15) -> 0 | T15: =IF(G15="","",Conf!$B$42-SUM(H15:Q15)) -> 0 | U15: =IF(G15="","",CONCATENATE("(",Conf!$B$42,")")) -> (0) | W15: 12 | X15: =W15/2 -> 6 | Y15: 4 | Z15: =IF($G15="","",VLOOKUP($G15,Conf!$H$56:$M$87,3,0)) -> 0 | AA15: =IF($G15="","",VLOOKUP($G15,Conf!$H$56:$M$87,4,0)) -> 0 | AB15: =IF($G15="","",VLOOKUP($G15,Conf!$H$56:$M$87,5,0)) -> 0 | AC15: =IF($G15="","",VLOOKUP($G15,Conf!$H$56:$M$87,6,0)) -> 0 | AD15: =Conf!AG58 | AE15: =Conf!AH58 | AF15: =Conf!AI58 | AG15: =Conf!AJ58 | AH15: =Conf!AK58 | AI15: =Conf!AL58 | AJ15: =Conf!AM58 | AK15: =Conf!AN58 | ... AV15: =Conf!AY58
B16: =B15+1 -> 5 | C16: =VLOOKUP($B16,Conf!$DG$4:$DJ$35,2,0) -> Kimi RAIKKONEN | D16: =VLOOKUP($B16,Conf!$DG$4:$DJ$35,4,0) -> 0 | G16: =Conf!H7 -> Nico ROSBERG | H16: =IF($G16="","",VLOOKUP($G16,Conf!$H$4:$DE$35,ESTADISTICAS!H$10,0)) -> 0 | I16: =IF($G16="","",VLOOKUP($G16,Conf!$H$4:$DE$35,ESTADISTICAS!I$10,0)) -> 0 | J16: =IF($G16="","",VLOOKUP($G16,Conf!$H$4:$DE$35,ESTADISTICAS!J$10,0)) -> 0 | K16: =IF($G16="","",VLOOKUP($G16,Conf!$H$4:$DE$35,ESTADISTICAS!K$10,0)) -> 0 | L16: =IF($G16="","",VLOOKUP($G16,Conf!$H$4:$DE$35,ESTADISTICAS!L$10,0)) -> 0 | M16: =IF($G16="","",VLOOKUP($G16,Conf!$H$4:$DE$35,ESTADISTICAS!M$10,0)) -> 0 | N16: =IF($G16="","",VLOOKUP($G16,Conf!$H$4:$DE$35,ESTADISTICAS!N$10,0)) -> 0 | O16: =IF($G16="","",VLOOKUP($G16,Conf!$H$4:$DE$35,ESTADISTICAS!O$10,0)) -> 0 | ... R16: =IF($G16="","",VLOOKUP($G16,Conf!$H$4:$DE$35,ESTADISTICAS!R$10,0)) -> 0 | S16: =IF(G16="","",H16+I16+J16) -> 0 | T16: =IF(G16="","",Conf!$B$42-SUM(H16:Q16)) -> 0 | U16: =IF(G16="","",CONCATENATE("(",Conf!$B$42,")")) -> (0) | W16: 10 | X16: =W16/2 -> 5 | Y16: 5 | Z16: =IF($G16="","",VLOOKUP($G16,Conf!$H$56:$M$87,3,0)) -> 0 | AA16: =IF($G16="","",VLOOKUP($G16,Conf!$H$56:$M$87,4,0)) -> 0 | AB16: =IF($G16="","",VLOOKUP($G16,Conf!$H$56:$M$87,5,0)) -> 0 | AC16: =IF($G16="","",VLOOKUP($G16,Conf!$H$56:$M$87,6,0)) -> 0 | AD16: =Conf!AG59 | AE16: =Conf!AH59 | AF16: =Conf!AI59 | AG16: =Conf!AJ59 | AH16: =Conf!AK59 | AI16: =Conf!AL59 | AJ16: =Conf!AM59 | AK16: =Conf!AN59 | ... AV16: =Conf!AY59
G17: =Conf!H8 -> Kimi RAIKKONEN | H17: =IF($G17="","",VLOOKUP($G17,Conf!$H$4:$DE$35,ESTADISTICAS!H$10,0)) -> 0 | I17: =IF($G17="","",VLOOKUP($G17,Conf!$H$4:$DE$35,ESTADISTICAS!I$10,0)) -> 0 | J17: =IF($G17="","",VLOOKUP($G17,Conf!$H$4:$DE$35,ESTADISTICAS!J$10,0)) -> 0 | K17: =IF($G17="","",VLOOKUP($G17,Conf!$H$4:$DE$35,ESTADISTICAS!K$10,0)) -> 0 | L17: =IF($G17="","",VLOOKUP($G17,Conf!$H$4:$DE$35,ESTADISTICAS!L$10,0)) -> 0 | M17: =IF($G17="","",VLOOKUP($G17,Conf!$H$4:$DE$35,ESTADISTICAS!M$10,0)) -> 0 | N17: =IF($G17="","",VLOOKUP($G17,Conf!$H$4:$DE$35,ESTADISTICAS!N$10,0)) -> 0 | O17: =IF($G17="","",VLOOKUP($G17,Conf!$H$4:$DE$35,ESTADISTICAS!O$10,0)) -> 0 | ... R17: =IF($G17="","",VLOOKUP($G17,Conf!$H$4:$DE$35,ESTADISTICAS!R$10,0)) -> 0 | S17: =IF(G17="","",H17+I17+J17) -> 0 | T17: =IF(G17="","",Conf!$B$42-SUM(H17:Q17)) -> 0 | U17: =IF(G17="","",CONCATENATE("(",Conf!$B$42,")")) -> (0) | W17: 8 | X17: =W17/2 -> 4 | Y17: 6 | Z17: =IF($G17="","",VLOOKUP($G17,Conf!$H$56:$M$87,3,0)) -> 0 | AA17: =IF($G17="","",VLOOKUP($G17,Conf!$H$56:$M$87,4,0)) -> 0 | AB17: =IF($G17="","",VLOOKUP($G17,Conf!$H$56:$M$87,5,0)) -> 0 | AC17: =IF($G17="","",VLOOKUP($G17,Conf!$H$56:$M$87,6,0)) -> 0 | AD17: =Conf!AG60 | AE17: =Conf!AH60 | AF17: =Conf!AI60 | AG17: =Conf!AJ60 | AH17: =Conf!AK60 | AI17: =Conf!AL60 | AJ17: =Conf!AM60 | AK17: =Conf!AN60 | ... AV17: =Conf!AY60
B18: PILOTO CON MÁS POLES | G18: =Conf!H9 -> Romain GROSJEAN | H18: =IF($G18="","",VLOOKUP($G18,Conf!$H$4:$DE$35,ESTADISTICAS!H$10,0)) -> 0 | I18: =IF($G18="","",VLOOKUP($G18,Conf!$H$4:$DE$35,ESTADISTICAS!I$10,0)) -> 0 | J18: =IF($G18="","",VLOOKUP($G18,Conf!$H$4:$DE$35,ESTADISTICAS!J$10,0)) -> 0 | K18: =IF($G18="","",VLOOKUP($G18,Conf!$H$4:$DE$35,ESTADISTICAS!K$10,0)) -> 0 | L18: =IF($G18="","",VLOOKUP($G18,Conf!$H$4:$DE$35,ESTADISTICAS!L$10,0)) -> 0 | M18: =IF($G18="","",VLOOKUP($G18,Conf!$H$4:$DE$35,ESTADISTICAS!M$10,0)) -> 0 | N18: =IF($G18="","",VLOOKUP($G18,Conf!$H$4:$DE$35,ESTADISTICAS!N$10,0)) -> 0 | O18: =IF($G18="","",VLOOKUP($G18,Conf!$H$4:$DE$35,ESTADISTICAS!O$10,0)) -> 0 | ... R18: =IF($G18="","",VLOOKUP($G18,Conf!$H$4:$DE$35,ESTADISTICAS!R$10,0)) -> 0 | S18: =IF(G18="","",H18+I18+J18) -> 0 | T18: =IF(G18="","",Conf!$B$42-SUM(H18:Q18)) -> 0 | U18: =IF(G18="","",CONCATENATE("(",Conf!$B$42,")")) -> (0) | W18: 6 | X18: =W18/2 -> 3 | Y18: 7 | Z18: =IF($G18="","",VLOOKUP($G18,Conf!$H$56:$M$87,3,0)) -> 0 | AA18: =IF($G18="","",VLOOKUP($G18,Conf!$H$56:$M$87,4,0)) -> 0 | AB18: =IF($G18="","",VLOOKUP($G18,Conf!$H$56:$M$87,5,0)) -> 0 | AC18: =IF($G18="","",VLOOKUP($G18,Conf!$H$56:$M$87,6,0)) -> 0 | AD18: =Conf!AG61 | AE18: =Conf!AH61 | AF18: =Conf!AI61 | AG18: =Conf!AJ61 | AH18: =Conf!AK61 | AI18: =Conf!AL61 | AJ18: =Conf!AM61 | AK18: =Conf!AN61 | ... AV18: =Conf!AY61
B19: 1 | C19: =VLOOKUP($B19,Conf!$DM$4:$DP$35,2,0) -> Sebastian VETTEL | D19: =VLOOKUP($B19,Conf!$DM$4:$DP$35,4,0) -> 0 | G19: =Conf!H10 -> Marcus ERICSSON | H19: =IF($G19="","",VLOOKUP($G19,Conf!$H$4:$DE$35,ESTADISTICAS!H$10,0)) -> 0 | I19: =IF($G19="","",VLOOKUP($G19,Conf!$H$4:$DE$35,ESTADISTICAS!I$10,0)) -> 0 | J19: =IF($G19="","",VLOOKUP($G19,Conf!$H$4:$DE$35,ESTADISTICAS!J$10,0)) -> 0 | K19: =IF($G19="","",VLOOKUP($G19,Conf!$H$4:$DE$35,ESTADISTICAS!K$10,0)) -> 0 | L19: =IF($G19="","",VLOOKUP($G19,Conf!$H$4:$DE$35,ESTADISTICAS!L$10,0)) -> 0 | M19: =IF($G19="","",VLOOKUP($G19,Conf!$H$4:$DE$35,ESTADISTICAS!M$10,0)) -> 0 | N19: =IF($G19="","",VLOOKUP($G19,Conf!$H$4:$DE$35,ESTADISTICAS!N$10,0)) -> 0 | O19: =IF($G19="","",VLOOKUP($G19,Conf!$H$4:$DE$35,ESTADISTICAS!O$10,0)) -> 0 | ... R19: =IF($G19="","",VLOOKUP($G19,Conf!$H$4:$DE$35,ESTADISTICAS!R$10,0)) -> 0 | S19: =IF(G19="","",H19+I19+J19) -> 0 | T19: =IF(G19="","",Conf!$B$42-SUM(H19:Q19)) -> 0 | U19: =IF(G19="","",CONCATENATE("(",Conf!$B$42,")")) -> (0) | W19: 4 | X19: =W19/2 -> 2 | Y19: 8 | Z19: =IF($G19="","",VLOOKUP($G19,Conf!$H$56:$M$87,3,0)) -> 0 | AA19: =IF($G19="","",VLOOKUP($G19,Conf!$H$56:$M$87,4,0)) -> 0 | AB19: =IF($G19="","",VLOOKUP($G19,Conf!$H$56:$M$87,5,0)) -> 0 | AC19: =IF($G19="","",VLOOKUP($G19,Conf!$H$56:$M$87,6,0)) -> 0 | AD19: =Conf!AG62 | AE19: =Conf!AH62 | AF19: =Conf!AI62 | AG19: =Conf!AJ62 | AH19: =Conf!AK62 | AI19: =Conf!AL62 | AJ19: =Conf!AM62 | AK19: =Conf!AN62 | ... AV19: =Conf!AY62
B20: =B19+1 -> 2 | C20: =VLOOKUP($B20,Conf!$DM$4:$DP$35,2,0) -> Daniel RICCIARDO | D20: =VLOOKUP($B20,Conf!$DM$4:$DP$35,4,0) -> 0 | G20: =Conf!H11 -> Kamui KOBAYASHI | H20: =IF($G20="","",VLOOKUP($G20,Conf!$H$4:$DE$35,ESTADISTICAS!H$10,0)) -> 0 | I20: =IF($G20="","",VLOOKUP($G20,Conf!$H$4:$DE$35,ESTADISTICAS!I$10,0)) -> 0 | J20: =IF($G20="","",VLOOKUP($G20,Conf!$H$4:$DE$35,ESTADISTICAS!J$10,0)) -> 0 | K20: =IF($G20="","",VLOOKUP($G20,Conf!$H$4:$DE$35,ESTADISTICAS!K$10,0)) -> 0 | L20: =IF($G20="","",VLOOKUP($G20,Conf!$H$4:$DE$35,ESTADISTICAS!L$10,0)) -> 0 | M20: =IF($G20="","",VLOOKUP($G20,Conf!$H$4:$DE$35,ESTADISTICAS!M$10,0)) -> 0 | N20: =IF($G20="","",VLOOKUP($G20,Conf!$H$4:$DE$35,ESTADISTICAS!N$10,0)) -> 0 | O20: =IF($G20="","",VLOOKUP($G20,Conf!$H$4:$DE$35,ESTADISTICAS!O$10,0)) -> 0 | ... R20: =IF($G20="","",VLOOKUP($G20,Conf!$H$4:$DE$35,ESTADISTICAS!R$10,0)) -> 0 | S20: =IF(G20="","",H20+I20+J20) -> 0 | T20: =IF(G20="","",Conf!$B$42-SUM(H20:Q20)) -> 0 | U20: =IF(G20="","",CONCATENATE("(",Conf!$B$42,")")) -> (0) | W20: 2 | X20: =W20/2 -> 1 | Y20: 9 | Z20: =IF($G20="","",VLOOKUP($G20,Conf!$H$56:$M$87,3,0)) -> 0 | AA20: =IF($G20="","",VLOOKUP($G20,Conf!$H$56:$M$87,4,0)) -> 0 | AB20: =IF($G20="","",VLOOKUP($G20,Conf!$H$56:$M$87,5,0)) -> 0 | AC20: =IF($G20="","",VLOOKUP($G20,Conf!$H$56:$M$87,6,0)) -> 0 | AD20: =Conf!AG63 | AE20: =Conf!AH63 | AF20: =Conf!AI63 | AG20: =Conf!AJ63 | AH20: =Conf!AK63 | AI20: =Conf!AL63 | AJ20: =Conf!AM63 | AK20: =Conf!AN63 | ... AV20: =Conf!AY63
B21: =B20+1 -> 3 | C21: =VLOOKUP($B21,Conf!$DM$4:$DP$35,2,0) -> Max CHILTON | D21: =VLOOKUP($B21,Conf!$DM$4:$DP$35,4,0) -> 0 | G21: =Conf!H12 -> Sergio PEREZ | H21: =IF($G21="","",VLOOKUP($G21,Conf!$H$4:$DE$35,ESTADISTICAS!H$10,0)) -> 0 | I21: =IF($G21="","",VLOOKUP($G21,Conf!$H$4:$DE$35,ESTADISTICAS!I$10,0)) -> 0 | J21: =IF($G21="","",VLOOKUP($G21,Conf!$H$4:$DE$35,ESTADISTICAS!J$10,0)) -> 0 | K21: =IF($G21="","",VLOOKUP($G21,Conf!$H$4:$DE$35,ESTADISTICAS!K$10,0)) -> 0 | L21: =IF($G21="","",VLOOKUP($G21,Conf!$H$4:$DE$35,ESTADISTICAS!L$10,0)) -> 0 | M21: =IF($G21="","",VLOOKUP($G21,Conf!$H$4:$DE$35,ESTADISTICAS!M$10,0)) -> 0 | N21: =IF($G21="","",VLOOKUP($G21,Conf!$H$4:$DE$35,ESTADISTICAS!N$10,0)) -> 0 | O21: =IF($G21="","",VLOOKUP($G21,Conf!$H$4:$DE$35,ESTADISTICAS!O$10,0)) -> 0 | ... R21: =IF($G21="","",VLOOKUP($G21,Conf!$H$4:$DE$35,ESTADISTICAS!R$10,0)) -> 0 | S21: =IF(G21="","",H21+I21+J21) -> 0 | T21: =IF(G21="","",Conf!$B$42-SUM(H21:Q21)) -> 0 | U21: =IF(G21="","",CONCATENATE("(",Conf!$B$42,")")) -> (0) | W21: 1 | X21: =W21/2 -> 0.5 | Y21: 10 | Z21: =IF($G21="","",VLOOKUP($G21,Conf!$H$56:$M$87,3,0)) -> 0 | AA21: =IF($G21="","",VLOOKUP($G21,Conf!$H$56:$M$87,4,0)) -> 0 | AB21: =IF($G21="","",VLOOKUP($G21,Conf!$H$56:$M$87,5,0)) -> 0 | AC21: =IF($G21="","",VLOOKUP($G21,Conf!$H$56:$M$87,6,0)) -> 0 | AD21: =Conf!AG64 | AE21: =Conf!AH64 | AF21: =Conf!AI64 | AG21: =Conf!AJ64 | AH21: =Conf!AK64 | AI21: =Conf!AL64 | AJ21: =Conf!AM64 | AK21: =Conf!AN64 | ... AV21: =Conf!AY64
B22: =B21+1 -> 4 | C22: =VLOOKUP($B22,Conf!$DM$4:$DP$35,2,0) -> Nico ROSBERG | D22: =VLOOKUP($B22,Conf!$DM$4:$DP$35,4,0) -> 0 | G22: =Conf!H13 -> Pastor MALDONADO | H22: =IF($G22="","",VLOOKUP($G22,Conf!$H$4:$DE$35,ESTADISTICAS!H$10,0)) -> 0 | I22: =IF($G22="","",VLOOKUP($G22,Conf!$H$4:$DE$35,ESTADISTICAS!I$10,0)) -> 0 | J22: =IF($G22="","",VLOOKUP($G22,Conf!$H$4:$DE$35,ESTADISTICAS!J$10,0)) -> 0 | K22: =IF($G22="","",VLOOKUP($G22,Conf!$H$4:$DE$35,ESTADISTICAS!K$10,0)) -> 0 | L22: =IF($G22="","",VLOOKUP($G22,Conf!$H$4:$DE$35,ESTADISTICAS!L$10,0)) -> 0 | M22: =IF($G22="","",VLOOKUP($G22,Conf!$H$4:$DE$35,ESTADISTICAS!M$10,0)) -> 0 | N22: =IF($G22="","",VLOOKUP($G22,Conf!$H$4:$DE$35,ESTADISTICAS!N$10,0)) -> 0 | O22: =IF($G22="","",VLOOKUP($G22,Conf!$H$4:$DE$35,ESTADISTICAS!O$10,0)) -> 0 | ... R22: =IF($G22="","",VLOOKUP($G22,Conf!$H$4:$DE$35,ESTADISTICAS!R$10,0)) -> 0 | S22: =IF(G22="","",H22+I22+J22) -> 0 | T22: =IF(G22="","",Conf!$B$42-SUM(H22:Q22)) -> 0 | U22: =IF(G22="","",CONCATENATE("(",Conf!$B$42,")")) -> (0) | Z22: =IF($G22="","",VLOOKUP($G22,Conf!$H$56:$M$87,3,0)) -> 0 | AA22: =IF($G22="","",VLOOKUP($G22,Conf!$H$56:$M$87,4,0)) -> 0 | AB22: =IF($G22="","",VLOOKUP($G22,Conf!$H$56:$M$87,5,0)) -> 0 | AC22: =IF($G22="","",VLOOKUP($G22,Conf!$H$56:$M$87,6,0)) -> 0 | AD22: =Conf!AG65 | AE22: =Conf!AH65 | AF22: =Conf!AI65 | AG22: =Conf!AJ65 | AH22: =Conf!AK65 | AI22: =Conf!AL65 | AJ22: =Conf!AM65 | AK22: =Conf!AN65 | ... AV22: =Conf!AY65
B23: =B22+1 -> 5 | C23: =VLOOKUP($B23,Conf!$DM$4:$DP$35,2,0) -> Kimi RAIKKONEN | D23: =VLOOKUP($B23,Conf!$DM$4:$DP$35,4,0) -> 0 | G23: =Conf!H14 -> Fernando ALONSO | H23: =IF($G23="","",VLOOKUP($G23,Conf!$H$4:$DE$35,ESTADISTICAS!H$10,0)) -> 0 | I23: =IF($G23="","",VLOOKUP($G23,Conf!$H$4:$DE$35,ESTADISTICAS!I$10,0)) -> 0 | J23: =IF($G23="","",VLOOKUP($G23,Conf!$H$4:$DE$35,ESTADISTICAS!J$10,0)) -> 0 | K23: =IF($G23="","",VLOOKUP($G23,Conf!$H$4:$DE$35,ESTADISTICAS!K$10,0)) -> 0 | L23: =IF($G23="","",VLOOKUP($G23,Conf!$H$4:$DE$35,ESTADISTICAS!L$10,0)) -> 0 | M23: =IF($G23="","",VLOOKUP($G23,Conf!$H$4:$DE$35,ESTADISTICAS!M$10,0)) -> 0 | N23: =IF($G23="","",VLOOKUP($G23,Conf!$H$4:$DE$35,ESTADISTICAS!N$10,0)) -> 0 | O23: =IF($G23="","",VLOOKUP($G23,Conf!$H$4:$DE$35,ESTADISTICAS!O$10,0)) -> 0 | ... R23: =IF($G23="","",VLOOKUP($G23,Conf!$H$4:$DE$35,ESTADISTICAS!R$10,0)) -> 0 | S23: =IF(G23="","",H23+I23+J23) -> 0 | T23: =IF(G23="","",Conf!$B$42-SUM(H23:Q23)) -> 0 | U23: =IF(G23="","",CONCATENATE("(",Conf!$B$42,")")) -> (0) | Z23: =IF($G23="","",VLOOKUP($G23,Conf!$H$56:$M$87,3,0)) -> 0 | AA23: =IF($G23="","",VLOOKUP($G23,Conf!$H$56:$M$87,4,0)) -> 0 | AB23: =IF($G23="","",VLOOKUP($G23,Conf!$H$56:$M$87,5,0)) -> 0 | AC23: =IF($G23="","",VLOOKUP($G23,Conf!$H$56:$M$87,6,0)) -> 0 | AD23: =Conf!AG66 | AE23: =Conf!AH66 | AF23: =Conf!AI66 | AG23: =Conf!AJ66 | AH23: =Conf!AK66 | AI23: =Conf!AL66 | AJ23: =Conf!AM66 | AK23: =Conf!AN66 | ... AV23: =Conf!AY66
G24: =Conf!H15 -> Jules BIANCHI | H24: =IF($G24="","",VLOOKUP($G24,Conf!$H$4:$DE$35,ESTADISTICAS!H$10,0)) -> 0 | I24: =IF($G24="","",VLOOKUP($G24,Conf!$H$4:$DE$35,ESTADISTICAS!I$10,0)) -> 0 | J24: =IF($G24="","",VLOOKUP($G24,Conf!$H$4:$DE$35,ESTADISTICAS!J$10,0)) -> 0 | K24: =IF($G24="","",VLOOKUP($G24,Conf!$H$4:$DE$35,ESTADISTICAS!K$10,0)) -> 0 | L24: =IF($G24="","",VLOOKUP($G24,Conf!$H$4:$DE$35,ESTADISTICAS!L$10,0)) -> 0 | M24: =IF($G24="","",VLOOKUP($G24,Conf!$H$4:$DE$35,ESTADISTICAS!M$10,0)) -> 0 | N24: =IF($G24="","",VLOOKUP($G24,Conf!$H$4:$DE$35,ESTADISTICAS!N$10,0)) -> 0 | O24: =IF($G24="","",VLOOKUP($G24,Conf!$H$4:$DE$35,ESTADISTICAS!O$10,0)) -> 0 | ... R24: =IF($G24="","",VLOOKUP($G24,Conf!$H$4:$DE$35,ESTADISTICAS!R$10,0)) -> 0 | S24: =IF(G24="","",H24+I24+J24) -> 0 | T24: =IF(G24="","",Conf!$B$42-SUM(H24:Q24)) -> 0 | U24: =IF(G24="","",CONCATENATE("(",Conf!$B$42,")")) -> (0) | Z24: =IF($G24="","",VLOOKUP($G24,Conf!$H$56:$M$87,3,0)) -> 0 | AA24: =IF($G24="","",VLOOKUP($G24,Conf!$H$56:$M$87,4,0)) -> 0 | AB24: =IF($G24="","",VLOOKUP($G24,Conf!$H$56:$M$87,5,0)) -> 0 | AC24: =IF($G24="","",VLOOKUP($G24,Conf!$H$56:$M$87,6,0)) -> 0 | AD24: =Conf!AG67 | AE24: =Conf!AH67 | AF24: =Conf!AI67 | AG24: =Conf!AJ67 | AH24: =Conf!AK67 | AI24: =Conf!AL67 | AJ24: =Conf!AM67 | AK24: =Conf!AN67 | ... AV24: =Conf!AY67
B25: PILOTO CON MÁS PODIOS | G25: =Conf!H16 -> Felipe MASSA | H25: =IF($G25="","",VLOOKUP($G25,Conf!$H$4:$DE$35,ESTADISTICAS!H$10,0)) -> 0 | I25: =IF($G25="","",VLOOKUP($G25,Conf!$H$4:$DE$35,ESTADISTICAS!I$10,0)) -> 0 | J25: =IF($G25="","",VLOOKUP($G25,Conf!$H$4:$DE$35,ESTADISTICAS!J$10,0)) -> 0 | K25: =IF($G25="","",VLOOKUP($G25,Conf!$H$4:$DE$35,ESTADISTICAS!K$10,0)) -> 0 | L25: =IF($G25="","",VLOOKUP($G25,Conf!$H$4:$DE$35,ESTADISTICAS!L$10,0)) -> 0 | M25: =IF($G25="","",VLOOKUP($G25,Conf!$H$4:$DE$35,ESTADISTICAS!M$10,0)) -> 0 | N25: =IF($G25="","",VLOOKUP($G25,Conf!$H$4:$DE$35,ESTADISTICAS!N$10,0)) -> 0 | O25: =IF($G25="","",VLOOKUP($G25,Conf!$H$4:$DE$35,ESTADISTICAS!O$10,0)) -> 0 | ... R25: =IF($G25="","",VLOOKUP($G25,Conf!$H$4:$DE$35,ESTADISTICAS!R$10,0)) -> 0 | S25: =IF(G25="","",H25+I25+J25) -> 0 | T25: =IF(G25="","",Conf!$B$42-SUM(H25:Q25)) -> 0 | U25: =IF(G25="","",CONCATENATE("(",Conf!$B$42,")")) -> (0) | Z25: =IF($G25="","",VLOOKUP($G25,Conf!$H$56:$M$87,3,0)) -> 0 | AA25: =IF($G25="","",VLOOKUP($G25,Conf!$H$56:$M$87,4,0)) -> 0 | AB25: =IF($G25="","",VLOOKUP($G25,Conf!$H$56:$M$87,5,0)) -> 0 | AC25: =IF($G25="","",VLOOKUP($G25,Conf!$H$56:$M$87,6,0)) -> 0 | AD25: =Conf!AG68 | AE25: =Conf!AH68 | AF25: =Conf!AI68 | AG25: =Conf!AJ68 | AH25: =Conf!AK68 | AI25: =Conf!AL68 | AJ25: =Conf!AM68 | AK25: =Conf!AN68 | ... AV25: =Conf!AY68
B26: 1 | C26: =VLOOKUP($B26,Conf!$DS$4:$DV$35,2,0) -> Sebastian VETTEL | D26: =VLOOKUP($B26,Conf!$DS$4:$DV$35,4,0) -> 0 | G26: =Conf!H17 -> Kevin MAGNUSSEN | H26: =IF($G26="","",VLOOKUP($G26,Conf!$H$4:$DE$35,ESTADISTICAS!H$10,0)) -> 0 | I26: =IF($G26="","",VLOOKUP($G26,Conf!$H$4:$DE$35,ESTADISTICAS!I$10,0)) -> 0 | J26: =IF($G26="","",VLOOKUP($G26,Conf!$H$4:$DE$35,ESTADISTICAS!J$10,0)) -> 0 | K26: =IF($G26="","",VLOOKUP($G26,Conf!$H$4:$DE$35,ESTADISTICAS!K$10,0)) -> 0 | L26: =IF($G26="","",VLOOKUP($G26,Conf!$H$4:$DE$35,ESTADISTICAS!L$10,0)) -> 0 | M26: =IF($G26="","",VLOOKUP($G26,Conf!$H$4:$DE$35,ESTADISTICAS!M$10,0)) -> 0 | N26: =IF($G26="","",VLOOKUP($G26,Conf!$H$4:$DE$35,ESTADISTICAS!N$10,0)) -> 0 | O26: =IF($G26="","",VLOOKUP($G26,Conf!$H$4:$DE$35,ESTADISTICAS!O$10,0)) -> 0 | ... R26: =IF($G26="","",VLOOKUP($G26,Conf!$H$4:$DE$35,ESTADISTICAS!R$10,0)) -> 0 | S26: =IF(G26="","",H26+I26+J26) -> 0 | T26: =IF(G26="","",Conf!$B$42-SUM(H26:Q26)) -> 0 | U26: =IF(G26="","",CONCATENATE("(",Conf!$B$42,")")) -> (0) | Z26: =IF($G26="","",VLOOKUP($G26,Conf!$H$56:$M$87,3,0)) -> 0 | AA26: =IF($G26="","",VLOOKUP($G26,Conf!$H$56:$M$87,4,0)) -> 0 | AB26: =IF($G26="","",VLOOKUP($G26,Conf!$H$56:$M$87,5,0)) -> 0 | AC26: =IF($G26="","",VLOOKUP($G26,Conf!$H$56:$M$87,6,0)) -> 0 | AD26: =Conf!AG69 | AE26: =Conf!AH69 | AF26: =Conf!AI69 | AG26: =Conf!AJ69 | AH26: =Conf!AK69 | AI26: =Conf!AL69 | AJ26: =Conf!AM69 | AK26: =Conf!AN69 | ... AV26: =Conf!AY69
B27: =B26+1 -> 2 | C27: =VLOOKUP($B27,Conf!$DS$4:$DV$35,2,0) -> Daniel RICCIARDO | D27: =VLOOKUP($B27,Conf!$DS$4:$DV$35,4,0) -> 0 | G27: =Conf!H18 -> Esteban GUTIERREZ | H27: =IF($G27="","",VLOOKUP($G27,Conf!$H$4:$DE$35,ESTADISTICAS!H$10,0)) -> 0 | I27: =IF($G27="","",VLOOKUP($G27,Conf!$H$4:$DE$35,ESTADISTICAS!I$10,0)) -> 0 | J27: =IF($G27="","",VLOOKUP($G27,Conf!$H$4:$DE$35,ESTADISTICAS!J$10,0)) -> 0 | K27: =IF($G27="","",VLOOKUP($G27,Conf!$H$4:$DE$35,ESTADISTICAS!K$10,0)) -> 0 | L27: =IF($G27="","",VLOOKUP($G27,Conf!$H$4:$DE$35,ESTADISTICAS!L$10,0)) -> 0 | M27: =IF($G27="","",VLOOKUP($G27,Conf!$H$4:$DE$35,ESTADISTICAS!M$10,0)) -> 0 | N27: =IF($G27="","",VLOOKUP($G27,Conf!$H$4:$DE$35,ESTADISTICAS!N$10,0)) -> 0 | O27: =IF($G27="","",VLOOKUP($G27,Conf!$H$4:$DE$35,ESTADISTICAS!O$10,0)) -> 0 | ... R27: =IF($G27="","",VLOOKUP($G27,Conf!$H$4:$DE$35,ESTADISTICAS!R$10,0)) -> 0 | S27: =IF(G27="","",H27+I27+J27) -> 0 | T27: =IF(G27="","",Conf!$B$42-SUM(H27:Q27)) -> 0 | U27: =IF(G27="","",CONCATENATE("(",Conf!$B$42,")")) -> (0) | Z27: =IF($G27="","",VLOOKUP($G27,Conf!$H$56:$M$87,3,0)) -> 0 | AA27: =IF($G27="","",VLOOKUP($G27,Conf!$H$56:$M$87,4,0)) -> 0 | AB27: =IF($G27="","",VLOOKUP($G27,Conf!$H$56:$M$87,5,0)) -> 0 | AC27: =IF($G27="","",VLOOKUP($G27,Conf!$H$56:$M$87,6,0)) -> 0 | AD27: =Conf!AG70 | AE27: =Conf!AH70 | AF27: =Conf!AI70 | AG27: =Conf!AJ70 | AH27: =Conf!AK70 | AI27: =Conf!AL70 | AJ27: =Conf!AM70 | AK27: =Conf!AN70 | ... AV27: =Conf!AY70
B28: =B27+1 -> 3 | C28: =VLOOKUP($B28,Conf!$DS$4:$DV$35,2,0) -> Max CHILTON | D28: =VLOOKUP($B28,Conf!$DS$4:$DV$35,4,0) -> 0 | G28: =Conf!H19 -> Jenson BUTTON | H28: =IF($G28="","",VLOOKUP($G28,Conf!$H$4:$DE$35,ESTADISTICAS!H$10,0)) -> 0 | I28: =IF($G28="","",VLOOKUP($G28,Conf!$H$4:$DE$35,ESTADISTICAS!I$10,0)) -> 0 | J28: =IF($G28="","",VLOOKUP($G28,Conf!$H$4:$DE$35,ESTADISTICAS!J$10,0)) -> 0 | K28: =IF($G28="","",VLOOKUP($G28,Conf!$H$4:$DE$35,ESTADISTICAS!K$10,0)) -> 0 | L28: =IF($G28="","",VLOOKUP($G28,Conf!$H$4:$DE$35,ESTADISTICAS!L$10,0)) -> 0 | M28: =IF($G28="","",VLOOKUP($G28,Conf!$H$4:$DE$35,ESTADISTICAS!M$10,0)) -> 0 | N28: =IF($G28="","",VLOOKUP($G28,Conf!$H$4:$DE$35,ESTADISTICAS!N$10,0)) -> 0 | O28: =IF($G28="","",VLOOKUP($G28,Conf!$H$4:$DE$35,ESTADISTICAS!O$10,0)) -> 0 | ... R28: =IF($G28="","",VLOOKUP($G28,Conf!$H$4:$DE$35,ESTADISTICAS!R$10,0)) -> 0 | S28: =IF(G28="","",H28+I28+J28) -> 0 | T28: =IF(G28="","",Conf!$B$42-SUM(H28:Q28)) -> 0 | U28: =IF(G28="","",CONCATENATE("(",Conf!$B$42,")")) -> (0) | Z28: =IF($G28="","",VLOOKUP($G28,Conf!$H$56:$M$87,3,0)) -> 0 | AA28: =IF($G28="","",VLOOKUP($G28,Conf!$H$56:$M$87,4,0)) -> 0 | AB28: =IF($G28="","",VLOOKUP($G28,Conf!$H$56:$M$87,5,0)) -> 0 | AC28: =IF($G28="","",VLOOKUP($G28,Conf!$H$56:$M$87,6,0)) -> 0 | AD28: =Conf!AG71 | AE28: =Conf!AH71 | AF28: =Conf!AI71 | AG28: =Conf!AJ71 | AH28: =Conf!AK71 | AI28: =Conf!AL71 | AJ28: =Conf!AM71 | AK28: =Conf!AN71 | ... AV28: =Conf!AY71
B29: =B28+1 -> 4 | C29: =VLOOKUP($B29,Conf!$DS$4:$DV$35,2,0) -> Nico ROSBERG | D29: =VLOOKUP($B29,Conf!$DS$4:$DV$35,4,0) -> 0 | G29: =Conf!H20 -> Jean-Eric VERGNE | H29: =IF($G29="","",VLOOKUP($G29,Conf!$H$4:$DE$35,ESTADISTICAS!H$10,0)) -> 0 | I29: =IF($G29="","",VLOOKUP($G29,Conf!$H$4:$DE$35,ESTADISTICAS!I$10,0)) -> 0 | J29: =IF($G29="","",VLOOKUP($G29,Conf!$H$4:$DE$35,ESTADISTICAS!J$10,0)) -> 0 | K29: =IF($G29="","",VLOOKUP($G29,Conf!$H$4:$DE$35,ESTADISTICAS!K$10,0)) -> 0 | L29: =IF($G29="","",VLOOKUP($G29,Conf!$H$4:$DE$35,ESTADISTICAS!L$10,0)) -> 0 | M29: =IF($G29="","",VLOOKUP($G29,Conf!$H$4:$DE$35,ESTADISTICAS!M$10,0)) -> 0 | N29: =IF($G29="","",VLOOKUP($G29,Conf!$H$4:$DE$35,ESTADISTICAS!N$10,0)) -> 0 | O29: =IF($G29="","",VLOOKUP($G29,Conf!$H$4:$DE$35,ESTADISTICAS!O$10,0)) -> 0 | ... R29: =IF($G29="","",VLOOKUP($G29,Conf!$H$4:$DE$35,ESTADISTICAS!R$10,0)) -> 0 | S29: =IF(G29="","",H29+I29+J29) -> 0 | T29: =IF(G29="","",Conf!$B$42-SUM(H29:Q29)) -> 0 | U29: =IF(G29="","",CONCATENATE("(",Conf!$B$42,")")) -> (0) | Z29: =IF($G29="","",VLOOKUP($G29,Conf!$H$56:$M$87,3,0)) -> 0 | AA29: =IF($G29="","",VLOOKUP($G29,Conf!$H$56:$M$87,4,0)) -> 0 | AB29: =IF($G29="","",VLOOKUP($G29,Conf!$H$56:$M$87,5,0)) -> 0 | AC29: =IF($G29="","",VLOOKUP($G29,Conf!$H$56:$M$87,6,0)) -> 0 | AD29: =Conf!AG72 | AE29: =Conf!AH72 | AF29: =Conf!AI72 | AG29: =Conf!AJ72 | AH29: =Conf!AK72 | AI29: =Conf!AL72 | AJ29: =Conf!AM72 | AK29: =Conf!AN72 | ... AV29: =Conf!AY72
B30: =B29+1 -> 5 | C30: =VLOOKUP($B30,Conf!$DS$4:$DV$35,2,0) -> Kimi RAIKKONEN | D30: =VLOOKUP($B30,Conf!$DS$4:$DV$35,4,0) -> 0 | G30: =Conf!H21 -> Daniil KVYAT | H30: =IF($G30="","",VLOOKUP($G30,Conf!$H$4:$DE$35,ESTADISTICAS!H$10,0)) -> 0 | I30: =IF($G30="","",VLOOKUP($G30,Conf!$H$4:$DE$35,ESTADISTICAS!I$10,0)) -> 0 | J30: =IF($G30="","",VLOOKUP($G30,Conf!$H$4:$DE$35,ESTADISTICAS!J$10,0)) -> 0 | K30: =IF($G30="","",VLOOKUP($G30,Conf!$H$4:$DE$35,ESTADISTICAS!K$10,0)) -> 0 | L30: =IF($G30="","",VLOOKUP($G30,Conf!$H$4:$DE$35,ESTADISTICAS!L$10,0)) -> 0 | M30: =IF($G30="","",VLOOKUP($G30,Conf!$H$4:$DE$35,ESTADISTICAS!M$10,0)) -> 0 | N30: =IF($G30="","",VLOOKUP($G30,Conf!$H$4:$DE$35,ESTADISTICAS!N$10,0)) -> 0 | O30: =IF($G30="","",VLOOKUP($G30,Conf!$H$4:$DE$35,ESTADISTICAS!O$10,0)) -> 0 | ... R30: =IF($G30="","",VLOOKUP($G30,Conf!$H$4:$DE$35,ESTADISTICAS!R$10,0)) -> 0 | S30: =IF(G30="","",H30+I30+J30) -> 0 | T30: =IF(G30="","",Conf!$B$42-SUM(H30:Q30)) -> 0 | U30: =IF(G30="","",CONCATENATE("(",Conf!$B$42,")")) -> (0) | Z30: =IF($G30="","",VLOOKUP($G30,Conf!$H$56:$M$87,3,0)) -> 0 | AA30: =IF($G30="","",VLOOKUP($G30,Conf!$H$56:$M$87,4,0)) -> 0 | AB30: =IF($G30="","",VLOOKUP($G30,Conf!$H$56:$M$87,5,0)) -> 0 | AC30: =IF($G30="","",VLOOKUP($G30,Conf!$H$56:$M$87,6,0)) -> 0 | AD30: =Conf!AG73 | AE30: =Conf!AH73 | AF30: =Conf!AI73 | AG30: =Conf!AJ73 | AH30: =Conf!AK73 | AI30: =Conf!AL73 | AJ30: =Conf!AM73 | AK30: =Conf!AN73 | ... AV30: =Conf!AY73
G31: =Conf!H22 -> Nico HULKENBERG | H31: =IF($G31="","",VLOOKUP($G31,Conf!$H$4:$DE$35,ESTADISTICAS!H$10,0)) -> 0 | I31: =IF($G31="","",VLOOKUP($G31,Conf!$H$4:$DE$35,ESTADISTICAS!I$10,0)) -> 0 | J31: =IF($G31="","",VLOOKUP($G31,Conf!$H$4:$DE$35,ESTADISTICAS!J$10,0)) -> 0 | K31: =IF($G31="","",VLOOKUP($G31,Conf!$H$4:$DE$35,ESTADISTICAS!K$10,0)) -> 0 | L31: =IF($G31="","",VLOOKUP($G31,Conf!$H$4:$DE$35,ESTADISTICAS!L$10,0)) -> 0 | M31: =IF($G31="","",VLOOKUP($G31,Conf!$H$4:$DE$35,ESTADISTICAS!M$10,0)) -> 0 | N31: =IF($G31="","",VLOOKUP($G31,Conf!$H$4:$DE$35,ESTADISTICAS!N$10,0)) -> 0 | O31: =IF($G31="","",VLOOKUP($G31,Conf!$H$4:$DE$35,ESTADISTICAS!O$10,0)) -> 0 | ... R31: =IF($G31="","",VLOOKUP($G31,Conf!$H$4:$DE$35,ESTADISTICAS!R$10,0)) -> 0 | S31: =IF(G31="","",H31+I31+J31) -> 0 | T31: =IF(G31="","",Conf!$B$42-SUM(H31:Q31)) -> 0 | U31: =IF(G31="","",CONCATENATE("(",Conf!$B$42,")")) -> (0) | Z31: =IF($G31="","",VLOOKUP($G31,Conf!$H$56:$M$87,3,0)) -> 0 | AA31: =IF($G31="","",VLOOKUP($G31,Conf!$H$56:$M$87,4,0)) -> 0 | AB31: =IF($G31="","",VLOOKUP($G31,Conf!$H$56:$M$87,5,0)) -> 0 | AC31: =IF($G31="","",VLOOKUP($G31,Conf!$H$56:$M$87,6,0)) -> 0 | AD31: =Conf!AG74 | AE31: =Conf!AH74 | AF31: =Conf!AI74 | AG31: =Conf!AJ74 | AH31: =Conf!AK74 | AI31: =Conf!AL74 | AJ31: =Conf!AM74 | AK31: =Conf!AN74 | ... AV31: =Conf!AY74
B32: PILOTO CON MÁS CARRERAS EN PUNTOS | G32: =Conf!H23 -> Lewis HAMILTON | H32: =IF($G32="","",VLOOKUP($G32,Conf!$H$4:$DE$35,ESTADISTICAS!H$10,0)) -> 0 | I32: =IF($G32="","",VLOOKUP($G32,Conf!$H$4:$DE$35,ESTADISTICAS!I$10,0)) -> 0 | J32: =IF($G32="","",VLOOKUP($G32,Conf!$H$4:$DE$35,ESTADISTICAS!J$10,0)) -> 0 | K32: =IF($G32="","",VLOOKUP($G32,Conf!$H$4:$DE$35,ESTADISTICAS!K$10,0)) -> 0 | L32: =IF($G32="","",VLOOKUP($G32,Conf!$H$4:$DE$35,ESTADISTICAS!L$10,0)) -> 0 | M32: =IF($G32="","",VLOOKUP($G32,Conf!$H$4:$DE$35,ESTADISTICAS!M$10,0)) -> 0 | N32: =IF($G32="","",VLOOKUP($G32,Conf!$H$4:$DE$35,ESTADISTICAS!N$10,0)) -> 0 | O32: =IF($G32="","",VLOOKUP($G32,Conf!$H$4:$DE$35,ESTADISTICAS!O$10,0)) -> 0 | ... R32: =IF($G32="","",VLOOKUP($G32,Conf!$H$4:$DE$35,ESTADISTICAS!R$10,0)) -> 0 | S32: =IF(G32="","",H32+I32+J32) -> 0 | T32: =IF(G32="","",Conf!$B$42-SUM(H32:Q32)) -> 0 | U32: =IF(G32="","",CONCATENATE("(",Conf!$B$42,")")) -> (0) | Z32: =IF($G32="","",VLOOKUP($G32,Conf!$H$56:$M$87,3,0)) -> 0 | AA32: =IF($G32="","",VLOOKUP($G32,Conf!$H$56:$M$87,4,0)) -> 0 | AB32: =IF($G32="","",VLOOKUP($G32,Conf!$H$56:$M$87,5,0)) -> 0 | AC32: =IF($G32="","",VLOOKUP($G32,Conf!$H$56:$M$87,6,0)) -> 0 | AD32: =Conf!AG75 | AE32: =Conf!AH75 | AF32: =Conf!AI75 | AG32: =Conf!AJ75 | AH32: =Conf!AK75 | AI32: =Conf!AL75 | AJ32: =Conf!AM75 | AK32: =Conf!AN75 | ... AV32: =Conf!AY75
B33: 1 | C33: =VLOOKUP($B33,Conf!$DY$4:$EB$35,2,0) -> Sebastian VETTEL | D33: =VLOOKUP($B33,Conf!$DY$4:$EB$35,4,0) -> 0 | G33: =Conf!H24 -> Valtteri BOTTAS | H33: =IF($G33="","",VLOOKUP($G33,Conf!$H$4:$DE$35,ESTADISTICAS!H$10,0)) -> 0 | I33: =IF($G33="","",VLOOKUP($G33,Conf!$H$4:$DE$35,ESTADISTICAS!I$10,0)) -> 0 | J33: =IF($G33="","",VLOOKUP($G33,Conf!$H$4:$DE$35,ESTADISTICAS!J$10,0)) -> 0 | K33: =IF($G33="","",VLOOKUP($G33,Conf!$H$4:$DE$35,ESTADISTICAS!K$10,0)) -> 0 | L33: =IF($G33="","",VLOOKUP($G33,Conf!$H$4:$DE$35,ESTADISTICAS!L$10,0)) -> 0 | M33: =IF($G33="","",VLOOKUP($G33,Conf!$H$4:$DE$35,ESTADISTICAS!M$10,0)) -> 0 | N33: =IF($G33="","",VLOOKUP($G33,Conf!$H$4:$DE$35,ESTADISTICAS!N$10,0)) -> 0 | O33: =IF($G33="","",VLOOKUP($G33,Conf!$H$4:$DE$35,ESTADISTICAS!O$10,0)) -> 0 | ... R33: =IF($G33="","",VLOOKUP($G33,Conf!$H$4:$DE$35,ESTADISTICAS!R$10,0)) -> 0 | S33: =IF(G33="","",H33+I33+J33) -> 0 | T33: =IF(G33="","",Conf!$B$42-SUM(H33:Q33)) -> 0 | U33: =IF(G33="","",CONCATENATE("(",Conf!$B$42,")")) -> (0) | Z33: =IF($G33="","",VLOOKUP($G33,Conf!$H$56:$M$87,3,0)) -> 0 | AA33: =IF($G33="","",VLOOKUP($G33,Conf!$H$56:$M$87,4,0)) -> 0 | AB33: =IF($G33="","",VLOOKUP($G33,Conf!$H$56:$M$87,5,0)) -> 0 | AC33: =IF($G33="","",VLOOKUP($G33,Conf!$H$56:$M$87,6,0)) -> 0 | AD33: =Conf!AG76 | AE33: =Conf!AH76 | AF33: =Conf!AI76 | AG33: =Conf!AJ76 | AH33: =Conf!AK76 | AI33: =Conf!AL76 | AJ33: =Conf!AM76 | AK33: =Conf!AN76 | ... AV33: =Conf!AY76
B34: =B33+1 -> 2 | C34: =VLOOKUP($B34,Conf!$DY$4:$EB$35,2,0) -> Daniel RICCIARDO | D34: =VLOOKUP($B34,Conf!$DY$4:$EB$35,4,0) -> 0 | G34: =Conf!H25 -> Adrian SUTIL | H34: =IF($G34="","",VLOOKUP($G34,Conf!$H$4:$DE$35,ESTADISTICAS!H$10,0)) -> 0 | I34: =IF($G34="","",VLOOKUP($G34,Conf!$H$4:$DE$35,ESTADISTICAS!I$10,0)) -> 0 | J34: =IF($G34="","",VLOOKUP($G34,Conf!$H$4:$DE$35,ESTADISTICAS!J$10,0)) -> 0 | K34: =IF($G34="","",VLOOKUP($G34,Conf!$H$4:$DE$35,ESTADISTICAS!K$10,0)) -> 0 | L34: =IF($G34="","",VLOOKUP($G34,Conf!$H$4:$DE$35,ESTADISTICAS!L$10,0)) -> 0 | M34: =IF($G34="","",VLOOKUP($G34,Conf!$H$4:$DE$35,ESTADISTICAS!M$10,0)) -> 0 | N34: =IF($G34="","",VLOOKUP($G34,Conf!$H$4:$DE$35,ESTADISTICAS!N$10,0)) -> 0 | O34: =IF($G34="","",VLOOKUP($G34,Conf!$H$4:$DE$35,ESTADISTICAS!O$10,0)) -> 0 | ... R34: =IF($G34="","",VLOOKUP($G34,Conf!$H$4:$DE$35,ESTADISTICAS!R$10,0)) -> 0 | S34: =IF(G34="","",H34+I34+J34) -> 0 | T34: =IF(G34="","",Conf!$B$42-SUM(H34:Q34)) -> 0 | U34: =IF(G34="","",CONCATENATE("(",Conf!$B$42,")")) -> (0) | Z34: =IF($G34="","",VLOOKUP($G34,Conf!$H$56:$M$87,3,0)) -> 0 | AA34: =IF($G34="","",VLOOKUP($G34,Conf!$H$56:$M$87,4,0)) -> 0 | AB34: =IF($G34="","",VLOOKUP($G34,Conf!$H$56:$M$87,5,0)) -> 0 | AC34: =IF($G34="","",VLOOKUP($G34,Conf!$H$56:$M$87,6,0)) -> 0 | AD34: =Conf!AG77 | AE34: =Conf!AH77 | AF34: =Conf!AI77 | AG34: =Conf!AJ77 | AH34: =Conf!AK77 | AI34: =Conf!AL77 | AJ34: =Conf!AM77 | AK34: =Conf!AN77 | ... AV34: =Conf!AY77
B35: =B34+1 -> 3 | C35: =VLOOKUP($B35,Conf!$DY$4:$EB$35,2,0) -> Max CHILTON | D35: =VLOOKUP($B35,Conf!$DY$4:$EB$35,4,0) -> 0 | G35: =Conf!H26 | H35: =IF($G35="","",VLOOKUP($G35,Conf!$H$4:$DE$35,ESTADISTICAS!H$10,0)) | I35: =IF($G35="","",VLOOKUP($G35,Conf!$H$4:$DE$35,ESTADISTICAS!I$10,0)) | J35: =IF($G35="","",VLOOKUP($G35,Conf!$H$4:$DE$35,ESTADISTICAS!J$10,0)) | K35: =IF($G35="","",VLOOKUP($G35,Conf!$H$4:$DE$35,ESTADISTICAS!K$10,0)) | L35: =IF($G35="","",VLOOKUP($G35,Conf!$H$4:$DE$35,ESTADISTICAS!L$10,0)) | M35: =IF($G35="","",VLOOKUP($G35,Conf!$H$4:$DE$35,ESTADISTICAS!M$10,0)) | N35: =IF($G35="","",VLOOKUP($G35,Conf!$H$4:$DE$35,ESTADISTICAS!N$10,0)) | O35: =IF($G35="","",VLOOKUP($G35,Conf!$H$4:$DE$35,ESTADISTICAS!O$10,0)) | ... R35: =IF($G35="","",VLOOKUP($G35,Conf!$H$4:$DE$35,ESTADISTICAS!R$10,0)) | S35: =IF(G35="","",H35+I35+J35) | T35: =IF(G35="","",Conf!$B$42-SUM(H35:Q35)) | U35: =IF(G35="","",CONCATENATE("(",Conf!$B$42,")")) | Z35: =IF($G35="","",VLOOKUP($G35,Conf!$H$56:$M$87,3,0)) | AA35: =IF($G35="","",VLOOKUP($G35,Conf!$H$56:$M$87,4,0)) | AB35: =IF($G35="","",VLOOKUP($G35,Conf!$H$56:$M$87,5,0)) | AC35: =IF($G35="","",VLOOKUP($G35,Conf!$H$56:$M$87,6,0)) | AD35: =Conf!AG78 | AE35: =Conf!AH78 | AF35: =Conf!AI78 | AG35: =Conf!AJ78 | AH35: =Conf!AK78 | AI35: =Conf!AL78 | AJ35: =Conf!AM78 | AK35: =Conf!AN78 | ... AV35: =Conf!AY78
B36: =B35+1 -> 4 | C36: =VLOOKUP($B36,Conf!$DY$4:$EB$35,2,0) -> Nico ROSBERG | D36: =VLOOKUP($B36,Conf!$DY$4:$EB$35,4,0) -> 0 | G36: =Conf!H27 | H36: =IF($G36="","",VLOOKUP($G36,Conf!$H$4:$DE$35,ESTADISTICAS!H$10,0)) | I36: =IF($G36="","",VLOOKUP($G36,Conf!$H$4:$DE$35,ESTADISTICAS!I$10,0)) | J36: =IF($G36="","",VLOOKUP($G36,Conf!$H$4:$DE$35,ESTADISTICAS!J$10,0)) | K36: =IF($G36="","",VLOOKUP($G36,Conf!$H$4:$DE$35,ESTADISTICAS!K$10,0)) | L36: =IF($G36="","",VLOOKUP($G36,Conf!$H$4:$DE$35,ESTADISTICAS!L$10,0)) | M36: =IF($G36="","",VLOOKUP($G36,Conf!$H$4:$DE$35,ESTADISTICAS!M$10,0)) | N36: =IF($G36="","",VLOOKUP($G36,Conf!$H$4:$DE$35,ESTADISTICAS!N$10,0)) | O36: =IF($G36="","",VLOOKUP($G36,Conf!$H$4:$DE$35,ESTADISTICAS!O$10,0)) | ... R36: =IF($G36="","",VLOOKUP($G36,Conf!$H$4:$DE$35,ESTADISTICAS!R$10,0)) | S36: =IF(G36="","",H36+I36+J36) | T36: =IF(G36="","",Conf!$B$42-SUM(H36:Q36)) | U36: =IF(G36="","",CONCATENATE("(",Conf!$B$42,")")) | Z36: =IF($G36="","",VLOOKUP($G36,Conf!$H$56:$M$87,3,0)) | AA36: =IF($G36="","",VLOOKUP($G36,Conf!$H$56:$M$87,4,0)) | AB36: =IF($G36="","",VLOOKUP($G36,Conf!$H$56:$M$87,5,0)) | AC36: =IF($G36="","",VLOOKUP($G36,Conf!$H$56:$M$87,6,0)) | AD36: =Conf!AG79 | AE36: =Conf!AH79 | AF36: =Conf!AI79 | AG36: =Conf!AJ79 | AH36: =Conf!AK79 | AI36: =Conf!AL79 | AJ36: =Conf!AM79 | AK36: =Conf!AN79 | ... AV36: =Conf!AY79
B37: =B36+1 -> 5 | C37: =VLOOKUP($B37,Conf!$DY$4:$EB$35,2,0) -> Kimi RAIKKONEN | D37: =VLOOKUP($B37,Conf!$DY$4:$EB$35,4,0) -> 0 | G37: =Conf!H28 | H37: =IF($G37="","",VLOOKUP($G37,Conf!$H$4:$DE$35,ESTADISTICAS!H$10,0)) | I37: =IF($G37="","",VLOOKUP($G37,Conf!$H$4:$DE$35,ESTADISTICAS!I$10,0)) | J37: =IF($G37="","",VLOOKUP($G37,Conf!$H$4:$DE$35,ESTADISTICAS!J$10,0)) | K37: =IF($G37="","",VLOOKUP($G37,Conf!$H$4:$DE$35,ESTADISTICAS!K$10,0)) | L37: =IF($G37="","",VLOOKUP($G37,Conf!$H$4:$DE$35,ESTADISTICAS!L$10,0)) | M37: =IF($G37="","",VLOOKUP($G37,Conf!$H$4:$DE$35,ESTADISTICAS!M$10,0)) | N37: =IF($G37="","",VLOOKUP($G37,Conf!$H$4:$DE$35,ESTADISTICAS!N$10,0)) | O37: =IF($G37="","",VLOOKUP($G37,Conf!$H$4:$DE$35,ESTADISTICAS!O$10,0)) | ... R37: =IF($G37="","",VLOOKUP($G37,Conf!$H$4:$DE$35,ESTADISTICAS!R$10,0)) | S37: =IF(G37="","",H37+I37+J37) | T37: =IF(G37="","",Conf!$B$42-SUM(H37:Q37)) | U37: =IF(G37="","",CONCATENATE("(",Conf!$B$42,")")) | Z37: =IF($G37="","",VLOOKUP($G37,Conf!$H$56:$M$87,3,0)) | AA37: =IF($G37="","",VLOOKUP($G37,Conf!$H$56:$M$87,4,0)) | AB37: =IF($G37="","",VLOOKUP($G37,Conf!$H$56:$M$87,5,0)) | AC37: =IF($G37="","",VLOOKUP($G37,Conf!$H$56:$M$87,6,0)) | AD37: =Conf!AG80 | AE37: =Conf!AH80 | AF37: =Conf!AI80 | AG37: =Conf!AJ80 | AH37: =Conf!AK80 | AI37: =Conf!AL80 | AJ37: =Conf!AM80 | AK37: =Conf!AN80 | ... AV37: =Conf!AY80
G38: =Conf!H29 | H38: =IF($G38="","",VLOOKUP($G38,Conf!$H$4:$DE$35,ESTADISTICAS!H$10,0)) | I38: =IF($G38="","",VLOOKUP($G38,Conf!$H$4:$DE$35,ESTADISTICAS!I$10,0)) | J38: =IF($G38="","",VLOOKUP($G38,Conf!$H$4:$DE$35,ESTADISTICAS!J$10,0)) | K38: =IF($G38="","",VLOOKUP($G38,Conf!$H$4:$DE$35,ESTADISTICAS!K$10,0)) | L38: =IF($G38="","",VLOOKUP($G38,Conf!$H$4:$DE$35,ESTADISTICAS!L$10,0)) | M38: =IF($G38="","",VLOOKUP($G38,Conf!$H$4:$DE$35,ESTADISTICAS!M$10,0)) | N38: =IF($G38="","",VLOOKUP($G38,Conf!$H$4:$DE$35,ESTADISTICAS!N$10,0)) | O38: =IF($G38="","",VLOOKUP($G38,Conf!$H$4:$DE$35,ESTADISTICAS!O$10,0)) | ... R38: =IF($G38="","",VLOOKUP($G38,Conf!$H$4:$DE$35,ESTADISTICAS!R$10,0)) | S38: =IF(G38="","",H38+I38+J38) | T38: =IF(G38="","",Conf!$B$42-SUM(H38:Q38)) | U38: =IF(G38="","",CONCATENATE("(",Conf!$B$42,")")) | Z38: =IF($G38="","",VLOOKUP($G38,Conf!$H$56:$M$87,3,0)) | AA38: =IF($G38="","",VLOOKUP($G38,Conf!$H$56:$M$87,4,0)) | AB38: =IF($G38="","",VLOOKUP($G38,Conf!$H$56:$M$87,5,0)) | AC38: =IF($G38="","",VLOOKUP($G38,Conf!$H$56:$M$87,6,0)) | AD38: =Conf!AG81 | AE38: =Conf!AH81 | AF38: =Conf!AI81 | AG38: =Conf!AJ81 | AH38: =Conf!AK81 | AI38: =Conf!AL81 | AJ38: =Conf!AM81 | AK38: =Conf!AN81 | ... AV38: =Conf!AY81
B39: ESCUDERÍA CON MÁS VICTORIAS | G39: =Conf!H30 | H39: =IF($G39="","",VLOOKUP($G39,Conf!$H$4:$DE$35,ESTADISTICAS!H$10,0)) | I39: =IF($G39="","",VLOOKUP($G39,Conf!$H$4:$DE$35,ESTADISTICAS!I$10,0)) | J39: =IF($G39="","",VLOOKUP($G39,Conf!$H$4:$DE$35,ESTADISTICAS!J$10,0)) | K39: =IF($G39="","",VLOOKUP($G39,Conf!$H$4:$DE$35,ESTADISTICAS!K$10,0)) | L39: =IF($G39="","",VLOOKUP($G39,Conf!$H$4:$DE$35,ESTADISTICAS!L$10,0)) | M39: =IF($G39="","",VLOOKUP($G39,Conf!$H$4:$DE$35,ESTADISTICAS!M$10,0)) | N39: =IF($G39="","",VLOOKUP($G39,Conf!$H$4:$DE$35,ESTADISTICAS!N$10,0)) | O39: =IF($G39="","",VLOOKUP($G39,Conf!$H$4:$DE$35,ESTADISTICAS!O$10,0)) | ... R39: =IF($G39="","",VLOOKUP($G39,Conf!$H$4:$DE$35,ESTADISTICAS!R$10,0)) | S39: =IF(G39="","",H39+I39+J39) | T39: =IF(G39="","",Conf!$B$42-SUM(H39:Q39)) | U39: =IF(G39="","",CONCATENATE("(",Conf!$B$42,")")) | Z39: =IF($G39="","",VLOOKUP($G39,Conf!$H$56:$M$87,3,0)) | AA39: =IF($G39="","",VLOOKUP($G39,Conf!$H$56:$M$87,4,0)) | AB39: =IF($G39="","",VLOOKUP($G39,Conf!$H$56:$M$87,5,0)) | AC39: =IF($G39="","",VLOOKUP($G39,Conf!$H$56:$M$87,6,0)) | AD39: =Conf!AG82 | AE39: =Conf!AH82 | AF39: =Conf!AI82 | AG39: =Conf!AJ82 | AH39: =Conf!AK82 | AI39: =Conf!AL82 | AJ39: =Conf!AM82 | AK39: =Conf!AN82 | ... AV39: =Conf!AY82
B40: 1 | C40: =VLOOKUP($B40,Conf!$DG$40:$DJ$52,2,0) -> Red Bull | D40: =VLOOKUP($B40,Conf!$DG$40:$DJ$52,4,0) -> 0 | G40: =Conf!H31 | H40: =IF($G40="","",VLOOKUP($G40,Conf!$H$4:$DE$35,ESTADISTICAS!H$10,0)) | I40: =IF($G40="","",VLOOKUP($G40,Conf!$H$4:$DE$35,ESTADISTICAS!I$10,0)) | J40: =IF($G40="","",VLOOKUP($G40,Conf!$H$4:$DE$35,ESTADISTICAS!J$10,0)) | K40: =IF($G40="","",VLOOKUP($G40,Conf!$H$4:$DE$35,ESTADISTICAS!K$10,0)) | L40: =IF($G40="","",VLOOKUP($G40,Conf!$H$4:$DE$35,ESTADISTICAS!L$10,0)) | M40: =IF($G40="","",VLOOKUP($G40,Conf!$H$4:$DE$35,ESTADISTICAS!M$10,0)) | N40: =IF($G40="","",VLOOKUP($G40,Conf!$H$4:$DE$35,ESTADISTICAS!N$10,0)) | O40: =IF($G40="","",VLOOKUP($G40,Conf!$H$4:$DE$35,ESTADISTICAS!O$10,0)) | ... R40: =IF($G40="","",VLOOKUP($G40,Conf!$H$4:$DE$35,ESTADISTICAS!R$10,0)) | S40: =IF(G40="","",H40+I40+J40) | T40: =IF(G40="","",Conf!$B$42-SUM(H40:Q40)) | U40: =IF(G40="","",CONCATENATE("(",Conf!$B$42,")")) | Z40: =IF($G40="","",VLOOKUP($G40,Conf!$H$56:$M$87,3,0)) | AA40: =IF($G40="","",VLOOKUP($G40,Conf!$H$56:$M$87,4,0)) | AB40: =IF($G40="","",VLOOKUP($G40,Conf!$H$56:$M$87,5,0)) | AC40: =IF($G40="","",VLOOKUP($G40,Conf!$H$56:$M$87,6,0)) | AD40: =Conf!AG83 | AE40: =Conf!AH83 | AF40: =Conf!AI83 | AG40: =Conf!AJ83 | AH40: =Conf!AK83 | AI40: =Conf!AL83 | AJ40: =Conf!AM83 | AK40: =Conf!AN83 | ... AV40: =Conf!AY83
B41: =B40+1 -> 2 | C41: =VLOOKUP($B41,Conf!$DG$40:$DJ$52,2,0) -> Mercedes | D41: =VLOOKUP($B41,Conf!$DG$40:$DJ$52,4,0) -> 0 | G41: =Conf!H32 | H41: =IF($G41="","",VLOOKUP($G41,Conf!$H$4:$DE$35,ESTADISTICAS!H$10,0)) | I41: =IF($G41="","",VLOOKUP($G41,Conf!$H$4:$DE$35,ESTADISTICAS!I$10,0)) | J41: =IF($G41="","",VLOOKUP($G41,Conf!$H$4:$DE$35,ESTADISTICAS!J$10,0)) | K41: =IF($G41="","",VLOOKUP($G41,Conf!$H$4:$DE$35,ESTADISTICAS!K$10,0)) | L41: =IF($G41="","",VLOOKUP($G41,Conf!$H$4:$DE$35,ESTADISTICAS!L$10,0)) | M41: =IF($G41="","",VLOOKUP($G41,Conf!$H$4:$DE$35,ESTADISTICAS!M$10,0)) | N41: =IF($G41="","",VLOOKUP($G41,Conf!$H$4:$DE$35,ESTADISTICAS!N$10,0)) | O41: =IF($G41="","",VLOOKUP($G41,Conf!$H$4:$DE$35,ESTADISTICAS!O$10,0)) | ... R41: =IF($G41="","",VLOOKUP($G41,Conf!$H$4:$DE$35,ESTADISTICAS!R$10,0)) | S41: =IF(G41="","",H41+I41+J41) | T41: =IF(G41="","",Conf!$B$42-SUM(H41:Q41)) | U41: =IF(G41="","",CONCATENATE("(",Conf!$B$42,")")) | Z41: =IF($G41="","",VLOOKUP($G41,Conf!$H$56:$M$87,3,0)) | AA41: =IF($G41="","",VLOOKUP($G41,Conf!$H$56:$M$87,4,0)) | AB41: =IF($G41="","",VLOOKUP($G41,Conf!$H$56:$M$87,5,0)) | AC41: =IF($G41="","",VLOOKUP($G41,Conf!$H$56:$M$87,6,0)) | AD41: =Conf!AG84 | AE41: =Conf!AH84 | AF41: =Conf!AI84 | AG41: =Conf!AJ84 | AH41: =Conf!AK84 | AI41: =Conf!AL84 | AJ41: =Conf!AM84 | AK41: =Conf!AN84 | ... AV41: =Conf!AY84
B42: =B41+1 -> 3 | C42: =VLOOKUP($B42,Conf!$DG$40:$DJ$52,2,0) -> Ferrari | D42: =VLOOKUP($B42,Conf!$DG$40:$DJ$52,4,0) -> 0 | G42: =Conf!H33 | H42: =IF($G42="","",VLOOKUP($G42,Conf!$H$4:$DE$35,ESTADISTICAS!H$10,0)) | I42: =IF($G42="","",VLOOKUP($G42,Conf!$H$4:$DE$35,ESTADISTICAS!I$10,0)) | J42: =IF($G42="","",VLOOKUP($G42,Conf!$H$4:$DE$35,ESTADISTICAS!J$10,0)) | K42: =IF($G42="","",VLOOKUP($G42,Conf!$H$4:$DE$35,ESTADISTICAS!K$10,0)) | L42: =IF($G42="","",VLOOKUP($G42,Conf!$H$4:$DE$35,ESTADISTICAS!L$10,0)) | M42: =IF($G42="","",VLOOKUP($G42,Conf!$H$4:$DE$35,ESTADISTICAS!M$10,0)) | N42: =IF($G42="","",VLOOKUP($G42,Conf!$H$4:$DE$35,ESTADISTICAS!N$10,0)) | O42: =IF($G42="","",VLOOKUP($G42,Conf!$H$4:$DE$35,ESTADISTICAS!O$10,0)) | ... R42: =IF($G42="","",VLOOKUP($G42,Conf!$H$4:$DE$35,ESTADISTICAS!R$10,0)) | S42: =IF(G42="","",H42+I42+J42) | T42: =IF(G42="","",Conf!$B$42-SUM(H42:Q42)) | U42: =IF(G42="","",CONCATENATE("(",Conf!$B$42,")")) | Z42: =IF($G42="","",VLOOKUP($G42,Conf!$H$56:$M$87,3,0)) | AA42: =IF($G42="","",VLOOKUP($G42,Conf!$H$56:$M$87,4,0)) | AB42: =IF($G42="","",VLOOKUP($G42,Conf!$H$56:$M$87,5,0)) | AC42: =IF($G42="","",VLOOKUP($G42,Conf!$H$56:$M$87,6,0)) | AD42: =Conf!AG85 | AE42: =Conf!AH85 | AF42: =Conf!AI85 | AG42: =Conf!AJ85 | AH42: =Conf!AK85 | AI42: =Conf!AL85 | AJ42: =Conf!AM85 | AK42: =Conf!AN85 | ... AV42: =Conf!AY85
B43: =B42+1 -> 4 | C43: =VLOOKUP($B43,Conf!$DG$40:$DJ$52,2,0) -> Lotus | D43: =VLOOKUP($B43,Conf!$DG$40:$DJ$52,4,0) -> 0 | G43: =Conf!H34 | H43: =IF($G43="","",VLOOKUP($G43,Conf!$H$4:$DE$35,ESTADISTICAS!H$10,0)) | I43: =IF($G43="","",VLOOKUP($G43,Conf!$H$4:$DE$35,ESTADISTICAS!I$10,0)) | J43: =IF($G43="","",VLOOKUP($G43,Conf!$H$4:$DE$35,ESTADISTICAS!J$10,0)) | K43: =IF($G43="","",VLOOKUP($G43,Conf!$H$4:$DE$35,ESTADISTICAS!K$10,0)) | L43: =IF($G43="","",VLOOKUP($G43,Conf!$H$4:$DE$35,ESTADISTICAS!L$10,0)) | M43: =IF($G43="","",VLOOKUP($G43,Conf!$H$4:$DE$35,ESTADISTICAS!M$10,0)) | N43: =IF($G43="","",VLOOKUP($G43,Conf!$H$4:$DE$35,ESTADISTICAS!N$10,0)) | O43: =IF($G43="","",VLOOKUP($G43,Conf!$H$4:$DE$35,ESTADISTICAS!O$10,0)) | ... R43: =IF($G43="","",VLOOKUP($G43,Conf!$H$4:$DE$35,ESTADISTICAS!R$10,0)) | S43: =IF(G43="","",H43+I43+J43) | T43: =IF(G43="","",Conf!$B$42-SUM(H43:Q43)) | U43: =IF(G43="","",CONCATENATE("(",Conf!$B$42,")")) | Z43: =IF($G43="","",VLOOKUP($G43,Conf!$H$56:$M$87,3,0)) | AA43: =IF($G43="","",VLOOKUP($G43,Conf!$H$56:$M$87,4,0)) | AB43: =IF($G43="","",VLOOKUP($G43,Conf!$H$56:$M$87,5,0)) | AC43: =IF($G43="","",VLOOKUP($G43,Conf!$H$56:$M$87,6,0)) | AD43: =Conf!AG86 | AE43: =Conf!AH86 | AF43: =Conf!AI86 | AG43: =Conf!AJ86 | AH43: =Conf!AK86 | AI43: =Conf!AL86 | AJ43: =Conf!AM86 | AK43: =Conf!AN86 | ... AV43: =Conf!AY86
B44: =B43+1 -> 5 | C44: =VLOOKUP($B44,Conf!$DG$40:$DJ$52,2,0) -> McLaren | D44: =VLOOKUP($B44,Conf!$DG$40:$DJ$52,4,0) -> 0 | G44: =Conf!H35 | H44: =IF($G44="","",VLOOKUP($G44,Conf!$H$4:$DE$35,ESTADISTICAS!H$10,0)) | I44: =IF($G44="","",VLOOKUP($G44,Conf!$H$4:$DE$35,ESTADISTICAS!I$10,0)) | J44: =IF($G44="","",VLOOKUP($G44,Conf!$H$4:$DE$35,ESTADISTICAS!J$10,0)) | K44: =IF($G44="","",VLOOKUP($G44,Conf!$H$4:$DE$35,ESTADISTICAS!K$10,0)) | L44: =IF($G44="","",VLOOKUP($G44,Conf!$H$4:$DE$35,ESTADISTICAS!L$10,0)) | M44: =IF($G44="","",VLOOKUP($G44,Conf!$H$4:$DE$35,ESTADISTICAS!M$10,0)) | N44: =IF($G44="","",VLOOKUP($G44,Conf!$H$4:$DE$35,ESTADISTICAS!N$10,0)) | O44: =IF($G44="","",VLOOKUP($G44,Conf!$H$4:$DE$35,ESTADISTICAS!O$10,0)) | ... R44: =IF($G44="","",VLOOKUP($G44,Conf!$H$4:$DE$35,ESTADISTICAS!R$10,0)) | S44: =IF(G44="","",H44+I44+J44) | T44: =IF(G44="","",Conf!$B$42-SUM(H44:Q44)) | U44: =IF(G44="","",CONCATENATE("(",Conf!$B$42,")")) | Z44: =IF($G44="","",VLOOKUP($G44,Conf!$H$56:$M$87,3,0)) | AA44: =IF($G44="","",VLOOKUP($G44,Conf!$H$56:$M$87,4,0)) | AB44: =IF($G44="","",VLOOKUP($G44,Conf!$H$56:$M$87,5,0)) | AC44: =IF($G44="","",VLOOKUP($G44,Conf!$H$56:$M$87,6,0)) | AD44: =Conf!AG87 | AE44: =Conf!AH87 | AF44: =Conf!AI87 | AG44: =Conf!AJ87 | AH44: =Conf!AK87 | AI44: =Conf!AL87 | AJ44: =Conf!AM87 | AK44: =Conf!AN87 | ... AV44: =Conf!AY87
I45: 64 | J45: 65 | K45: 66 | L45: 67 | M45: 68 | N45: 69 | O45: 70 | P45: 71 | Q45: 72 | R45: 73 | S45: 74 | T45: 75 | U45: 76 | V45: 77 | W45: 78 | X45: 79 | Y45: 80 | Z45: 81 | AA45: 82
I46: 45 | J46: 46 | K46: 47 | L46: 48 | M46: 49 | N46: 50 | O46: 51 | P46: 52 | Q46: 53 | R46: 54 | S46: 55 | T46: 56 | U46: 57 | V46: 58 | W46: 59 | X46: 60 | Y46: 61 | Z46: 62 | AA46: 63
B47: RESUMEN ESTADÍSTICO COMPLETO DE UN PILOTO CONCRETO
I48: =Conf!AG36 -> 1 | J48: =Conf!AH36 -> 1 | K48: =Conf!AI36 -> 1 | L48: =Conf!AJ36 -> 1 | M48: =Conf!AK36 -> 1 | N48: =Conf!AL36 -> 1 | O48: =Conf!AM36 -> 1 | P48: =Conf!AN36 -> 1 | ... AA48: =Conf!AY36 -> 1
I49: POSICIÓN EN TODOS LOS GRANDES PREMIOS DE LA TEMPORADA
I50: =IF(I61>Conf!$B$42,IFERROR(IF(I48=1,VLOOKUP(I60,$W$12:$Y$21,3,0),VLOOKUP(I60,$X$12:$Y$21,2)),""),IFERROR(IF(I48=1,VLOOKUP(I60,$W$12:$Y$21,3,0),VLOOKUP(I60,$X$12:$Y$21,2)),"S.P.")) | J50: =IF(J61>Conf!$B$42,IFERROR(IF(J48=1,VLOOKUP(J60,$W$12:$Y$21,3,0),VLOOKUP(J60,$X$12:$Y$21,2)),""),IFERROR(IF(J48=1,VLOOKUP(J60,$W$12:$Y$21,3,0),VLOOKUP(J60,$X$12:$Y$21,2)),"S.P.")) | K50: =IF(K61>Conf!$B$42,IFERROR(IF(K48=1,VLOOKUP(K60,$W$12:$Y$21,3,0),VLOOKUP(K60,$X$12:$Y$21,2)),""),IFERROR(IF(K48=1,VLOOKUP(K60,$W$12:$Y$21,3,0),VLOOKUP(K60,$X$12:$Y$21,2)),"S.P.")) | L50: =IF(L61>Conf!$B$42,IFERROR(IF(L48=1,VLOOKUP(L60,$W$12:$Y$21,3,0),VLOOKUP(L60,$X$12:$Y$21,2)),""),IFERROR(IF(L48=1,VLOOKUP(L60,$W$12:$Y$21,3,0),VLOOKUP(L60,$X$12:$Y$21,2)),"S.P.")) | M50: =IF(M61>Conf!$B$42,IFERROR(IF(M48=1,VLOOKUP(M60,$W$12:$Y$21,3,0),VLOOKUP(M60,$X$12:$Y$21,2)),""),IFERROR(IF(M48=1,VLOOKUP(M60,$W$12:$Y$21,3,0),VLOOKUP(M60,$X$12:$Y$21,2)),"S.P.")) | N50: =IF(N61>Conf!$B$42,IFERROR(IF(N48=1,VLOOKUP(N60,$W$12:$Y$21,3,0),VLOOKUP(N60,$X$12:$Y$21,2)),""),IFERROR(IF(N48=1,VLOOKUP(N60,$W$12:$Y$21,3,0),VLOOKUP(N60,$X$12:$Y$21,2)),"S.P.")) | O50: =IF(O61>Conf!$B$42,IFERROR(IF(O48=1,VLOOKUP(O60,$W$12:$Y$21,3,0),VLOOKUP(O60,$X$12:$Y$21,2)),""),IFERROR(IF(O48=1,VLOOKUP(O60,$W$12:$Y$21,3,0),VLOOKUP(O60,$X$12:$Y$21,2)),"S.P.")) | P50: =IF(P61>Conf!$B$42,IFERROR(IF(P48=1,VLOOKUP(P60,$W$12:$Y$21,3,0),VLOOKUP(P60,$X$12:$Y$21,2)),""),IFERROR(IF(P48=1,VLOOKUP(P60,$W$12:$Y$21,3,0),VLOOKUP(P60,$X$12:$Y$21,2)),"S.P.")) | ... AA50: =IF(AA61>Conf!$B$42,IFERROR(IF(AA48=1,VLOOKUP(AA60,$W$12:$Y$21,3,0),VLOOKUP(AA60,$X$12:$Y$21,2)),""),IFERROR(IF(AA48=1,VLOOKUP(AA60,$W$12:$Y$21,3,0),VLOOKUP(AA60,$X$12:$Y$21,2)),"S.P."))
I52: AUSTRALIA | J52: MALAYSIA | K52: BAHREIN | L52: CHINA | M52: ESPAÑA | N52: MONACO | O52: CANADA | P52: AUSTRIA | Q52: GRAN BRETAÑA | R52: ALEMANIA | S52: HUNGRIA | T52: BELGICA | U52: ITALIA | V52: SINGAPUR | W52: JAPON | X52: RUSIA | Y52: ESTADOS UNIDOS | Z52: BRASIL | AA52: ABU DHABI
B53: RESUMEN
B54: NÚMERO DE VICTORIAS | D54: =IFERROR(VLOOKUP($B$49,$G$13:$T$44,2,0),"")
B55: NÚMERO DE POLES | D55: =IFERROR(VLOOKUP($B$49,$G$13:$T$44,12,0),"")
B56: NÚMERO DE PODIOS | D56: =IFERROR(VLOOKUP($B$49,$G$13:$T$44,13,0),"")
B57: CARRERAS EN LOS PUNTOS | D57: =IFERROR(Conf!B42-VLOOKUP(ESTADISTICAS!B49,ESTADISTICAS!G13:T44,14,0),"")
C58: =VLOOKUP(B49,PILOTOS!D13:E44,2,0) -> #N/A | G58: POSICIÓN EN EL MUNDIAL | I58: =IFERROR(IF(I61<=Conf!$B$42,VLOOKUP(ESTADISTICAS!$B$49,Conf!$H$4:$DE$35,I45,0),""),"") | J58: =IFERROR(IF(J61<=Conf!$B$42,VLOOKUP(ESTADISTICAS!$B$49,Conf!$H$4:$DE$35,J45,0),""),"") | K58: =IFERROR(IF(K61<=Conf!$B$42,VLOOKUP(ESTADISTICAS!$B$49,Conf!$H$4:$DE$35,K45,0),""),"") | L58: =IFERROR(IF(L61<=Conf!$B$42,VLOOKUP(ESTADISTICAS!$B$49,Conf!$H$4:$DE$35,L45,0),""),"") | M58: =IFERROR(IF(M61<=Conf!$B$42,VLOOKUP(ESTADISTICAS!$B$49,Conf!$H$4:$DE$35,M45,0),""),"") | N58: =IFERROR(IF(N61<=Conf!$B$42,VLOOKUP(ESTADISTICAS!$B$49,Conf!$H$4:$DE$35,N45,0),""),"") | O58: =IFERROR(IF(O61<=Conf!$B$42,VLOOKUP(ESTADISTICAS!$B$49,Conf!$H$4:$DE$35,O45,0),""),"") | P58: =IFERROR(IF(P61<=Conf!$B$42,VLOOKUP(ESTADISTICAS!$B$49,Conf!$H$4:$DE$35,P45,0),""),"") | ... AA58: =IFERROR(IF(AA61<=Conf!$B$42,VLOOKUP(ESTADISTICAS!$B$49,Conf!$H$4:$DE$35,AA45,0),""),"")
C59: =IFERROR(C58,"") | G59: PUNTOS EN EL MUNDIAL | I59: =IFERROR(IF(I61<=Conf!$B$42,VLOOKUP(ESTADISTICAS!$B$49,Conf!$H$4:$DE$35,I46,0),""),"") | J59: =IFERROR(IF(J61<=Conf!$B$42,VLOOKUP(ESTADISTICAS!$B$49,Conf!$H$4:$DE$35,J46,0),""),"") | K59: =IFERROR(IF(K61<=Conf!$B$42,VLOOKUP(ESTADISTICAS!$B$49,Conf!$H$4:$DE$35,K46,0),""),"") | L59: =IFERROR(IF(L61<=Conf!$B$42,VLOOKUP(ESTADISTICAS!$B$49,Conf!$H$4:$DE$35,L46,0),""),"") | M59: =IFERROR(IF(M61<=Conf!$B$42,VLOOKUP(ESTADISTICAS!$B$49,Conf!$H$4:$DE$35,M46,0),""),"") | N59: =IFERROR(IF(N61<=Conf!$B$42,VLOOKUP(ESTADISTICAS!$B$49,Conf!$H$4:$DE$35,N46,0),""),"") | O59: =IFERROR(IF(O61<=Conf!$B$42,VLOOKUP(ESTADISTICAS!$B$49,Conf!$H$4:$DE$35,O46,0),""),"") | P59: =IFERROR(IF(P61<=Conf!$B$42,VLOOKUP(ESTADISTICAS!$B$49,Conf!$H$4:$DE$35,P46,0),""),"") | ... AA59: =IFERROR(IF(AA61<=Conf!$B$42,VLOOKUP(ESTADISTICAS!$B$49,Conf!$H$4:$DE$35,AA46,0),""),"")
I60: =VLOOKUP($B$49,Conf!$H$4:$DE$35,26,0) -> #N/A | J60: =VLOOKUP($B$49,Conf!$H$4:$DE$35,27,0) -> #N/A | K60: =VLOOKUP($B$49,Conf!$H$4:$DE$35,28,0) -> #N/A | L60: =VLOOKUP($B$49,Conf!$H$4:$DE$35,29,0) -> #N/A | M60: =VLOOKUP($B$49,Conf!$H$4:$DE$35,30,0) -> #N/A | N60: =VLOOKUP($B$49,Conf!$H$4:$DE$35,31,0) -> #N/A | O60: =VLOOKUP($B$49,Conf!$H$4:$DE$35,32,0) -> #N/A | P60: =VLOOKUP($B$49,Conf!$H$4:$DE$35,33,0) -> #N/A | Q60: =VLOOKUP($B$49,Conf!$H$4:$DE$35,34,0) -> #N/A | R60: =VLOOKUP($B$49,Conf!$H$4:$DE$35,35,0) -> #N/A | S60: =VLOOKUP($B$49,Conf!$H$4:$DE$35,36,0) -> #N/A | T60: =VLOOKUP($B$49,Conf!$H$4:$DE$35,37,0) -> #N/A | U60: =VLOOKUP($B$49,Conf!$H$4:$DE$35,38,0) -> #N/A | V60: =VLOOKUP($B$49,Conf!$H$4:$DE$35,39,0) -> #N/A | W60: =VLOOKUP($B$49,Conf!$H$4:$DE$35,40,0) -> #N/A | X60: =VLOOKUP($B$49,Conf!$H$4:$DE$35,41,0) -> #N/A | Y60: =VLOOKUP($B$49,Conf!$H$4:$DE$35,42,0) -> #N/A | Z60: =VLOOKUP($B$49,Conf!$H$4:$DE$35,43,0) -> #N/A | AA60: =VLOOKUP($B$49,Conf!$H$4:$DE$35,44,0) -> #N/A
I61: 1 | J61: 2 | K61: 3 | L61: 4 | M61: 5 | N61: 6 | O61: 7 | P61: 8 | Q61: 9 | R61: 10 | S61: 11 | T61: 12 | U61: 13 | V61: 14 | W61: 15 | X61: 16 | Y61: 17 | Z61: 18 | AA61: 19
I62: =IF(I50="",NA(),IF(I50="S.P.",11,I50)) -> #N/A | J62: =IF(J50="",NA(),IF(J50="S.P.",11,J50)) -> #N/A | K62: =IF(K50="",NA(),IF(K50="S.P.",11,K50)) -> #N/A | L62: =IF(L50="",NA(),IF(L50="S.P.",11,L50)) -> #N/A | M62: =IF(M50="",NA(),IF(M50="S.P.",11,M50)) -> #N/A | N62: =IF(N50="",NA(),IF(N50="S.P.",11,N50)) -> #N/A | O62: =IF(O50="",NA(),IF(O50="S.P.",11,O50)) -> #N/A | P62: =IF(P50="",NA(),IF(P50="S.P.",11,P50)) -> #N/A | ... AA62: =IF(AA50="",NA(),IF(AA50="S.P.",11,AA50)) -> #N/A
I63: =IF(I58="",NA(),I58) -> #N/A | J63: =IF(J58="",NA(),J58) -> #N/A | K63: =IF(K58="",NA(),K58) -> #N/A | L63: =IF(L58="",NA(),L58) -> #N/A | M63: =IF(M58="",NA(),M58) -> #N/A | N63: =IF(N58="",NA(),N58) -> #N/A | O63: =IF(O58="",NA(),O58) -> #N/A | P63: =IF(P58="",NA(),P58) -> #N/A | ... AA63: =IF(AA58="",NA(),AA58) -> #N/A
I64: =IF(I59="",NA(),I59) -> #N/A | J64: =IF(J59="",NA(),J59) -> #N/A | K64: =IF(K59="",NA(),K59) -> #N/A | L64: =IF(L59="",NA(),L59) -> #N/A | M64: =IF(M59="",NA(),M59) -> #N/A | N64: =IF(N59="",NA(),N59) -> #N/A | O64: =IF(O59="",NA(),O59) -> #N/A | P64: =IF(P59="",NA(),P59) -> #N/A | ... AA64: =IF(AA59="",NA(),AA59) -> #N/A
A80: CARRERAS PUNTUADAS RESPECTO DE LAS DISPUTADAS | G80: GRÁFICO POSICIONES POR GP (El 11 significa S.P. = sin puntos) | Q80: GRÁFICO DE POSICIONES (NEGRO) Y PUNTOS (ROJO) EN EL MUNDIAL
C81: Carreras en los puntos | D81: =D57
C82: Carreras fuera de los puntos | D82: =E82-D81 -> #VALUE! | E82: =Conf!B42 -> 0

Sheet img
B1: 1 | C1: 5 | D1: =IF(PILOTOS!D13="","",PILOTOS!D13) -> Sebastian VETTEL | E1: ="img!"&"A"&B1&":"&"A"&C1 -> img!A1:A5 | F1: =VLOOKUP(ESTADISTICAS!B49,D1:E23,2,0) -> img!A111:A115
B2: 6 | C2: =C1+5 -> 10 | D2: =IF(PILOTOS!D14="","",PILOTOS!D14) -> Daniel RICCIARDO | E2: ="img!"&"A"&B2&":"&"A"&C2 -> img!A6:A10
B3: =B2+5 -> 11 | C3: =C2+5 -> 15 | D3: =IF(PILOTOS!D15="","",PILOTOS!D15) -> Max CHILTON | E3: ="img!"&"A"&B3&":"&"A"&C3 -> img!A11:A15
B4: =B3+5 -> 16 | C4: =C3+5 -> 20 | D4: =IF(PILOTOS!D16="","",PILOTOS!D16) -> Nico ROSBERG | E4: ="img!"&"A"&B4&":"&"A"&C4 -> img!A16:A20
B5: =B4+5 -> 21 | C5: =C4+5 -> 25 | D5: =IF(PILOTOS!D17="","",PILOTOS!D17) -> Kimi RAIKKONEN | E5: ="img!"&"A"&B5&":"&"A"&C5 -> img!A21:A25
B6: =B5+5 -> 26 | C6: =C5+5 -> 30 | D6: =IF(PILOTOS!D18="","",PILOTOS!D18) -> Romain GROSJEAN | E6: ="img!"&"A"&B6&":"&"A"&C6 -> img!A26:A30
B7: =B6+5 -> 31 | C7: =C6+5 -> 35 | D7: =IF(PILOTOS!D19="","",PILOTOS!D19) -> Marcus ERICSSON | E7: ="img!"&"A"&B7&":"&"A"&C7 -> img!A31:A35
B8: =B7+5 -> 36 | C8: =C7+5 -> 40 | D8: =IF(PILOTOS!D20="","",PILOTOS!D20) -> Kamui KOBAYASHI | E8: ="img!"&"A"&B8&":"&"A"&C8 -> img!A36:A40
B9: =B8+5 -> 41 | C9: =C8+5 -> 45 | D9: =IF(PILOTOS!D21="","",PILOTOS!D21) -> Sergio PEREZ | E9: ="img!"&"A"&B9&":"&"A"&C9 -> img!A41:A45
B10: =B9+5 -> 46 | C10: =C9+5 -> 50 | D10: =IF(PILOTOS!D22="","",PILOTOS!D22) -> Pastor MALDONADO | E10: ="img!"&"A"&B10&":"&"A"&C10 -> img!A46:A50
B11: =B10+5 -> 51 | C11: =C10+5 -> 55 | D11: =IF(PILOTOS!D23="","",PILOTOS!D23) -> Fernando ALONSO | E11: ="img!"&"A"&B11&":"&"A"&C11 -> img!A51:A55
B12: =B11+5 -> 56 | C12: =C11+5 -> 60 | D12: =IF(PILOTOS!D24="","",PILOTOS!D24) -> Jules BIANCHI | E12: ="img!"&"A"&B12&":"&"A"&C12 -> img!A56:A60
B13: =B12+5 -> 61 | C13: =C12+5 -> 65 | D13: =IF(PILOTOS!D25="","",PILOTOS!D25) -> Felipe MASSA | E13: ="img!"&"A"&B13&":"&"A"&C13 -> img!A61:A65
B14: =B13+5 -> 66 | C14: =C13+5 -> 70 | D14: =IF(PILOTOS!D26="","",PILOTOS!D26) -> Kevin MAGNUSSEN | E14: ="img!"&"A"&B14&":"&"A"&C14 -> img!A66:A70
... B22: =B21+5 -> 106 | C22: =C21+5 -> 110 | D22: =IF(PILOTOS!D34="","",PILOTOS!D34) -> Adrian SUTIL | E22: ="img!"&"A"&B22&":"&"A"&C22 -> img!A106:A110
B23: =B22+5 -> 111 | C23: =C22+5 -> 115 | D23: 0 | E23: ="img!"&"A"&B23&":"&"A"&C23 -> img!A111:A115
B25: 116 | C25: 119 | D25: =IF(PILOTOS!G13="","",PILOTOS!G13) -> Red Bull | E25: ="img!"&"A"&B25&":"&"A"&C25 -> img!A116:A119 | F25: =VLOOKUP(ESTADISTICAS!$C$59,D25:E36,2,0) -> img!A160:A163
B26: =B25+4 -> 120 | C26: =C25+4 -> 123 | D26: =IF(PILOTOS!G14="","",PILOTOS!G14) -> Mercedes | E26: ="img!"&"A"&B26&":"&"A"&C26 -> img!A120:A123
B27: =B26+4 -> 124 | C27: =C26+4 -> 127 | D27: =IF(PILOTOS!G15="","",PILOTOS!G15) -> Ferrari | E27: ="img!"&"A"&B27&":"&"A"&C27 -> img!A124:A127
B28: =B27+4 -> 128 | C28: =C27+4 -> 131 | D28: =IF(PILOTOS!G16="","",PILOTOS!G16) -> Lotus | E28: ="img!"&"A"&B28&":"&"A"&C28 -> img!A128:A131
B29: =B28+4 -> 132 | C29: =C28+4 -> 135 | D29: =IF(PILOTOS!G17="","",PILOTOS!G17) -> McLaren | E29: ="img!"&"A"&B29&":"&"A"&C29 -> img!A132:A135
B30: =B29+4 -> 136 | C30: =C29+4 -> 139 | D30: =IF(PILOTOS!G18="","",PILOTOS!G18) -> Force India | E30: ="img!"&"A"&B30&":"&"A"&C30 -> img!A136:A139
B31: =B30+4 -> 140 | C31: =C30+4 -> 143 | D31: =IF(PILOTOS!G19="","",PILOTOS!G19) -> Sauber | E31: ="img!"&"A"&B31&":"&"A"&C31 -> img!A140:A143
B32: =B31+4 -> 144 | C32: =C31+4 -> 147 | D32: =IF(PILOTOS!G20="","",PILOTOS!G20) -> Toro Rosso | E32: ="img!"&"A"&B32&":"&"A"&C32 -> img!A144:A147
B33: =B32+4 -> 148 | C33: =C32+4 -> 151 | D33: =IF(PILOTOS!G21="","",PILOTOS!G21) -> Williams | E33: ="img!"&"A"&B33&":"&"A"&C33 -> img!A148:A151
B34: =B33+4 -> 152 | C34: =C33+4 -> 155 | D34: =IF(PILOTOS!G22="","",PILOTOS!G22) -> Marussia | E34: ="img!"&"A"&B34&":"&"A"&C34 -> img!A152:A155
B35: =B34+4 -> 156 | C35: =C34+4 -> 159 | D35: =IF(PILOTOS!G23="","",PILOTOS!G23) -> Caterham | E35: ="img!"&"A"&B35&":"&"A"&C35 -> img!A156:A159
B36: =B35+4 -> 160 | C36: =C35+4 -> 163 | D36: ="" | E36: ="img!"&"A"&B36&":"&"A"&C36 -> img!A160:A163

Sheet Conf
A1: # | B1: FECHA | C1: GRAN PREMIO | E1: =C2 -> GP AUSTRALIA | H1: 2 | I1: 3 | J1: 4 | K1: 5 | L1: 6 | M1: 7 | N1: 8 | O1: 9 | P1: 10 | Q1: 11 | R1: 12 | S1: 13 | T1: 14 | U1: 15 | V1: 16 | W1: 17 | X1: 18 | Y1: 19 | Z1: 20 | AA1: 21 | AB1: 22 | AC1: 23 | AD1: 24 | AE1: 25 | AF1: 26 | AG1: 27 | AH1: 28 | AI1: 29 | AJ1: 30 | AK1: 31 | AL1: 32 | AM1: 33 | AN1: 34 | AO1: 35 | AP1: 36 | AQ1: 37 | AR1: 38 | AS1: 39 | AT1: 40 | AU1: 41 | AV1: 42 | AW1: 43 | AX1: 44 | AY1: 45 | AZ1: 46 | BA1: 47 | BB1: 48 | BC1: 49 | BD1: 50 | BE1: 51 | BF1: 52 | BG1: 53 | BH1: 54 | BI1: 55 | BJ1: 56 | BK1: 57 | BL1: 58 | BM1: 59 | BN1: 60 | BO1: 61 | BP1: 62 | BQ1: 63 | BR1: 64 | BS1: 65 | BT1: 66 | BU1: 67 | BV1: 68 | BW1: 69 | BX1: 70 | BY1: 71 | BZ1: 72 | CA1: 73 | CB1: 74 | CC1: 75 | CD1: 76 | CE1: 77 | CF1: 78 | CG1: 79 | CH1: 80 | CI1: 81 | CJ1: 82 | CK1: 83 | CL1: 84 | CM1: 85 | CN1: 86 | CO1: 87 | CP1: 88 | CQ1: 89 | CR1: 90 | CS1: 91 | CT1: 92 | CU1: 93 | CV1: 94 | CW1: 95 | CX1: 96 | CY1: 97 | CZ1: 98 | DA1: 99 | DB1: 100 | DC1: 101 | DD1: 102 | DE1: 103
A2: 1 | B2: 14-16 Marzo | C2: GP AUSTRALIA | E2: =IF('1'!$D$19="","",'1'!$D$19) | G2: DATOS A MOSTRAR EN CLASIFICACION | K2: POSICIONES EN GP | U2: DESEMPATE POR POSICIÓN | AE2: DES. NÚM. | AG2: PUNTOS EN CADA GP DE LA TEMPORADA | AZ2: PUNTOS A LO LARGO DE LA TEMPORADA | BS2: POSICION GENERAL A LO LARGO DE LA TEMPORADA | CL2: POLES | CM2: POLES EN CADA GP DE LA TEMPORADA
A3: 2 | B3: 28-30 Marzo | C3: GP MALAYSIA | E3: =IF('1'!$D$20="","",'1'!$D$20) | G3: FINAL | H3: PILOTO | I3: ESCUDERIA | J3: PTOS | K3: 1º | L3: 2º | M3: 3º | N3: 4º | O3: 5º | P3: 6º | Q3: 7º | R3: 8º | S3: 9º | T3: 10º | U3: P1 | V3: P2 | W3: P3 | X3: P4 | Y3: P5 | Z3: P6 | AA3: P7 | AB3: P8 | AC3: P9 | AD3: P10 | AE3: Nº | AF3: D.Nº | AG3: 1 | AH3: 2 | AI3: 3 | AJ3: 4 | AK3: 5 | AL3: 6 | AM3: 7 | AN3: 8 | AO3: 9 | AP3: 10 | AQ3: 11 | AR3: 12 | AS3: 13 | AT3: 14 | AU3: 15 | AV3: 16 | AW3: 17 | AX3: 18 | AY3: 19 | AZ3: 1 | BA3: 2 | BB3: 3 | BC3: 4 | BD3: 5 | BE3: 6 | BF3: 7 | BG3: 8 | BH3: 9 | BI3: 10 | BJ3: 11 | BK3: 12 | BL3: 13 | BM3: 14 | BN3: 15 | BO3: 16 | BP3: 17 | BQ3: 18 | BR3: 19 | BS3: 1 | BT3: 2 | BU3: 3 | BV3: 4 | BW3: 5 | BX3: 6 | BY3: 7 | BZ3: 8 | CA3: 9 | CB3: 10 | CC3: 11 | CD3: 12 | CE3: 13 | CF3: 14 | CG3: 15 | CH3: 16 | CI3: 17 | CJ3: 18 | CK3: 19 | CM3: 1 | CN3: 2 | CO3: 3 | CP3: 4 | CQ3: 5 | CR3: 6 | CS3: 7 | CT3: 8 | CU3: 9 | CV3: 10 | CW3: 11 | CX3: 12 | CY3: 13 | CZ3: 14 | DA3: 15 | DB3: 16 | DC3: 17 | DD3: 18 | DE3: 19 | DG3: FINAL | DH3: PILOTO | DI3: JERARQ | DJ3: VICT | DK3: FACT | DM3: FINAL | DN3: PILOTO | DO3: JERARQ | DP3: POLES | DQ3: FACT | DS3: FINAL | DT3: PILOTO | DU3: JERARQ | DV3: PODIOS | DW3: FACT | DY3: FINAL | DZ3: PILOTO | EA3: JERARQ | EB3: CARR.PTOS | EC3: FACT
A4: 3 | B4: 4-6 Abril | C4: GP BAHRAIN | E4: =IF('1'!$D$21="","",'1'!$D$21) | G4: =IF(H4="","",RANK(J4,$J$4:$J$35,0)+SUM(U4:AD4)+AF4) -> 1 | H4: =IF(PILOTOS!D13="","",PILOTOS!D13) -> Sebastian VETTEL | I4: =IF(PILOTOS!E13="","",PILOTOS!E13) -> Red Bull | J4: =IF(H4="","",SUM(AG4:AY4)) -> 0 | K4: =IF(H4="","",COUNTIFS(AG4:AX4,25,$AG$36:$AX$36,1)+COUNTIFS(AG4:AX4,12.5,$AG$36:$AX$36,2))+IF(H4="","",COUNTIFS(AY4,50,$AY$36,1)+COUNTIFS(AY4,25,$AY$36,2)) -> 0 | L4: =IF(H4="","",COUNTIFS(AG4:AX4,18,$AG$36:$AX$36,1)+COUNTIFS(AG4:AX4,9,$AG$36:$AX$36,2))++IF(H4="","",COUNTIFS(AY4,36,$AY$36,1)+COUNTIFS(AY4,18,$AY$36,2)) -> 0 | M4: =IF(H4="","",COUNTIFS(AG4:AX4,15,$AG$36:$AX$36,1)+COUNTIFS(AG4:AX4,7.5,$AG$36:$AX$36,2))+IF(H4="","",COUNTIFS(AY4,30,$AY$36,1)+COUNTIFS(AY4,15,$AY$36,2)) -> 0 | N4: =IF(H4="","",COUNTIFS(AG4:AX4,12,$AG$36:$AX$36,1)+COUNTIFS(AG4:AX4,6,$AG$36:$AX$36,2))+IF(H4="","",COUNTIFS(AY4,24,$AY$36,1)+COUNTIFS(AY4,12,$AY$36,2)) -> 0 | O4: =IF(H4="","",COUNTIFS(AG4:AX4,10,$AG$36:$AX$36,1)+COUNTIFS(AG4:AX4,5,$AG$36:$AX$36,2))+IF(H4="","",COUNTIFS(AY4,20,$AY$36,1)+COUNTIFS(AY4,10,$AY$36,2)) -> 0 | P4: =IF(H4="","",COUNTIFS(AG4:AX4,8,$AG$36:$AX$36,1)+COUNTIFS(AG4:AX4,4,$AG$36:$AX$36,2))+IF(H4="","",COUNTIFS(AY4,16,$AY$36,1)+COUNTIFS(AY4,8,$AY$36,2)) -> 0 | Q4: =IF(H4="","",COUNTIFS(AG4:AX4,6,$AG$36:$AX$36,1)+COUNTIFS(AG4:AX4,3,$AG$36:$AX$36,2))+IF(H4="","",COUNTIFS(AY4,12,$AY$36,1)+COUNTIFS(AY4,6,$AY$36,2)) -> 0 | R4: =IF(H4="","",COUNTIFS(AG4:AX4,4,$AG$36:$AX$36,1)+COUNTIFS(AG4:AX4,2,$AG$36:$AX$36,2))+IF(H4="","",COUNTIFS(AY4,8,$AY$36,1)+COUNTIFS(AY4,4,$AY$36,2)) -> 0 | S4: =IF(H4="","",COUNTIFS(AG4:AX4,2,$AG$36:$AX$36,1)+COUNTIFS(AG4:AX4,1,$AG$36:$AX$36,2))+IF(H4="","",COUNTIFS(AY4,4,$AY$36,1)+COUNTIFS(AY4,2,$AY$36,2)) -> 0 | T4: =IF(H4="","",COUNTIFS(AG4:AX4,1,$AG$36:$AX$36,1)+COUNTIFS(AG4:AX4,0.5,$AG$36:$AX$36,2))+IF(H4="","",COUNTIFS(AY4,2,$AY$36,1)+COUNTIFS(AY4,1,$AY$36,2)) -> 0 | U4: =IF(H4="","",SUMPRODUCT(($J$4:$J$35=J4)*($K$4:$K$35>K4))) -> 0 | V4: =IF(H4="","",SUMPRODUCT(($J$4:$J$35=J4)*($K$4:$K$35=K4)*($L$4:$L$35>L4))) -> 0 | W4: =IF(H4="","",SUMPRODUCT(($J$4:$J$35=J4)*($K$4:$K$35=K4)*($L$4:$L$35=L4)*($M$4:$M$35>M4))) -> 0 | X4: =IF(H4="","",SUMPRODUCT(($J$4:$J$35=J4)*($K$4:$K$35=K4)*($L$4:$L$35=L4)*($M$4:$M$35=M4)*($N$4:$N$35>N4))) -> 0 | Y4: =IF(H4="","",SUMPRODUCT(($J$4:$J$35=J4)*($K$4:$K$35=K4)*($L$4:$L$35=L4)*($M$4:$M$35=M4)*($N$4:$N$35=N4)*($O$4:$O$35>O4))) -> 0 | Z4: =IF(H4="","",SUMPRODUCT(($J$4:$J$35=J4)*($K$4:$K$35=K4)*($L$4:$L$35=L4)*($M$4:$M$35=M4)*($N$4:$N$35=N4)*($O$4:$O$35=O4)*($P$4:$P$35>P4))) -> 0 | AA4: =IF(H4="","",SUMPRODUCT(($J$4:$J$35=J4)*($K$4:$K$35=K4)*($L$4:$L$35=L4)*($M$4:$M$35=M4)*($N$4:$N$35=N4)*($O$4:$O$35=O4)*($P$4:$P$35=P4)*($Q$4:$Q$35>Q4))) -> 0 | AB4: =IF(H4="","",SUMPRODUCT(($J$4:$J$35=J4)*($K$4:$K$35=K4)*($L$4:$L$35=L4)*($M$4:$M$35=M4)*($N$4:$N$35=N4)*($O$4:$O$35=O4)*($P$4:$P$35=P4)*($Q$4:$Q$35=Q4)*($R$4:$R$35>R4))) -> 0 | AC4: =IF(H4="","",SUMPRODUCT(($J$4:$J$35=J4)*($K$4:$K$35=K4)*($L$4:$L$35=L4)*($M$4:$M$35=M4)*($N$4:$N$35=N4)*($O$4:$O$35=O4)*($P$4:$P$35=P4)*($Q$4:$Q$35=Q4)*($R$4:$R$35=R4)*($S$4:$S$35>S4))) -> 0 | AD4: =IF(H4="","",SUMPRODUCT(($J$4:$J$35=J4)*($K$4:$K$35=K4)*($L$4:$L$35=L4)*($M$4:$M$35=M4)*($N$4:$N$35=N4)*($O$4:$O$35=O4)*($P$4:$P$35=P4)*($Q$4:$Q$35=Q4)*($R$4:$R$35=R4)*($S$4:$S$35=S4)*($T$4:$T$35>T4))) -> 0 | AE4: =IF(PILOTOS!C13="","",PILOTOS!C13) -> 1 | AF4: =IF(H4="","",SUMPRODUCT(($J$4:$J$35=J4)*($K$4:$K$35=K4)*($L$4:$L$35=L4)*($M$4:$M$35=M4)*($N$4:$N$35=N4)*($O$4:$O$35=O4)*($P$4:$P$35=P4)*($Q$4:$Q$35=Q4)*($R$4:$R$35=R4)*($S$4:$S$35=S4)*($T$4:$T$35=T4)*($AE$4:$AE$35<AE4))) -> 0 | AG4: =IF($H4="","",SUMIF('1'!$D$19:$D$28,Conf!$H4,'1'!$F$19:$F$28)) -> 0 | AH4: =IF($H4="","",SUMIF('2'!$D$19:$D$28,Conf!$H4,'2'!$F$19:$F$28)) -> 0 | AI4: =IF($H4="","",SUMIF('3'!$D$19:$D$28,Conf!$H4,'3'!$F$19:$F$28)) -> 0 | AJ4: =IF($H4="","",SUMIF('4'!$D$19:$D$28,Conf!$H4,'4'!$F$19:$F$28)) -> 0 | AK4: =IF($H4="","",SUMIF('5'!$D$19:$D$28,Conf!$H4,'5'!$F$19:$F$28)) -> 0 | AL4: =IF($H4="","",SUMIF('6'!$D$19:$D$28,Conf!$H4,'6'!$F$19:$F$28)) -> 0 | AM4: =IF($H4="","",SUMIF('7'!$D$19:$D$28,Conf!$H4,'7'!$F$19:$F$28)) -> 0 | AN4: =IF($H4="","",SUMIF('8'!$D$19:$D$28,Conf!$H4,'8'!$F$19:$F$28)) -> 0 | AO4: =IF($H4="","",SUMIF('9'!$D$19:$D$28,Conf!$H4,'9'!$F$19:$F$28)) -> 0 | AP4: =IF($H4="","",SUMIF('10'!$D$19:$D$28,Conf!$H4,'10'!$F$19:$F$28)) -> 0 | AQ4: =IF($H4="","",SUMIF('11'!$D$19:$D$28,Conf!$H4,'11'!$F$19:$F$28)) -> 0 | AR4: =IF($H4="","",SUMIF('12'!$D$19:$D$28,Conf!$H4,'12'!$F$19:$F$28)) -> 0 | AS4: =IF($H4="","",SUMIF('13'!$D$19:$D$28,Conf!$H4,'13'!$F$19:$F$28)) -> 0 | AT4: =IF($H4="","",SUMIF('14'!$D$19:$D$28,Conf!$H4,'14'!$F$19:$F$28)) -> 0 | AU4: =IF($H4="","",SUMIF('15'!$D$19:$D$28,Conf!$H4,'15'!$F$19:$F$28)) -> 0 | AV4: =IF($H4="","",SUMIF('16'!$D$19:$D$28,Conf!$H4,'16'!$F$19:$F$28)) -> 0 | AW4: =IF($H4="","",SUMIF('17'!$D$19:$D$28,Conf!$H4,'17'!$F$19:$F$28)) -> 0 | AX4: =IF($H4="","",SUMIF('18'!$D$19:$D$28,Conf!$H4,'18'!$F$19:$F$28)) -> 0 | AY4: =IF($H4="","",SUMIF('19'!$D$19:$D$28,Conf!$H4,'19'!$F$19:$F$28)) -> 0 | AZ4: =IFERROR(AG4,"") -> 0 | BA4: =IFERROR(AZ4+AH4,"") -> 0 | BB4: =IFERROR(BA4+AI4,"") -> 0 | BC4: =IFERROR(BB4+AJ4,"") -> 0 | BD4: =IFERROR(BC4+AK4,"") -> 0 | BE4: =IFERROR(BD4+AL4,"") -> 0 | BF4: =IFERROR(BE4+AM4,"") -> 0 | BG4: =IFERROR(BF4+AN4,"") -> 0 | BH4: =IFERROR(BG4+AO4,"") -> 0 | ... BR4: =IFERROR(BQ4+AY4,"") -> 0 | BS4: =IF($H4="","",RANK(AZ4,AZ$4:AZ$35,0)+COUNTIF($AZ$4:AZ4,AZ4)-1) -> 1 | BT4: =IF($H4="","",RANK(BA4,BA$4:BA$35,0)+COUNTIF($BA$4:BA4,BA4)-1) -> 1 | BU4: =IF($H4="","",RANK(BB4,BB$4:BB$35,0)+COUNTIF($BB$4:BB4,BB4)-1) -> 1 | BV4: =IF($H4="","",RANK(BC4,BC$4:BC$35,0)+COUNTIF($BC$4:BC4,BC4)-1) -> 1 | BW4: =IF($H4="","",RANK(BD4,BD$4:BD$35,0)+COUNTIF($BD$4:BD4,BD4)-1) -> 1 | BX4: =IF($H4="","",RANK(BE4,BE$4:BE$35,0)+COUNTIF($BE$4:BE4,BE4)-1) -> 1 | BY4: =IF($H4="","",RANK(BF4,BF$4:BF$35,0)+COUNTIF($BF$4:BF4,BF4)-1) -> 1 | BZ4: =IF($H4="","",RANK(BG4,BG$4:BG$35,0)+COUNTIF($BG$4:BG4,BG4)-1) -> 1 | CA4: =IF($H4="","",RANK(BH4,BH$4:BH$35,0)+COUNTIF($BH$4:BH4,BH4)-1) -> 1 | CB4: =IF($H4="","",RANK(BI4,BI$4:BI$35,0)+COUNTIF($BI$4:BI4,BI4)-1) -> 1 | CC4: =IF($H4="","",RANK(BJ4,BJ$4:BJ$35,0)+COUNTIF($BJ$4:BJ4,BJ4)-1) -> 1 | CD4: =IF($H4="","",RANK(BK4,BK$4:BK$35,0)+COUNTIF($BK$4:BK4,BK4)-1) -> 1 | CE4: =IF($H4="","",RANK(BL4,BL$4:BL$35,0)+COUNTIF($BL$4:BL4,BL4)-1) -> 1 | CF4: =IF($H4="","",RANK(BM4,BM$4:BM$35,0)+COUNTIF($BM$4:BM4,BM4)-1) -> 1 | CG4: =IF($H4="","",RANK(BN4,BN$4:BN$35,0)+COUNTIF($BN$4:BN4,BN4)-1) -> 1 | CH4: =IF($H4="","",RANK(BO4,BO$4:BO$35,0)+COUNTIF($BO$4:BO4,BO4)-1) -> 1 | CI4: =IF($H4="","",RANK(BP4,BP$4:BP$35,0)+COUNTIF($BP$4:BP4,BP4)-1) -> 1 | CJ4: =IF($H4="","",RANK(BQ4,BQ$4:BQ$35,0)+COUNTIF($BQ$4:BQ4,BQ4)-1) -> 1 | CK4: =IF($H4="","",RANK(BR4,BR$4:BR$35,0)+COUNTIF($BR$4:BR4,BR4)-1) -> 1 | CL4: =IF(H4="","",SUM(CM4:DE4)) -> 0 | CM4: =IF($H4="","",IF('1'!$D$14=Conf!$H4,1,0)) -> 0 | CN4: =IF($H4="","",IF('2'!$D$14=Conf!$H4,1,0)) -> 0 | CO4: =IF($H4="","",IF('3'!$D$14=Conf!$H4,1,0)) -> 0 | CP4: =IF($H4="","",IF('4'!$D$14=Conf!$H4,1,0)) -> 0 | CQ4: =IF($H4="","",IF('5'!$D$14=Conf!$H4,1,0)) -> 0 | CR4: =IF($H4="","",IF('6'!$D$14=Conf!$H4,1,0)) -> 0 | CS4: =IF($H4="","",IF('7'!$D$14=Conf!$H4,1,0)) -> 0 | CT4: =IF($H4="","",IF('8'!$D$14=Conf!$H4,1,0)) -> 0 | CU4: =IF($H4="","",IF('9'!$D$14=Conf!$H4,1,0)) -> 0 | CV4: =IF($H4="","",IF('10'!$D$14=Conf!$H4,1,0)) -> 0 | CW4: =IF($H4="","",IF('11'!$D$14=Conf!$H4,1,0)) -> 0 | CX4: =IF($H4="","",IF('12'!$D$14=Conf!$H4,1,0)) -> 0 | CY4: =IF($H4="","",IF('13'!$D$14=Conf!$H4,1,0)) -> 0 | CZ4: =IF($H4="","",IF('14'!$D$14=Conf!$H4,1,0)) -> 0 | DA4: =IF($H4="","",IF('15'!$D$14=Conf!$H4,1,0)) -> 0 | DB4: =IF($H4="","",IF('16'!$D$14=Conf!$H4,1,0)) -> 0 | DC4: =IF($H4="","",IF('17'!$D$14=Conf!$H4,1,0)) -> 0 | DD4: =IF($H4="","",IF('18'!$D$14=Conf!$H4,1,0)) -> 0 | DE4: =IF($H4="","",IF('19'!$D$14=Conf!$H4,1,0)) -> 0 | DG4: =IF(DH4="","",DI4+DK4) -> 1 | DH4: =H4 -> Sebastian VETTEL | DI4: =IF(DH4="","",RANK(DJ4,$DJ$4:$DJ$35,0)) -> 1 | DJ4: =K4 -> 0 | DK4: =IF(DH4="","",COUNTIF($DI$4:DI4,DI4)-1) -> 0 | DM4: =IF(DN4="","",DO4+DQ4) -> 1 | DN4: =H4 -> Sebastian VETTEL | DO4: =IF(DN4="","",RANK(DP4,$DP$4:$DP$35,0)) -> 1 | DP4: =CL4 -> 0 | DQ4: =IF(DN4="","",COUNTIF($DO$4:DO4,DO4)-1) -> 0 | DS4: =IF(DT4="","",DU4+DW4) -> 1 | DT4: =H4 -> Sebastian VETTEL | DU4: =IF(DT4="","",RANK(DV4,$DV$4:$DV$35,0)) -> 1 | DV4: =IFERROR(K4+L4+M4,"") -> 0 | DW4: =IF(DT4="","",COUNTIF($DU$4:DU4,DU4)-1) -> 0 | DY4: =IF(DZ4="","",EA4+EC4) -> 1 | DZ4: =H4 -> Sebastian VETTEL | EA4: =IF(DZ4="","",RANK(EB4,$EB$4:$EB$35,0)) -> 1 | EB4: =IFERROR(SUM(K4:T4),"") -> 0 | EC4: =IF(DZ4="","",COUNTIF($EA$4:EA4,EA4)-1) -> 0
A5: 4 | B5: 18-20 Abril | C5: GP CHINA | E5: =IF('1'!$D$22="","",'1'!$D$22) | G5: =IF(H5="","",RANK(J5,$J$4:$J$35,0)+SUM(U5:AD5)+AF5) -> 2 | H5: =IF(PILOTOS!D14="","",PILOTOS!D14) -> Daniel RICCIARDO | I5: =IF(PILOTOS!E14="","",PILOTOS!E14) -> Red Bull | J5: =IF(H5="","",SUM(AG5:AY5)) -> 0 | K5: =IF(H5="","",COUNTIFS(AG5:AX5,25,$AG$36:$AX$36,1)+COUNTIFS(AG5:AX5,12.5,$AG$36:$AX$36,2))+IF(H5="","",COUNTIFS(AY5,50,$AY$36,1)+COUNTIFS(AY5,25,$AY$36,2)) -> 0 | L5: =IF(H5="","",COUNTIFS(AG5:AX5,18,$AG$36:$AX$36,1)+COUNTIFS(AG5:AX5,9,$AG$36:$AX$36,2))++IF(H5="","",COUNTIFS(AY5,36,$AY$36,1)+COUNTIFS(AY5,18,$AY$36,2)) -> 0 | M5: =IF(H5="","",COUNTIFS(AG5:AX5,15,$AG$36:$AX$36,1)+COUNTIFS(AG5:AX5,7.5,$AG$36:$AX$36,2))+IF(H5="","",COUNTIFS(AY5,30,$AY$36,1)+COUNTIFS(AY5,15,$AY$36,2)) -> 0 | N5: =IF(H5="","",COUNTIFS(AG5:AX5,12,$AG$36:$AX$36,1)+COUNTIFS(AG5:AX5,6,$AG$36:$AX$36,2))+IF(H5="","",COUNTIFS(AY5,24,$AY$36,1)+COUNTIFS(AY5,12,$AY$36,2)) -> 0 | O5: =IF(H5="","",COUNTIFS(AG5:AX5,10,$AG$36:$AX$36,1)+COUNTIFS(AG5:AX5,5,$AG$36:$AX$36,2))+IF(H5="","",COUNTIFS(AY5,20,$AY$36,1)+COUNTIFS(AY5,10,$AY$36,2)) -> 0 | P5: =IF(H5="","",COUNTIFS(AG5:AX5,8,$AG$36:$AX$36,1)+COUNTIFS(AG5:AX5,4,$AG$36:$AX$36,2))+IF(H5="","",COUNTIFS(AY5,16,$AY$36,1)+COUNTIFS(AY5,8,$AY$36,2)) -> 0 | Q5: =IF(H5="","",COUNTIFS(AG5:AX5,6,$AG$36:$AX$36,1)+COUNTIFS(AG5:AX5,3,$AG$36:$AX$36,2))+IF(H5="","",COUNTIFS(AY5,12,$AY$36,1)+COUNTIFS(AY5,6,$AY$36,2)) -> 0 | R5: =IF(H5="","",COUNTIFS(AG5:AX5,4,$AG$36:$AX$36,1)+COUNTIFS(AG5:AX5,2,$AG$36:$AX$36,2))+IF(H5="","",COUNTIFS(AY5,8,$AY$36,1)+COUNTIFS(AY5,4,$AY$36,2)) -> 0 | S5: =IF(H5="","",COUNTIFS(AG5:AX5,2,$AG$36:$AX$36,1)+COUNTIFS(AG5:AX5,1,$AG$36:$AX$36,2))+IF(H5="","",COUNTIFS(AY5,4,$AY$36,1)+COUNTIFS(AY5,2,$AY$36,2)) -> 0 | T5: =IF(H5="","",COUNTIFS(AG5:AX5,1,$AG$36:$AX$36,1)+COUNTIFS(AG5:AX5,0.5,$AG$36:$AX$36,2))+IF(H5="","",COUNTIFS(AY5,2,$AY$36,1)+COUNTIFS(AY5,1,$AY$36,2)) -> 0 | U5: =IF(H5="","",SUMPRODUCT(($J$4:$J$35=J5)*($K$4:$K$35>K5))) -> 0 | V5: =IF(H5="","",SUMPRODUCT(($J$4:$J$35=J5)*($K$4:$K$35=K5)*($L$4:$L$35>L5))) -> 0 | W5: =IF(H5="","",SUMPRODUCT(($J$4:$J$35=J5)*($K$4:$K$35=K5)*($L$4:$L$35=L5)*($M$4:$M$35>M5))) -> 0 | X5: =IF(H5="","",SUMPRODUCT(($J$4:$J$35=J5)*($K$4:$K$35=K5)*($L$4:$L$35=L5)*($M$4:$M$35=M5)*($N$4:$N$35>N5))) -> 0 | Y5: =IF(H5="","",SUMPRODUCT(($J$4:$J$35=J5)*($K$4:$K$35=K5)*($L$4:$L$35=L5)*($M$4:$M$35=M5)*($N$4:$N$35=N5)*($O$4:$O$35>O5))) -> 0 | Z5: =IF(H5="","",SUMPRODUCT(($J$4:$J$35=J5)*($K$4:$K$35=K5)*($L$4:$L$35=L5)*($M$4:$M$35=M5)*($N$4:$N$35=N5)*($O$4:$O$35=O5)*($P$4:$P$35>P5))) -> 0 | AA5: =IF(H5="","",SUMPRODUCT(($J$4:$J$35=J5)*($K$4:$K$35=K5)*($L$4:$L$35=L5)*($M$4:$M$35=M5)*($N$4:$N$35=N5)*($O$4:$O$35=O5)*($P$4:$P$35=P5)*($Q$4:$Q$35>Q5))) -> 0 | AB5: =IF(H5="","",SUMPRODUCT(($J$4:$J$35=J5)*($K$4:$K$35=K5)*($L$4:$L$35=L5)*($M$4:$M$35=M5)*($N$4:$N$35=N5)*($O$4:$O$35=O5)*($P$4:$P$35=P5)*($Q$4:$Q$35=Q5)*($R$4:$R$35>R5))) -> 0 | AC5: =IF(H5="","",SUMPRODUCT(($J$4:$J$35=J5)*($K$4:$K$35=K5)*($L$4:$L$35=L5)*($M$4:$M$35=M5)*($N$4:$N$35=N5)*($O$4:$O$35=O5)*($P$4:$P$35=P5)*($Q$4:$Q$35=Q5)*($R$4:$R$35=R5)*($S$4:$S$35>S5))) -> 0 | AD5: =IF(H5="","",SUMPRODUCT(($J$4:$J$35=J5)*($K$4:$K$35=K5)*($L$4:$L$35=L5)*($M$4:$M$35=M5)*($N$4:$N$35=N5)*($O$4:$O$35=O5)*($P$4:$P$35=P5)*($Q$4:$Q$35=Q5)*($R$4:$R$35=R5)*($S$4:$S$35=S5)*($T$4:$T$35>T5))) -> 0 | AE5: =IF(PILOTOS!C14="","",PILOTOS!C14) -> 3 | AF5: =IF(H5="","",SUMPRODUCT(($J$4:$J$35=J5)*($K$4:$K$35=K5)*($L$4:$L$35=L5)*($M$4:$M$35=M5)*($N$4:$N$35=N5)*($O$4:$O$35=O5)*($P$4:$P$35=P5)*($Q$4:$Q$35=Q5)*($R$4:$R$35=R5)*($S$4:$S$35=S5)*($T$4:$T$35=T5)*($AE$4:$AE$35<AE5))) -> 1 | AG5: =IF($H5="","",SUMIF('1'!$D$19:$D$28,Conf!$H5,'1'!$F$19:$F$28)) -> 0 | AH5: =IF($H5="","",SUMIF('2'!$D$19:$D$28,Conf!$H5,'2'!$F$19:$F$28)) -> 0 | AI5: =IF($H5="","",SUMIF('3'!$D$19:$D$28,Conf!$H5,'3'!$F$19:$F$28)) -> 0 | AJ5: =IF($H5="","",SUMIF('4'!$D$19:$D$28,Conf!$H5,'4'!$F$19:$F$28)) -> 0 | AK5: =IF($H5="","",SUMIF('5'!$D$19:$D$28,Conf!$H5,'5'!$F$19:$F$28)) -> 0 | AL5: =IF($H5="","",SUMIF('6'!$D$19:$D$28,Conf!$H5,'6'!$F$19:$F$28)) -> 0 | AM5: =IF($H5="","",SUMIF('7'!$D$19:$D$28,Conf!$H5,'7'!$F$19:$F$28)) -> 0 | AN5: =IF($H5="","",SUMIF('8'!$D$19:$D$28,Conf!$H5,'8'!$F$19:$F$28)) -> 0 | AO5: =IF($H5="","",SUMIF('9'!$D$19:$D$28,Conf!$H5,'9'!$F$19:$F$28)) -> 0 | AP5: =IF($H5="","",SUMIF('10'!$D$19:$D$28,Conf!$H5,'10'!$F$19:$F$28)) -> 0 | AQ5: =IF($H5="","",SUMIF('11'!$D$19:$D$28,Conf!$H5,'11'!$F$19:$F$28)) -> 0 | AR5: =IF($H5="","",SUMIF('12'!$D$19:$D$28,Conf!$H5,'12'!$F$19:$F$28)) -> 0 | AS5: =IF($H5="","",SUMIF('13'!$D$19:$D$28,Conf!$H5,'13'!$F$19:$F$28)) -> 0 | AT5: =IF($H5="","",SUMIF('14'!$D$19:$D$28,Conf!$H5,'14'!$F$19:$F$28)) -> 0 | AU5: =IF($H5="","",SUMIF('15'!$D$19:$D$28,Conf!$H5,'15'!$F$19:$F$28)) -> 0 | AV5: =IF($H5="","",SUMIF('16'!$D$19:$D$28,Conf!$H5,'16'!$F$19:$F$28)) -> 0 | AW5: =IF($H5="","",SUMIF('17'!$D$19:$D$28,Conf!$H5,'17'!$F$19:$F$28)) -> 0 | AX5: =IF($H5="","",SUMIF('18'!$D$19:$D$28,Conf!$H5,'18'!$F$19:$F$28)) -> 0 | AY5: =IF($H5="","",SUMIF('19'!$D$19:$D$28,Conf!$H5,'19'!$F$19:$F$28)) -> 0 | AZ5: =IFERROR(AG5,"") -> 0 | BA5: =IFERROR(AZ5+AH5,"") -> 0 | BB5: =IFERROR(BA5+AI5,"") -> 0 | BC5: =IFERROR(BB5+AJ5,"") -> 0 | BD5: =IFERROR(BC5+AK5,"") -> 0 | BE5: =IFERROR(BD5+AL5,"") -> 0 | BF5: =IFERROR(BE5+AM5,"") -> 0 | BG5: =IFERROR(BF5+AN5,"") -> 0 | BH5: =IFERROR(BG5+AO5,"") -> 0 | ... BR5: =IFERROR(BQ5+AY5,"") -> 0 | BS5: =IF($H5="","",RANK(AZ5,AZ$4:AZ$35,0)+COUNTIF($AZ$4:AZ5,AZ5)-1) -> 2 | BT5: =IF($H5="","",RANK(BA5,BA$4:BA$35,0)+COUNTIF($BA$4:BA5,BA5)-1) -> 2 | BU5: =IF($H5="","",RANK(BB5,BB$4:BB$35,0)+COUNTIF($BB$4:BB5,BB5)-1) -> 2 | BV5: =IF($H5="","",RANK(BC5,BC$4:BC$35,0)+COUNTIF($BC$4:BC5,BC5)-1) -> 2 | BW5: =IF($H5="","",RANK(BD5,BD$4:BD$35,0)+COUNTIF($BD$4:BD5,BD5)-1) -> 2 | BX5: =IF($H5="","",RANK(BE5,BE$4:BE$35,0)+COUNTIF($BE$4:BE5,BE5)-1) -> 2 | BY5: =IF($H5="","",RANK(BF5,BF$4:BF$35,0)+COUNTIF($BF$4:BF5,BF5)-1) -> 2 | BZ5: =IF($H5="","",RANK(BG5,BG$4:BG$35,0)+COUNTIF($BG$4:BG5,BG5)-1) -> 2 | CA5: =IF($H5="","",RANK(BH5,BH$4:BH$35,0)+COUNTIF($BH$4:BH5,BH5)-1) -> 2 | CB5: =IF($H5="","",RANK(BI5,BI$4:BI$35,0)+COUNTIF($BI$4:BI5,BI5)-1) -> 2 | CC5: =IF($H5="","",RANK(BJ5,BJ$4:BJ$35,0)+COUNTIF($BJ$4:BJ5,BJ5)-1) -> 2 | CD5: =IF($H5="","",RANK(BK5,BK$4:BK$35,0)+COUNTIF($BK$4:BK5,BK5)-1) -> 2 | CE5: =IF($H5="","",RANK(BL5,BL$4:BL$35,0)+COUNTIF($BL$4:BL5,BL5)-1) -> 2 | CF5: =IF($H5="","",RANK(BM5,BM$4:BM$35,0)+COUNTIF($BM$4:BM5,BM5)-1) -> 2 | CG5: =IF($H5="","",RANK(BN5,BN$4:BN$35,0)+COUNTIF($BN$4:BN5,BN5)-1) -> 2 | CH5: =IF($H5="","",RANK(BO5,BO$4:BO$35,0)+COUNTIF($BO$4:BO5,BO5)-1) -> 2 | CI5: =IF($H5="","",RANK(BP5,BP$4:BP$35,0)+COUNTIF($BP$4:BP5,BP5)-1) -> 2 | CJ5: =IF($H5="","",RANK(BQ5,BQ$4:BQ$35,0)+COUNTIF($BQ$4:BQ5,BQ5)-1) -> 2 | CK5: =IF($H5="","",RANK(BR5,BR$4:BR$35,0)+COUNTIF($BR$4:BR5,BR5)-1) -> 2 | CL5: =IF(H5="","",SUM(CM5:DE5)) -> 0 | CM5: =IF($H5="","",IF('1'!$D$14=Conf!$H5,1,0)) -> 0 | CN5: =IF($H5="","",IF('2'!$D$14=Conf!$H5,1,0)) -> 0 | CO5: =IF($H5="","",IF('3'!$D$14=Conf!$H5,1,0)) -> 0 | CP5: =IF($H5="","",IF('4'!$D$14=Conf!$H5,1,0)) -> 0 | CQ5: =IF($H5="","",IF('5'!$D$14=Conf!$H5,1,0)) -> 0 | CR5: =IF($H5="","",IF('6'!$D$14=Conf!$H5,1,0)) -> 0 | CS5: =IF($H5="","",IF('7'!$D$14=Conf!$H5,1,0)) -> 0 | CT5: =IF($H5="","",IF('8'!$D$14=Conf!$H5,1,0)) -> 0 | CU5: =IF($H5="","",IF('9'!$D$14=Conf!$H5,1,0)) -> 0 | CV5: =IF($H5="","",IF('10'!$D$14=Conf!$H5,1,0)) -> 0 | CW5: =IF($H5="","",IF('11'!$D$14=Conf!$H5,1,0)) -> 0 | CX5: =IF($H5="","",IF('12'!$D$14=Conf!$H5,1,0)) -> 0 | CY5: =IF($H5="","",IF('13'!$D$14=Conf!$H5,1,0)) -> 0 | CZ5: =IF($H5="","",IF('14'!$D$14=Conf!$H5,1,0)) -> 0 | DA5: =IF($H5="","",IF('15'!$D$14=Conf!$H5,1,0)) -> 0 | DB5: =IF($H5="","",IF('16'!$D$14=Conf!$H5,1,0)) -> 0 | DC5: =IF($H5="","",IF('17'!$D$14=Conf!$H5,1,0)) -> 0 | DD5: =IF($H5="","",IF('18'!$D$14=Conf!$H5,1,0)) -> 0 | DE5: =IF($H5="","",IF('19'!$D$14=Conf!$H5,1,0)) -> 0 | DG5: =IF(DH5="","",DI5+DK5) -> 2 | DH5: =H5 -> Daniel RICCIARDO | DI5: =IF(DH5="","",RANK(DJ5,$DJ$4:$DJ$35,0)) -> 1 | DJ5: =K5 -> 0 | DK5: =IF(DH5="","",COUNTIF($DI$4:DI5,DI5)-1) -> 1 | DM5: =IF(DN5="","",DO5+DQ5) -> 2 | DN5: =H5 -> Daniel RICCIARDO | DO5: =IF(DN5="","",RANK(DP5,$DP$4:$DP$35,0)) -> 1 | DP5: =CL5 -> 0 | DQ5: =IF(DN5="","",COUNTIF($DO$4:DO5,DO5)-1) -> 1 | DS5: =IF(DT5="","",DU5+DW5) -> 2 | DT5: =H5 -> Daniel RICCIARDO | DU5: =IF(DT5="","",RANK(DV5,$DV$4:$DV$35,0)) -> 1 | DV5: =IFERROR(K5+L5+M5,"") -> 0 | DW5: =IF(DT5="","",COUNTIF($DU$4:DU5,DU5)-1) -> 1 | DY5: =IF(DZ5="","",EA5+EC5) -> 2 | DZ5: =H5 -> Daniel RICCIARDO | EA5: =IF(DZ5="","",RANK(EB5,$EB$4:$EB$35,0)) -> 1 | EB5: =IFERROR(SUM(K5:T5),"") -> 0 | EC5: =IF(DZ5="","",COUNTIF($EA$4:EA5,EA5)-1) -> 1
A6: 5 | B6: 9-11 Mayo | C6: GP ESPAÑA | E6: =IF('1'!$D$23="","",'1'!$D$23) | G6: =IF(H6="","",RANK(J6,$J$4:$J$35,0)+SUM(U6:AD6)+AF6) -> 3 | H6: =IF(PILOTOS!D15="","",PILOTOS!D15) -> Max CHILTON | I6: =IF(PILOTOS!E15="","",PILOTOS!E15) -> Marussia | J6: =IF(H6="","",SUM(AG6:AY6)) -> 0 | K6: =IF(H6="","",COUNTIFS(AG6:AX6,25,$AG$36:$AX$36,1)+COUNTIFS(AG6:AX6,12.5,$AG$36:$AX$36,2))+IF(H6="","",COUNTIFS(AY6,50,$AY$36,1)+COUNTIFS(AY6,25,$AY$36,2)) -> 0 | L6: =IF(H6="","",COUNTIFS(AG6:AX6,18,$AG$36:$AX$36,1)+COUNTIFS(AG6:AX6,9,$AG$36:$AX$36,2))++IF(H6="","",COUNTIFS(AY6,36,$AY$36,1)+COUNTIFS(AY6,18,$AY$36,2)) -> 0 | M6: =IF(H6="","",COUNTIFS(AG6:AX6,15,$AG$36:$AX$36,1)+COUNTIFS(AG6:AX6,7.5,$AG$36:$AX$36,2))+IF(H6="","",COUNTIFS(AY6,30,$AY$36,1)+COUNTIFS(AY6,15,$AY$36,2)) -> 0 | N6: =IF(H6="","",COUNTIFS(AG6:AX6,12,$AG$36:$AX$36,1)+COUNTIFS(AG6:AX6,6,$AG$36:$AX$36,2))+IF(H6="","",COUNTIFS(AY6,24,$AY$36,1)+COUNTIFS(AY6,12,$AY$36,2)) -> 0 | O6: =IF(H6="","",COUNTIFS(AG6:AX6,10,$AG$36:$AX$36,1)+COUNTIFS(AG6:AX6,5,$AG$36:$AX$36,2))+IF(H6="","",COUNTIFS(AY6,20,$AY$36,1)+COUNTIFS(AY6,10,$AY$36,2)) -> 0 | P6: =IF(H6="","",COUNTIFS(AG6:AX6,8,$AG$36:$AX$36,1)+COUNTIFS(AG6:AX6,4,$AG$36:$AX$36,2))+IF(H6="","",COUNTIFS(AY6,16,$AY$36,1)+COUNTIFS(AY6,8,$AY$36,2)) -> 0 | Q6: =IF(H6="","",COUNTIFS(AG6:AX6,6,$AG$36:$AX$36,1)+COUNTIFS(AG6:AX6,3,$AG$36:$AX$36,2))+IF(H6="","",COUNTIFS(AY6,12,$AY$36,1)+COUNTIFS(AY6,6,$AY$36,2)) -> 0 | R6: =IF(H6="","",COUNTIFS(AG6:AX6,4,$AG$36:$AX$36,1)+COUNTIFS(AG6:AX6,2,$AG$36:$AX$36,2))+IF(H6="","",COUNTIFS(AY6,8,$AY$36,1)+COUNTIFS(AY6,4,$AY$36,2)) -> 0 | S6: =IF(H6="","",COUNTIFS(AG6:AX6,2,$AG$36:$AX$36,1)+COUNTIFS(AG6:AX6,1,$AG$36:$AX$36,2))+IF(H6="","",COUNTIFS(AY6,4,$AY$36,1)+COUNTIFS(AY6,2,$AY$36,2)) -> 0 | T6: =IF(H6="","",COUNTIFS(AG6:AX6,1,$AG$36:$AX$36,1)+COUNTIFS(AG6:AX6,0.5,$AG$36:$AX$36,2))+IF(H6="","",COUNTIFS(AY6,2,$AY$36,1)+COUNTIFS(AY6,1,$AY$36,2)) -> 0 | U6: =IF(H6="","",SUMPRODUCT(($J$4:$J$35=J6)*($K$4:$K$35>K6))) -> 0 | V6: =IF(H6="","",SUMPRODUCT(($J$4:$J$35=J6)*($K$4:$K$35=K6)*($L$4:$L$35>L6))) -> 0 | W6: =IF(H6="","",SUMPRODUCT(($J$4:$J$35=J6)*($K$4:$K$35=K6)*($L$4:$L$35=L6)*($M$4:$M$35>M6))) -> 0 | X6: =IF(H6="","",SUMPRODUCT(($J$4:$J$35=J6)*($K$4:$K$35=K6)*($L$4:$L$35=L6)*($M$4:$M$35=M6)*($N$4:$N$35>N6))) -> 0 | Y6: =IF(H6="","",SUMPRODUCT(($J$4:$J$35=J6)*($K$4:$K$35=K6)*($L$4:$L$35=L6)*($M$4:$M$35=M6)*($N$4:$N$35=N6)*($O$4:$O$35>O6))) -> 0 | Z6: =IF(H6="","",SUMPRODUCT(($J$4:$J$35=J6)*($K$4:$K$35=K6)*($L$4:$L$35=L6)*($M$4:$M$35=M6)*($N$4:$N$35=N6)*($O$4:$O$35=O6)*($P$4:$P$35>P6))) -> 0 | AA6: =IF(H6="","",SUMPRODUCT(($J$4:$J$35=J6)*($K$4:$K$35=K6)*($L$4:$L$35=L6)*($M$4:$M$35=M6)*($N$4:$N$35=N6)*($O$4:$O$35=O6)*($P$4:$P$35=P6)*($Q$4:$Q$35>Q6))) -> 0 | AB6: =IF(H6="","",SUMPRODUCT(($J$4:$J$35=J6)*($K$4:$K$35=K6)*($L$4:$L$35=L6)*($M$4:$M$35=M6)*($N$4:$N$35=N6)*($O$4:$O$35=O6)*($P$4:$P$35=P6)*($Q$4:$Q$35=Q6)*($R$4:$R$35>R6))) -> 0 | AC6: =IF(H6="","",SUMPRODUCT(($J$4:$J$35=J6)*($K$4:$K$35=K6)*($L$4:$L$35=L6)*($M$4:$M$35=M6)*($N$4:$N$35=N6)*($O$4:$O$35=O6)*($P$4:$P$35=P6)*($Q$4:$Q$35=Q6)*($R$4:$R$35=R6)*($S$4:$S$35>S6))) -> 0 | AD6: =IF(H6="","",SUMPRODUCT(($J$4:$J$35=J6)*($K$4:$K$35=K6)*($L$4:$L$35=L6)*($M$4:$M$35=M6)*($N$4:$N$35=N6)*($O$4:$O$35=O6)*($P$4:$P$35=P6)*($Q$4:$Q$35=Q6)*($R$4:$R$35=R6)*($S$4:$S$35=S6)*($T$4:$T$35>T6))) -> 0 | AE6: =IF(PILOTOS!C15="","",PILOTOS!C15) -> 4 | AF6: =IF(H6="","",SUMPRODUCT(($J$4:$J$35=J6)*($K$4:$K$35=K6)*($L$4:$L$35=L6)*($M$4:$M$35=M6)*($N$4:$N$35=N6)*($O$4:$O$35=O6)*($P$4:$P$35=P6)*($Q$4:$Q$35=Q6)*($R$4:$R$35=R6)*($S$4:$S$35=S6)*($T$4:$T$35=T6)*($AE$4:$AE$35<AE6))) -> 2 | AG6: =IF($H6="","",SUMIF('1'!$D$19:$D$28,Conf!$H6,'1'!$F$19:$F$28)) -> 0 | AH6: =IF($H6="","",SUMIF('2'!$D$19:$D$28,Conf!$H6,'2'!$F$19:$F$28)) -> 0 | AI6: =IF($H6="","",SUMIF('3'!$D$19:$D$28,Conf!$H6,'3'!$F$19:$F$28)) -> 0 | AJ6: =IF($H6="","",SUMIF('4'!$D$19:$D$28,Conf!$H6,'4'!$F$19:$F$28)) -> 0 | AK6: =IF($H6="","",SUMIF('5'!$D$19:$D$28,Conf!$H6,'5'!$F$19:$F$28)) -> 0 | AL6: =IF($H6="","",SUMIF('6'!$D$19:$D$28,Conf!$H6,'6'!$F$19:$F$28)) -> 0 | AM6: =IF($H6="","",SUMIF('7'!$D$19:$D$28,Conf!$H6,'7'!$F$19:$F$28)) -> 0 | AN6: =IF($H6="","",SUMIF('8'!$D$19:$D$28,Conf!$H6,'8'!$F$19:$F$28)) -> 0 | AO6: =IF($H6="","",SUMIF('9'!$D$19:$D$28,Conf!$H6,'9'!$F$19:$F$28)) -> 0 | AP6: =IF($H6="","",SUMIF('10'!$D$19:$D$28,Conf!$H6,'10'!$F$19:$F$28)) -> 0 | AQ6: =IF($H6="","",SUMIF('11'!$D$19:$D$28,Conf!$H6,'11'!$F$19:$F$28)) -> 0 | AR6: =IF($H6="","",SUMIF('12'!$D$19:$D$28,Conf!$H6,'12'!$F$19:$F$28)) -> 0 | AS6: =IF($H6="","",SUMIF('13'!$D$19:$D$28,Conf!$H6,'13'!$F$19:$F$28)) -> 0 | AT6: =IF($H6="","",SUMIF('14'!$D$19:$D$28,Conf!$H6,'14'!$F$19:$F$28)) -> 0 | AU6: =IF($H6="","",SUMIF('15'!$D$19:$D$28,Conf!$H6,'15'!$F$19:$F$28)) -> 0 | AV6: =IF($H6="","",SUMIF('16'!$D$19:$D$28,Conf!$H6,'16'!$F$19:$F$28)) -> 0 | AW6: =IF($H6="","",SUMIF('17'!$D$19:$D$28,Conf!$H6,'17'!$F$19:$F$28)) -> 0 | AX6: =IF($H6="","",SUMIF('18'!$D$19:$D$28,Conf!$H6,'18'!$F$19:$F$28)) -> 0 | AY6: =IF($H6="","",SUMIF('19'!$D$19:$D$28,Conf!$H6,'19'!$F$19:$F$28)) -> 0 | AZ6: =IFERROR(AG6,"") -> 0 | BA6: =IFERROR(AZ6+AH6,"") -> 0 | BB6: =IFERROR(BA6+AI6,"") -> 0 | BC6: =IFERROR(BB6+AJ6,"") -> 0 | BD6: =IFERROR(BC6+AK6,"") -> 0 | BE6: =IFERROR(BD6+AL6,"") -> 0 | BF6: =IFERROR(BE6+AM6,"") -> 0 | BG6: =IFERROR(BF6+AN6,"") -> 0 | BH6: =IFERROR(BG6+AO6,"") -> 0 | ... BR6: =IFERROR(BQ6+AY6,"") -> 0 | BS6: =IF($H6="","",RANK(AZ6,AZ$4:AZ$35,0)+COUNTIF($AZ$4:AZ6,AZ6)-1) -> 3 | BT6: =IF($H6="","",RANK(BA6,BA$4:BA$35,0)+COUNTIF($BA$4:BA6,BA6)-1) -> 3 | BU6: =IF($H6="","",RANK(BB6,BB$4:BB$35,0)+COUNTIF($BB$4:BB6,BB6)-1) -> 3 | BV6: =IF($H6="","",RANK(BC6,BC$4:BC$35,0)+COUNTIF($BC$4:BC6,BC6)-1) -> 3 | BW6: =IF($H6="","",RANK(BD6,BD$4:BD$35,0)+COUNTIF($BD$4:BD6,BD6)-1) -> 3 | BX6: =IF($H6="","",RANK(BE6,BE$4:BE$35,0)+COUNTIF($BE$4:BE6,BE6)-1) -> 3 | BY6: =IF($H6="","",RANK(BF6,BF$4:BF$35,0)+COUNTIF($BF$4:BF6,BF6)-1) -> 3 | BZ6: =IF($H6="","",RANK(BG6,BG$4:BG$35,0)+COUNTIF($BG$4:BG6,BG6)-1) -> 3 | CA6: =IF($H6="","",RANK(BH6,BH$4:BH$35,0)+COUNTIF($BH$4:BH6,BH6)-1) -> 3 | CB6: =IF($H6="","",RANK(BI6,BI$4:BI$35,0)+COUNTIF($BI$4:BI6,BI6)-1) -> 3 | CC6: =IF($H6="","",RANK(BJ6,BJ$4:BJ$35,0)+COUNTIF($BJ$4:BJ6,BJ6)-1) -> 3 | CD6: =IF($H6="","",RANK(BK6,BK$4:BK$35,0)+COUNTIF($BK$4:BK6,BK6)-1) -> 3 | CE6: =IF($H6="","",RANK(BL6,BL$4:BL$35,0)+COUNTIF($BL$4:BL6,BL6)-1) -> 3 | CF6: =IF($H6="","",RANK(BM6,BM$4:BM$35,0)+COUNTIF($BM$4:BM6,BM6)-1) -> 3 | CG6: =IF($H6="","",RANK(BN6,BN$4:BN$35,0)+COUNTIF($BN$4:BN6,BN6)-1) -> 3 | CH6: =IF($H6="","",RANK(BO6,BO$4:BO$35,0)+COUNTIF($BO$4:BO6,BO6)-1) -> 3 | CI6: =IF($H6="","",RANK(BP6,BP$4:BP$35,0)+COUNTIF($BP$4:BP6,BP6)-1) -> 3 | CJ6: =IF($H6="","",RANK(BQ6,BQ$4:BQ$35,0)+COUNTIF($BQ$4:BQ6,BQ6)-1) -> 3 | CK6: =IF($H6="","",RANK(BR6,BR$4:BR$35,0)+COUNTIF($BR$4:BR6,BR6)-1) -> 3 | CL6: =IF(H6="","",SUM(CM6:DE6)) -> 0 | CM6: =IF($H6="","",IF('1'!$D$14=Conf!$H6,1,0)) -> 0 | CN6: =IF($H6="","",IF('2'!$D$14=Conf!$H6,1,0)) -> 0 | CO6: =IF($H6="","",IF('3'!$D$14=Conf!$H6,1,0)) -> 0 | CP6: =IF($H6="","",IF('4'!$D$14=Conf!$H6,1,0)) -> 0 | CQ6: =IF($H6="","",IF('5'!$D$14=Conf!$H6,1,0)) -> 0 | CR6: =IF($H6="","",IF('6'!$D$14=Conf!$H6,1,0)) -> 0 | CS6: =IF($H6="","",IF('7'!$D$14=Conf!$H6,1,0)) -> 0 | CT6: =IF($H6="","",IF('8'!$D$14=Conf!$H6,1,0)) -> 0 | CU6: =IF($H6="","",IF('9'!$D$14=Conf!$H6,1,0)) -> 0 | CV6: =IF($H6="","",IF('10'!$D$14=Conf!$H6,1,0)) -> 0 | CW6: =IF($H6="","",IF('11'!$D$14=Conf!$H6,1,0)) -> 0 | CX6: =IF($H6="","",IF('12'!$D$14=Conf!$H6,1,0)) -> 0 | CY6: =IF($H6="","",IF('13'!$D$14=Conf!$H6,1,0)) -> 0 | CZ6: =IF($H6="","",IF('14'!$D$14=Conf!$H6,1,0)) -> 0 | DA6: =IF($H6="","",IF('15'!$D$14=Conf!$H6,1,0)) -> 0 | DB6: =IF($H6="","",IF('16'!$D$14=Conf!$H6,1,0)) -> 0 | DC6: =IF($H6="","",IF('17'!$D$14=Conf!$H6,1,0)) -> 0 | DD6: =IF($H6="","",IF('18'!$D$14=Conf!$H6,1,0)) -> 0 | DE6: =IF($H6="","",IF('19'!$D$14=Conf!$H6,1,0)) -> 0 | DG6: =IF(DH6="","",DI6+DK6) -> 3 | DH6: =H6 -> Max CHILTON | DI6: =IF(DH6="","",RANK(DJ6,$DJ$4:$DJ$35,0)) -> 1 | DJ6: =K6 -> 0 | DK6: =IF(DH6="","",COUNTIF($DI$4:DI6,DI6)-1) -> 2 | DM6: =IF(DN6="","",DO6+DQ6) -> 3 | DN6: =H6 -> Max CHILTON | DO6: =IF(DN6="","",RANK(DP6,$DP$4:$DP$35,0)) -> 1 | DP6: =CL6 -> 0 | DQ6: =IF(DN6="","",COUNTIF($DO$4:DO6,DO6)-1) -> 2 | DS6: =IF(DT6="","",DU6+DW6) -> 3 | DT6: =H6 -> Max CHILTON | DU6: =IF(DT6="","",RANK(DV6,$DV$4:$DV$35,0)) -> 1 | DV6: =IFERROR(K6+L6+M6,"") -> 0 | DW6: =IF(DT6="","",COUNTIF($DU$4:DU6,DU6)-1) -> 2 | DY6: =IF(DZ6="","",EA6+EC6) -> 3 | DZ6: =H6 -> Max CHILTON | EA6: =IF(DZ6="","",RANK(EB6,$EB$4:$EB$35,0)) -> 1 | EB6: =IFERROR(SUM(K6:T6),"") -> 0 | EC6: =IF(DZ6="","",COUNTIF($EA$4:EA6,EA6)-1) -> 2
A7: 6 | B7: 22-25 Mayo | C7: GP MONACO | E7: =C3 -> GP MALAYSIA | G7: =IF(H7="","",RANK(J7,$J$4:$J$35,0)+SUM(U7:AD7)+AF7) -> 4 | H7: =IF(PILOTOS!D16="","",PILOTOS!D16) -> Nico ROSBERG | I7: =IF(PILOTOS!E16="","",PILOTOS!E16) -> Mercedes | J7: =IF(H7="","",SUM(AG7:AY7)) -> 0 | K7: =IF(H7="","",COUNTIFS(AG7:AX7,25,$AG$36:$AX$36,1)+COUNTIFS(AG7:AX7,12.5,$AG$36:$AX$36,2))+IF(H7="","",COUNTIFS(AY7,50,$AY$36,1)+COUNTIFS(AY7,25,$AY$36,2)) -> 0 | L7: =IF(H7="","",COUNTIFS(AG7:AX7,18,$AG$36:$AX$36,1)+COUNTIFS(AG7:AX7,9,$AG$36:$AX$36,2))++IF(H7="","",COUNTIFS(AY7,36,$AY$36,1)+COUNTIFS(AY7,18,$AY$36,2)) -> 0 | M7: =IF(H7="","",COUNTIFS(AG7:AX7,15,$AG$36:$AX$36,1)+COUNTIFS(AG7:AX7,7.5,$AG$36:$AX$36,2))+IF(H7="","",COUNTIFS(AY7,30,$AY$36,1)+COUNTIFS(AY7,15,$AY$36,2)) -> 0 | N7: =IF(H7="","",COUNTIFS(AG7:AX7,12,$AG$36:$AX$36,1)+COUNTIFS(AG7:AX7,6,$AG$36:$AX$36,2))+IF(H7="","",COUNTIFS(AY7,24,$AY$36,1)+COUNTIFS(AY7,12,$AY$36,2)) -> 0 | O7: =IF(H7="","",COUNTIFS(AG7:AX7,10,$AG$36:$AX$36,1)+COUNTIFS(AG7:AX7,5,$AG$36:$AX$36,2))+IF(H7="","",COUNTIFS(AY7,20,$AY$36,1)+COUNTIFS(AY7,10,$AY$36,2)) -> 0 | P7: =IF(H7="","",COUNTIFS(AG7:AX7,8,$AG$36:$AX$36,1)+COUNTIFS(AG7:AX7,4,$AG$36:$AX$36,2))+IF(H7="","",COUNTIFS(AY7,16,$AY$36,1)+COUNTIFS(AY7,8,$AY$36,2)) -> 0 | Q7: =IF(H7="","",COUNTIFS(AG7:AX7,6,$AG$36:$AX$36,1)+COUNTIFS(AG7:AX7,3,$AG$36:$AX$36,2))+IF(H7="","",COUNTIFS(AY7,12,$AY$36,1)+COUNTIFS(AY7,6,$AY$36,2)) -> 0 | R7: =IF(H7="","",COUNTIFS(AG7:AX7,4,$AG$36:$AX$36,1)+COUNTIFS(AG7:AX7,2,$AG$36:$AX$36,2))+IF(H7="","",COUNTIFS(AY7,8,$AY$36,1)+COUNTIFS(AY7,4,$AY$36,2)) -> 0 | S7: =IF(H7="","",COUNTIFS(AG7:AX7,2,$AG$36:$AX$36,1)+COUNTIFS(AG7:AX7,1,$AG$36:$AX$36,2))+IF(H7="","",COUNTIFS(AY7,4,$AY$36,1)+COUNTIFS(AY7,2,$AY$36,2)) -> 0 | T7: =IF(H7="","",COUNTIFS(AG7:AX7,1,$AG$36:$AX$36,1)+COUNTIFS(AG7:AX7,0.5,$AG$36:$AX$36,2))+IF(H7="","",COUNTIFS(AY7,2,$AY$36,1)+COUNTIFS(AY7,1,$AY$36,2)) -> 0 | U7: =IF(H7="","",SUMPRODUCT(($J$4:$J$35=J7)*($K$4:$K$35>K7))) -> 0 | V7: =IF(H7="","",SUMPRODUCT(($J$4:$J$35=J7)*($K$4:$K$35=K7)*($L$4:$L$35>L7))) -> 0 | W7: =IF(H7="","",SUMPRODUCT(($J$4:$J$35=J7)*($K$4:$K$35=K7)*($L$4:$L$35=L7)*($M$4:$M$35>M7))) -> 0 | X7: =IF(H7="","",SUMPRODUCT(($J$4:$J$35=J7)*($K$4:$K$35=K7)*($L$4:$L$35=L7)*($M$4:$M$35=M7)*($N$4:$N$35>N7))) -> 0 | Y7: =IF(H7="","",SUMPRODUCT(($J$4:$J$35=J7)*($K$4:$K$35=K7)*($L$4:$L$35=L7)*($M$4:$M$35=M7)*($N$4:$N$35=N7)*($O$4:$O$35>O7))) -> 0 | Z7: =IF(H7="","",SUMPRODUCT(($J$4:$J$35=J7)*($K$4:$K$35=K7)*($L$4:$L$35=L7)*($M$4:$M$35=M7)*($N$4:$N$35=N7)*($O$4:$O$35=O7)*($P$4:$P$35>P7))) -> 0 | AA7: =IF(H7="","",SUMPRODUCT(($J$4:$J$35=J7)*($K$4:$K$35=K7)*($L$4:$L$35=L7)*($M$4:$M$35=M7)*($N$4:$N$35=N7)*($O$4:$O$35=O7)*($P$4:$P$35=P7)*($Q$4:$Q$35>Q7))) -> 0 | AB7: =IF(H7="","",SUMPRODUCT(($J$4:$J$35=J7)*($K$4:$K$35=K7)*($L$4:$L$35=L7)*($M$4:$M$35=M7)*($N$4:$N$35=N7)*($O$4:$O$35=O7)*($P$4:$P$35=P7)*($Q$4:$Q$35=Q7)*($R$4:$R$35>R7))) -> 0 | AC7: =IF(H7="","",SUMPRODUCT(($J$4:$J$35=J7)*($K$4:$K$35=K7)*($L$4:$L$35=L7)*($M$4:$M$35=M7)*($N$4:$N$35=N7)*($O$4:$O$35=O7)*($P$4:$P$35=P7)*($Q$4:$Q$35=Q7)*($R$4:$R$35=R7)*($S$4:$S$35>S7))) -> 0 | AD7: =IF(H7="","",SUMPRODUCT(($J$4:$J$35=J7)*($K$4:$K$35=K7)*($L$4:$L$35=L7)*($M$4:$M$35=M7)*($N$4:$N$35=N7)*($O$4:$O$35=O7)*($P$4:$P$35=P7)*($Q$4:$Q$35=Q7)*($R$4:$R$35=R7)*($S$4:$S$35=S7)*($T$4:$T$35>T7))) -> 0 | AE7: =IF(PILOTOS!C16="","",PILOTOS!C16) -> 6 | AF7: =IF(H7="","",SUMPRODUCT(($J$4:$J$35=J7)*($K$4:$K$35=K7)*($L$4:$L$35=L7)*($M$4:$M$35=M7)*($N$4:$N$35=N7)*($O$4:$O$35=O7)*($P$4:$P$35=P7)*($Q$4:$Q$35=Q7)*($R$4:$R$35=R7)*($S$4:$S$35=S7)*($T$4:$T$35=T7)*($AE$4:$AE$35<AE7))) -> 3 | AG7: =IF($H7="","",SUMIF('1'!$D$19:$D$28,Conf!$H7,'1'!$F$19:$F$28)) -> 0 | AH7: =IF($H7="","",SUMIF('2'!$D$19:$D$28,Conf!$H7,'2'!$F$19:$F$28)) -> 0 | AI7: =IF($H7="","",SUMIF('3'!$D$19:$D$28,Conf!$H7,'3'!$F$19:$F$28)) -> 0 | AJ7: =IF($H7="","",SUMIF('4'!$D$19:$D$28,Conf!$H7,'4'!$F$19:$F$28)) -> 0 | AK7: =IF($H7="","",SUMIF('5'!$D$19:$D$28,Conf!$H7,'5'!$F$19:$F$28)) -> 0 | AL7: =IF($H7="","",SUMIF('6'!$D$19:$D$28,Conf!$H7,'6'!$F$19:$F$28)) -> 0 | AM7: =IF($H7="","",SUMIF('7'!$D$19:$D$28,Conf!$H7,'7'!$F$19:$F$28)) -> 0 | AN7: =IF($H7="","",SUMIF('8'!$D$19:$D$28,Conf!$H7,'8'!$F$19:$F$28)) -> 0 | AO7: =IF($H7="","",SUMIF('9'!$D$19:$D$28,Conf!$H7,'9'!$F$19:$F$28)) -> 0 | AP7: =IF($H7="","",SUMIF('10'!$D$19:$D$28,Conf!$H7,'10'!$F$19:$F$28)) -> 0 | AQ7: =IF($H7="","",SUMIF('11'!$D$19:$D$28,Conf!$H7,'11'!$F$19:$F$28)) -> 0 | AR7: =IF($H7="","",SUMIF('12'!$D$19:$D$28,Conf!$H7,'12'!$F$19:$F$28)) -> 0 | AS7: =IF($H7="","",SUMIF('13'!$D$19:$D$28,Conf!$H7,'13'!$F$19:$F$28)) -> 0 | AT7: =IF($H7="","",SUMIF('14'!$D$19:$D$28,Conf!$H7,'14'!$F$19:$F$28)) -> 0 | AU7: =IF($H7="","",SUMIF('15'!$D$19:$D$28,Conf!$H7,'15'!$F$19:$F$28)) -> 0 | AV7: =IF($H7="","",SUMIF('16'!$D$19:$D$28,Conf!$H7,'16'!$F$19:$F$28)) -> 0 | AW7: =IF($H7="","",SUMIF('17'!$D$19:$D$28,Conf!$H7,'17'!$F$19:$F$28)) -> 0 | AX7: =IF($H7="","",SUMIF('18'!$D$19:$D$28,Conf!$H7,'18'!$F$19:$F$28)) -> 0 | AY7: =IF($H7="","",SUMIF('19'!$D$19:$D$28,Conf!$H7,'19'!$F$19:$F$28)) -> 0 | AZ7: =IFERROR(AG7,"") -> 0 | BA7: =IFERROR(AZ7+AH7,"") -> 0 | BB7: =IFERROR(BA7+AI7,"") -> 0 | BC7: =IFERROR(BB7+AJ7,"") -> 0 | BD7: =IFERROR(BC7+AK7,"") -> 0 | BE7: =IFERROR(BD7+AL7,"") -> 0 | BF7: =IFERROR(BE7+AM7,"") -> 0 | BG7: =IFERROR(BF7+AN7,"") -> 0 | BH7: =IFERROR(BG7+AO7,"") -> 0 | ... BR7: =IFERROR(BQ7+AY7,"") -> 0 | BS7: =IF($H7="","",RANK(AZ7,AZ$4:AZ$35,0)+COUNTIF($AZ$4:AZ7,AZ7)-1) -> 4 | BT7: =IF($H7="","",RANK(BA7,BA$4:BA$35,0)+COUNTIF($BA$4:BA7,BA7)-1) -> 4 | BU7: =IF($H7="","",RANK(BB7,BB$4:BB$35,0)+COUNTIF($BB$4:BB7,BB7)-1) -> 4 | BV7: =IF($H7="","",RANK(BC7,BC$4:BC$35,0)+COUNTIF($BC$4:BC7,BC7)-1) -> 4 | BW7: =IF($H7="","",RANK(BD7,BD$4:BD$35,0)+COUNTIF($BD$4:BD7,BD7)-1) -> 4 | BX7: =IF($H7="","",RANK(BE7,BE$4:BE$35,0)+COUNTIF($BE$4:BE7,BE7)-1) -> 4 | BY7: =IF($H7="","",RANK(BF7,BF$4:BF$35,0)+COUNTIF($BF$4:BF7,BF7)-1) -> 4 | BZ7: =IF($H7="","",RANK(BG7,BG$4:BG$35,0)+COUNTIF($BG$4:BG7,BG7)-1) -> 4 | CA7: =IF($H7="","",RANK(BH7,BH$4:BH$35,0)+COUNTIF($BH$4:BH7,BH7)-1) -> 4 | CB7: =IF($H7="","",RANK(BI7,BI$4:BI$35,0)+COUNTIF($BI$4:BI7,BI7)-1) -> 4 | CC7: =IF($H7="","",RANK(BJ7,BJ$4:BJ$35,0)+COUNTIF($BJ$4:BJ7,BJ7)-1) -> 4 | CD7: =IF($H7="","",RANK(BK7,BK$4:BK$35,0)+COUNTIF($BK$4:BK7,BK7)-1) -> 4 | CE7: =IF($H7="","",RANK(BL7,BL$4:BL$35,0)+COUNTIF($BL$4:BL7,BL7)-1) -> 4 | CF7: =IF($H7="","",RANK(BM7,BM$4:BM$35,0)+COUNTIF($BM$4:BM7,BM7)-1) -> 4 | CG7: =IF($H7="","",RANK(BN7,BN$4:BN$35,0)+COUNTIF($BN$4:BN7,BN7)-1) -> 4 | CH7: =IF($H7="","",RANK(BO7,BO$4:BO$35,0)+COUNTIF($BO$4:BO7,BO7)-1) -> 4 | CI7: =IF($H7="","",RANK(BP7,BP$4:BP$35,0)+COUNTIF($BP$4:BP7,BP7)-1) -> 4 | CJ7: =IF($H7="","",RANK(BQ7,BQ$4:BQ$35,0)+COUNTIF($BQ$4:BQ7,BQ7)-1) -> 4 | CK7: =IF($H7="","",RANK(BR7,BR$4:BR$35,0)+COUNTIF($BR$4:BR7,BR7)-1) -> 4 | CL7: =IF(H7="","",SUM(CM7:DE7)) -> 0 | CM7: =IF($H7="","",IF('1'!$D$14=Conf!$H7,1,0)) -> 0 | CN7: =IF($H7="","",IF('2'!$D$14=Conf!$H7,1,0)) -> 0 | CO7: =IF($H7="","",IF('3'!$D$14=Conf!$H7,1,0)) -> 0 | CP7: =IF($H7="","",IF('4'!$D$14=Conf!$H7,1,0)) -> 0 | CQ7: =IF($H7="","",IF('5'!$D$14=Conf!$H7,1,0)) -> 0 | CR7: =IF($H7="","",IF('6'!$D$14=Conf!$H7,1,0)) -> 0 | CS7: =IF($H7="","",IF('7'!$D$14=Conf!$H7,1,0)) -> 0 | CT7: =IF($H7="","",IF('8'!$D$14=Conf!$H7,1,0)) -> 0 | CU7: =IF($H7="","",IF('9'!$D$14=Conf!$H7,1,0)) -> 0 | CV7: =IF($H7="","",IF('10'!$D$14=Conf!$H7,1,0)) -> 0 | CW7: =IF($H7="","",IF('11'!$D$14=Conf!$H7,1,0)) -> 0 | CX7: =IF($H7="","",IF('12'!$D$14=Conf!$H7,1,0)) -> 0 | CY7: =IF($H7="","",IF('13'!$D$14=Conf!$H7,1,0)) -> 0 | CZ7: =IF($H7="","",IF('14'!$D$14=Conf!$H7,1,0)) -> 0 | DA7: =IF($H7="","",IF('15'!$D$14=Conf!$H7,1,0)) -> 0 | DB7: =IF($H7="","",IF('16'!$D$14=Conf!$H7,1,0)) -> 0 | DC7: =IF($H7="","",IF('17'!$D$14=Conf!$H7,1,0)) -> 0 | DD7: =IF($H7="","",IF('18'!$D$14=Conf!$H7,1,0)) -> 0 | DE7: =IF($H7="","",IF('19'!$D$14=Conf!$H7,1,0)) -> 0 | DG7: =IF(DH7="","",DI7+DK7) -> 4 | DH7: =H7 -> Nico ROSBERG | DI7: =IF(DH7="","",RANK(DJ7,$DJ$4:$DJ$35,0)) -> 1 | DJ7: =K7 -> 0 | DK7: =IF(DH7="","",COUNTIF($DI$4:DI7,DI7)-1) -> 3 | DM7: =IF(DN7="","",DO7+DQ7) -> 4 | DN7: =H7 -> Nico ROSBERG | DO7: =IF(DN7="","",RANK(DP7,$DP$4:$DP$35,0)) -> 1 | DP7: =CL7 -> 0 | DQ7: =IF(DN7="","",COUNTIF($DO$4:DO7,DO7)-1) -> 3 | DS7: =IF(DT7="","",DU7+DW7) -> 4 | DT7: =H7 -> Nico ROSBERG | DU7: =IF(DT7="","",RANK(DV7,$DV$4:$DV$35,0)) -> 1 | DV7: =IFERROR(K7+L7+M7,"") -> 0 | DW7: =IF(DT7="","",COUNTIF($DU$4:DU7,DU7)-1) -> 3 | DY7: =IF(DZ7="","",EA7+EC7) -> 4 | DZ7: =H7 -> Nico ROSBERG | EA7: =IF(DZ7="","",RANK(EB7,$EB$4:$EB$35,0)) -> 1 | EB7: =IFERROR(SUM(K7:T7),"") -> 0 | EC7: =IF(DZ7="","",COUNTIF($EA$4:EA7,EA7)-1) -> 3
A8: 7 | B8: 6-8 Junio | C8: GP CANADA | E8: =IF('2'!$D$19="","",'2'!$D$19) | G8: =IF(H8="","",RANK(J8,$J$4:$J$35,0)+SUM(U8:AD8)+AF8) -> 5 | H8: =IF(PILOTOS!D17="","",PILOTOS!D17) -> Kimi RAIKKONEN | I8: =IF(PILOTOS!E17="","",PILOTOS!E17) -> Ferrari | J8: =IF(H8="","",SUM(AG8:AY8)) -> 0 | K8: =IF(H8="","",COUNTIFS(AG8:AX8,25,$AG$36:$AX$36,1)+COUNTIFS(AG8:AX8,12.5,$AG$36:$AX$36,2))+IF(H8="","",COUNTIFS(AY8,50,$AY$36,1)+COUNTIFS(AY8,25,$AY$36,2)) -> 0 | L8: =IF(H8="","",COUNTIFS(AG8:AX8,18,$AG$36:$AX$36,1)+COUNTIFS(AG8:AX8,9,$AG$36:$AX$36,2))++IF(H8="","",COUNTIFS(AY8,36,$AY$36,1)+COUNTIFS(AY8,18,$AY$36,2)) -> 0 | M8: =IF(H8="","",COUNTIFS(AG8:AX8,15,$AG$36:$AX$36,1)+COUNTIFS(AG8:AX8,7.5,$AG$36:$AX$36,2))+IF(H8="","",COUNTIFS(AY8,30,$AY$36,1)+COUNTIFS(AY8,15,$AY$36,2)) -> 0 | N8: =IF(H8="","",COUNTIFS(AG8:AX8,12,$AG$36:$AX$36,1)+COUNTIFS(AG8:AX8,6,$AG$36:$AX$36,2))+IF(H8="","",COUNTIFS(AY8,24,$AY$36,1)+COUNTIFS(AY8,12,$AY$36,2)) -> 0 | O8: =IF(H8="","",COUNTIFS(AG8:AX8,10,$AG$36:$AX$36,1)+COUNTIFS(AG8:AX8,5,$AG$36:$AX$36,2))+IF(H8="","",COUNTIFS(AY8,20,$AY$36,1)+COUNTIFS(AY8,10,$AY$36,2)) -> 0 | P8: =IF(H8="","",COUNTIFS(AG8:AX8,8,$AG$36:$AX$36,1)+COUNTIFS(AG8:AX8,4,$AG$36:$AX$36,2))+IF(H8="","",COUNTIFS(AY8,16,$AY$36,1)+COUNTIFS(AY8,8,$AY$36,2)) -> 0 | Q8: =IF(H8="","",COUNTIFS(AG8:AX8,6,$AG$36:$AX$36,1)+COUNTIFS(AG8:AX8,3,$AG$36:$AX$36,2))+IF(H8="","",COUNTIFS(AY8,12,$AY$36,1)+COUNTIFS(AY8,6,$AY$36,2)) -> 0 | R8: =IF(H8="","",COUNTIFS(AG8:AX8,4,$AG$36:$AX$36,1)+COUNTIFS(AG8:AX8,2,$AG$36:$AX$36,2))+IF(H8="","",COUNTIFS(AY8,8,$AY$36,1)+COUNTIFS(AY8,4,$AY$36,2)) -> 0 | S8: =IF(H8="","",COUNTIFS(AG8:AX8,2,$AG$36:$AX$36,1)+COUNTIFS(AG8:AX8,1,$AG$36:$AX$36,2))+IF(H8="","",COUNTIFS(AY8,4,$AY$36,1)+COUNTIFS(AY8,2,$AY$36,2)) -> 0 | T8: =IF(H8="","",COUNTIFS(AG8:AX8,1,$AG$36:$AX$36,1)+COUNTIFS(AG8:AX8,0.5,$AG$36:$AX$36,2))+IF(H8="","",COUNTIFS(AY8,2,$AY$36,1)+COUNTIFS(AY8,1,$AY$36,2)) -> 0 | U8: =IF(H8="","",SUMPRODUCT(($J$4:$J$35=J8)*($K$4:$K$35>K8))) -> 0 | V8: =IF(H8="","",SUMPRODUCT(($J$4:$J$35=J8)*($K$4:$K$35=K8)*($L$4:$L$35>L8))) -> 0 | W8: =IF(H8="","",SUMPRODUCT(($J$4:$J$35=J8)*($K$4:$K$35=K8)*($L$4:$L$35=L8)*($M$4:$M$35>M8))) -> 0 | X8: =IF(H8="","",SUMPRODUCT(($J$4:$J$35=J8)*($K$4:$K$35=K8)*($L$4:$L$35=L8)*($M$4:$M$35=M8)*($N$4:$N$35>N8))) -> 0 | Y8: =IF(H8="","",SUMPRODUCT(($J$4:$J$35=J8)*($K$4:$K$35=K8)*($L$4:$L$35=L8)*($M$4:$M$35=M8)*($N$4:$N$35=N8)*($O$4:$O$35>O8))) -> 0 | Z8: =IF(H8="","",SUMPRODUCT(($J$4:$J$35=J8)*($K$4:$K$35=K8)*($L$4:$L$35=L8)*($M$4:$M$35=M8)*($N$4:$N$35=N8)*($O$4:$O$35=O8)*($P$4:$P$35>P8))) -> 0 | AA8: =IF(H8="","",SUMPRODUCT(($J$4:$J$35=J8)*($K$4:$K$35=K8)*($L$4:$L$35=L8)*($M$4:$M$35=M8)*($N$4:$N$35=N8)*($O$4:$O$35=O8)*($P$4:$P$35=P8)*($Q$4:$Q$35>Q8))) -> 0 | AB8: =IF(H8="","",SUMPRODUCT(($J$4:$J$35=J8)*($K$4:$K$35=K8)*($L$4:$L$35=L8)*($M$4:$M$35=M8)*($N$4:$N$35=N8)*($O$4:$O$35=O8)*($P$4:$P$35=P8)*($Q$4:$Q$35=Q8)*($R$4:$R$35>R8))) -> 0 | AC8: =IF(H8="","",SUMPRODUCT(($J$4:$J$35=J8)*($K$4:$K$35=K8)*($L$4:$L$35=L8)*($M$4:$M$35=M8)*($N$4:$N$35=N8)*($O$4:$O$35=O8)*($P$4:$P$35=P8)*($Q$4:$Q$35=Q8)*($R$4:$R$35=R8)*($S$4:$S$35>S8))) -> 0 | AD8: =IF(H8="","",SUMPRODUCT(($J$4:$J$35=J8)*($K$4:$K$35=K8)*($L$4:$L$35=L8)*($M$4:$M$35=M8)*($N$4:$N$35=N8)*($O$4:$O$35=O8)*($P$4:$P$35=P8)*($Q$4:$Q$35=Q8)*($R$4:$R$35=R8)*($S$4:$S$35=S8)*($T$4:$T$35>T8))) -> 0 | AE8: =IF(PILOTOS!C17="","",PILOTOS!C17) -> 7 | AF8: =IF(H8="","",SUMPRODUCT(($J$4:$J$35=J8)*($K$4:$K$35=K8)*($L$4:$L$35=L8)*($M$4:$M$35=M8)*($N$4:$N$35=N8)*($O$4:$O$35=O8)*($P$4:$P$35=P8)*($Q$4:$Q$35=Q8)*($R$4:$R$35=R8)*($S$4:$S$35=S8)*($T$4:$T$35=T8)*($AE$4:$AE$35<AE8))) -> 4 | AG8: =IF($H8="","",SUMIF('1'!$D$19:$D$28,Conf!$H8,'1'!$F$19:$F$28)) -> 0 | AH8: =IF($H8="","",SUMIF('2'!$D$19:$D$28,Conf!$H8,'2'!$F$19:$F$28)) -> 0 | AI8: =IF($H8="","",SUMIF('3'!$D$19:$D$28,Conf!$H8,'3'!$F$19:$F$28)) -> 0 | AJ8: =IF($H8="","",SUMIF('4'!$D$19:$D$28,Conf!$H8,'4'!$F$19:$F$28)) -> 0 | AK8: =IF($H8="","",SUMIF('5'!$D$19:$D$28,Conf!$H8,'5'!$F$19:$F$28)) -> 0 | AL8: =IF($H8="","",SUMIF('6'!$D$19:$D$28,Conf!$H8,'6'!$F$19:$F$28)) -> 0 | AM8: =IF($H8="","",SUMIF('7'!$D$19:$D$28,Conf!$H8,'7'!$F$19:$F$28)) -> 0 | AN8: =IF($H8="","",SUMIF('8'!$D$19:$D$28,Conf!$H8,'8'!$F$19:$F$28)) -> 0 | AO8: =IF($H8="","",SUMIF('9'!$D$19:$D$28,Conf!$H8,'9'!$F$19:$F$28)) -> 0 | AP8: =IF($H8="","",SUMIF('10'!$D$19:$D$28,Conf!$H8,'10'!$F$19:$F$28)) -> 0 | AQ8: =IF($H8="","",SUMIF('11'!$D$19:$D$28,Conf!$H8,'11'!$F$19:$F$28)) -> 0 | AR8: =IF($H8="","",SUMIF('12'!$D$19:$D$28,Conf!$H8,'12'!$F$19:$F$28)) -> 0 | AS8: =IF($H8="","",SUMIF('13'!$D$19:$D$28,Conf!$H8,'13'!$F$19:$F$28)) -> 0 | AT8: =IF($H8="","",SUMIF('14'!$D$19:$D$28,Conf!$H8,'14'!$F$19:$F$28)) -> 0 | AU8: =IF($H8="","",SUMIF('15'!$D$19:$D$28,Conf!$H8,'15'!$F$19:$F$28)) -> 0 | AV8: =IF($H8="","",SUMIF('16'!$D$19:$D$28,Conf!$H8,'16'!$F$19:$F$28)) -> 0 | AW8: =IF($H8="","",SUMIF('17'!$D$19:$D$28,Conf!$H8,'17'!$F$19:$F$28)) -> 0 | AX8: =IF($H8="","",SUMIF('18'!$D$19:$D$28,Conf!$H8,'18'!$F$19:$F$28)) -> 0 | AY8: =IF($H8="","",SUMIF('19'!$D$19:$D$28,Conf!$H8,'19'!$F$19:$F$28)) -> 0 | AZ8: =IFERROR(AG8,"") -> 0 | BA8: =IFERROR(AZ8+AH8,"") -> 0 | BB8: =IFERROR(BA8+AI8,"") -> 0 | BC8: =IFERROR(BB8+AJ8,"") -> 0 | BD8: =IFERROR(BC8+AK8,"") -> 0 | BE8: =IFERROR(BD8+AL8,"") -> 0 | BF8: =IFERROR(BE8+AM8,"") -> 0 | BG8: =IFERROR(BF8+AN8,"") -> 0 | BH8: =IFERROR(BG8+AO8,"") -> 0 | ... BR8: =IFERROR(BQ8+AY8,"") -> 0 | BS8: =IF($H8="","",RANK(AZ8,AZ$4:AZ$35,0)+COUNTIF($AZ$4:AZ8,AZ8)-1) -> 5 | BT8: =IF($H8="","",RANK(BA8,BA$4:BA$35,0)+COUNTIF($BA$4:BA8,BA8)-1) -> 5 | BU8: =IF($H8="","",RANK(BB8,BB$4:BB$35,0)+COUNTIF($BB$4:BB8,BB8)-1) -> 5 | BV8: =IF($H8="","",RANK(BC8,BC$4:BC$35,0)+COUNTIF($BC$4:BC8,BC8)-1) -> 5 | BW8: =IF($H8="","",RANK(BD8,BD$4:BD$35,0)+COUNTIF($BD$4:BD8,BD8)-1) -> 5 | BX8: =IF($H8="","",RANK(BE8,BE$4:BE$35,0)+COUNTIF($BE$4:BE8,BE8)-1) -> 5 | BY8: =IF($H8="","",RANK(BF8,BF$4:BF$35,0)+COUNTIF($BF$4:BF8,BF8)-1) -> 5 | BZ8: =IF($H8="","",RANK(BG8,BG$4:BG$35,0)+COUNTIF($BG$4:BG8,BG8)-1) -> 5 | CA8: =IF($H8="","",RANK(BH8,BH$4:BH$35,0)+COUNTIF($BH$4:BH8,BH8)-1) -> 5 | CB8: =IF($H8="","",RANK(BI8,BI$4:BI$35,0)+COUNTIF($BI$4:BI8,BI8)-1) -> 5 | CC8: =IF($H8="","",RANK(BJ8,BJ$4:BJ$35,0)+COUNTIF($BJ$4:BJ8,BJ8)-1) -> 5 | CD8: =IF($H8="","",RANK(BK8,BK$4:BK$35,0)+COUNTIF($BK$4:BK8,BK8)-1) -> 5 | CE8: =IF($H8="","",RANK(BL8,BL$4:BL$35,0)+COUNTIF($BL$4:BL8,BL8)-1) -> 5 | CF8: =IF($H8="","",RANK(BM8,BM$4:BM$35,0)+COUNTIF($BM$4:BM8,BM8)-1) -> 5 | CG8: =IF($H8="","",RANK(BN8,BN$4:BN$35,0)+COUNTIF($BN$4:BN8,BN8)-1) -> 5 | CH8: =IF($H8="","",RANK(BO8,BO$4:BO$35,0)+COUNTIF($BO$4:BO8,BO8)-1) -> 5 | CI8: =IF($H8="","",RANK(BP8,BP$4:BP$35,0)+COUNTIF($BP$4:BP8,BP8)-1) -> 5 | CJ8: =IF($H8="","",RANK(BQ8,BQ$4:BQ$35,0)+COUNTIF($BQ$4:BQ8,BQ8)-1) -> 5 | CK8: =IF($H8="","",RANK(BR8,BR$4:BR$35,0)+COUNTIF($BR$4:BR8,BR8)-1) -> 5 | CL8: =IF(H8="","",SUM(CM8:DE8)) -> 0 | CM8: =IF($H8="","",IF('1'!$D$14=Conf!$H8,1,0)) -> 0 | CN8: =IF($H8="","",IF('2'!$D$14=Conf!$H8,1,0)) -> 0 | CO8: =IF($H8="","",IF('3'!$D$14=Conf!$H8,1,0)) -> 0 | CP8: =IF($H8="","",IF('4'!$D$14=Conf!$H8,1,0)) -> 0 | CQ8: =IF($H8="","",IF('5'!$D$14=Conf!$H8,1,0)) -> 0 | CR8: =IF($H8="","",IF('6'!$D$14=Conf!$H8,1,0)) -> 0 | CS8: =IF($H8="","",IF('7'!$D$14=Conf!$H8,1,0)) -> 0 | CT8: =IF($H8="","",IF('8'!$D$14=Conf!$H8,1,0)) -> 0 | CU8: =IF($H8="","",IF('9'!$D$14=Conf!$H8,1,0)) -> 0 | CV8: =IF($H8="","",IF('10'!$D$14=Conf!$H8,1,0)) -> 0 | CW8: =IF($H8="","",IF('11'!$D$14=Conf!$H8,1,0)) -> 0 | CX8: =IF($H8="","",IF('12'!$D$14=Conf!$H8,1,0)) -> 0 | CY8: =IF($H8="","",IF('13'!$D$14=Conf!$H8,1,0)) -> 0 | CZ8: =IF($H8="","",IF('14'!$D$14=Conf!$H8,1,0)) -> 0 | DA8: =IF($H8="","",IF('15'!$D$14=Conf!$H8,1,0)) -> 0 | DB8: =IF($H8="","",IF('16'!$D$14=Conf!$H8,1,0)) -> 0 | DC8: =IF($H8="","",IF('17'!$D$14=Conf!$H8,1,0)) -> 0 | DD8: =IF($H8="","",IF('18'!$D$14=Conf!$H8,1,0)) -> 0 | DE8: =IF($H8="","",IF('19'!$D$14=Conf!$H8,1,0)) -> 0 | DG8: =IF(DH8="","",DI8+DK8) -> 5 | DH8: =H8 -> Kimi RAIKKONEN | DI8: =IF(DH8="","",RANK(DJ8,$DJ$4:$DJ$35,0)) -> 1 | DJ8: =K8 -> 0 | DK8: =IF(DH8="","",COUNTIF($DI$4:DI8,DI8)-1) -> 4 | DM8: =IF(DN8="","",DO8+DQ8) -> 5 | DN8: =H8 -> Kimi RAIKKONEN | DO8: =IF(DN8="","",RANK(DP8,$DP$4:$DP$35,0)) -> 1 | DP8: =CL8 -> 0 | DQ8: =IF(DN8="","",COUNTIF($DO$4:DO8,DO8)-1) -> 4 | DS8: =IF(DT8="","",DU8+DW8) -> 5 | DT8: =H8 -> Kimi RAIKKONEN | DU8: =IF(DT8="","",RANK(DV8,$DV$4:$DV$35,0)) -> 1 | DV8: =IFERROR(K8+L8+M8,"") -> 0 | DW8: =IF(DT8="","",COUNTIF($DU$4:DU8,DU8)-1) -> 4 | DY8: =IF(DZ8="","",EA8+EC8) -> 5 | DZ8: =H8 -> Kimi RAIKKONEN | EA8: =IF(DZ8="","",RANK(EB8,$EB$4:$EB$35,0)) -> 1 | EB8: =IFERROR(SUM(K8:T8),"") -> 0 | EC8: =IF(DZ8="","",COUNTIF($EA$4:EA8,EA8)-1) -> 4
A9: 8 | B9: 20-22 Junio | C9: GP AUSTRIA | E9: =IF('2'!$D$20="","",'2'!$D$20) | G9: =IF(H9="","",RANK(J9,$J$4:$J$35,0)+SUM(U9:AD9)+AF9) -> 6 | H9: =IF(PILOTOS!D18="","",PILOTOS!D18) -> Romain GROSJEAN | I9: =IF(PILOTOS!E18="","",PILOTOS!E18) -> Lotus | J9: =IF(H9="","",SUM(AG9:AY9)) -> 0 | K9: =IF(H9="","",COUNTIFS(AG9:AX9,25,$AG$36:$AX$36,1)+COUNTIFS(AG9:AX9,12.5,$AG$36:$AX$36,2))+IF(H9="","",COUNTIFS(AY9,50,$AY$36,1)+COUNTIFS(AY9,25,$AY$36,2)) -> 0 | L9: =IF(H9="","",COUNTIFS(AG9:AX9,18,$AG$36:$AX$36,1)+COUNTIFS(AG9:AX9,9,$AG$36:$AX$36,2))++IF(H9="","",COUNTIFS(AY9,36,$AY$36,1)+COUNTIFS(AY9,18,$AY$36,2)) -> 0 | M9: =IF(H9="","",COUNTIFS(AG9:AX9,15,$AG$36:$AX$36,1)+COUNTIFS(AG9:AX9,7.5,$AG$36:$AX$36,2))+IF(H9="","",COUNTIFS(AY9,30,$AY$36,1)+COUNTIFS(AY9,15,$AY$36,2)) -> 0 | N9: =IF(H9="","",COUNTIFS(AG9:AX9,12,$AG$36:$AX$36,1)+COUNTIFS(AG9:AX9,6,$AG$36:$AX$36,2))+IF(H9="","",COUNTIFS(AY9,24,$AY$36,1)+COUNTIFS(AY9,12,$AY$36,2)) -> 0 | O9: =IF(H9="","",COUNTIFS(AG9:AX9,10,$AG$36:$AX$36,1)+COUNTIFS(AG9:AX9,5,$AG$36:$AX$36,2))+IF(H9="","",COUNTIFS(AY9,20,$AY$36,1)+COUNTIFS(AY9,10,$AY$36,2)) -> 0 | P9: =IF(H9="","",COUNTIFS(AG9:AX9,8,$AG$36:$AX$36,1)+COUNTIFS(AG9:AX9,4,$AG$36:$AX$36,2))+IF(H9="","",COUNTIFS(AY9,16,$AY$36,1)+COUNTIFS(AY9,8,$AY$36,2)) -> 0 | Q9: =IF(H9="","",COUNTIFS(AG9:AX9,6,$AG$36:$AX$36,1)+COUNTIFS(AG9:AX9,3,$AG$36:$AX$36,2))+IF(H9="","",COUNTIFS(AY9,12,$AY$36,1)+COUNTIFS(AY9,6,$AY$36,2)) -> 0 | R9: =IF(H9="","",COUNTIFS(AG9:AX9,4,$AG$36:$AX$36,1)+COUNTIFS(AG9:AX9,2,$AG$36:$AX$36,2))+IF(H9="","",COUNTIFS(AY9,8,$AY$36,1)+COUNTIFS(AY9,4,$AY$36,2)) -> 0 | S9: =IF(H9="","",COUNTIFS(AG9:AX9,2,$AG$36:$AX$36,1)+COUNTIFS(AG9:AX9,1,$AG$36:$AX$36,2))+IF(H9="","",COUNTIFS(AY9,4,$AY$36,1)+COUNTIFS(AY9,2,$AY$36,2)) -> 0 | T9: =IF(H9="","",COUNTIFS(AG9:AX9,1,$AG$36:$AX$36,1)+COUNTIFS(AG9:AX9,0.5,$AG$36:$AX$36,2))+IF(H9="","",COUNTIFS(AY9,2,$AY$36,1)+COUNTIFS(AY9,1,$AY$36,2)) -> 0 | U9: =IF(H9="","",SUMPRODUCT(($J$4:$J$35=J9)*($K$4:$K$35>K9))) -> 0 | V9: =IF(H9="","",SUMPRODUCT(($J$4:$J$35=J9)*($K$4:$K$35=K9)*($L$4:$L$35>L9))) -> 0 | W9: =IF(H9="","",SUMPRODUCT(($J$4:$J$35=J9)*($K$4:$K$35=K9)*($L$4:$L$35=L9)*($M$4:$M$35>M9))) -> 0 | X9: =IF(H9="","",SUMPRODUCT(($J$4:$J$35=J9)*($K$4:$K$35=K9)*($L$4:$L$35=L9)*($M$4:$M$35=M9)*($N$4:$N$35>N9))) -> 0 | Y9: =IF(H9="","",SUMPRODUCT(($J$4:$J$35=J9)*($K$4:$K$35=K9)*($L$4:$L$35=L9)*($M$4:$M$35=M9)*($N$4:$N$35=N9)*($O$4:$O$35>O9))) -> 0 | Z9: =IF(H9="","",SUMPRODUCT(($J$4:$J$35=J9)*($K$4:$K$35=K9)*($L$4:$L$35=L9)*($M$4:$M$35=M9)*($N$4:$N$35=N9)*($O$4:$O$35=O9)*($P$4:$P$35>P9))) -> 0 | AA9: =IF(H9="","",SUMPRODUCT(($J$4:$J$35=J9)*($K$4:$K$35=K9)*($L$4:$L$35=L9)*($M$4:$M$35=M9)*($N$4:$N$35=N9)*($O$4:$O$35=O9)*($P$4:$P$35=P9)*($Q$4:$Q$35>Q9))) -> 0 | AB9: =IF(H9="","",SUMPRODUCT(($J$4:$J$35=J9)*($K$4:$K$35=K9)*($L$4:$L$35=L9)*($M$4:$M$35=M9)*($N$4:$N$35=N9)*($O$4:$O$35=O9)*($P$4:$P$35=P9)*($Q$4:$Q$35=Q9)*($R$4:$R$35>R9))) -> 0 | AC9: =IF(H9="","",SUMPRODUCT(($J$4:$J$35=J9)*($K$4:$K$35=K9)*($L$4:$L$35=L9)*($M$4:$M$35=M9)*($N$4:$N$35=N9)*($O$4:$O$35=O9)*($P$4:$P$35=P9)*($Q$4:$Q$35=Q9)*($R$4:$R$35=R9)*($S$4:$S$35>S9))) -> 0 | AD9: =IF(H9="","",SUMPRODUCT(($J$4:$J$35=J9)*($K$4:$K$35=K9)*($L$4:$L$35=L9)*($M$4:$M$35=M9)*($N$4:$N$35=N9)*($O$4:$O$35=O9)*($P$4:$P$35=P9)*($Q$4:$Q$35=Q9)*($R$4:$R$35=R9)*($S$4:$S$35=S9)*($T$4:$T$35>T9))) -> 0 | AE9: =IF(PILOTOS!C18="","",PILOTOS!C18) -> 8 | AF9: =IF(H9="","",SUMPRODUCT(($J$4:$J$35=J9)*($K$4:$K$35=K9)*($L$4:$L$35=L9)*($M$4:$M$35=M9)*($N$4:$N$35=N9)*($O$4:$O$35=O9)*($P$4:$P$35=P9)*($Q$4:$Q$35=Q9)*($R$4:$R$35=R9)*($S$4:$S$35=S9)*($T$4:$T$35=T9)*($AE$4:$AE$35<AE9))) -> 5 | AG9: =IF($H9="","",SUMIF('1'!$D$19:$D$28,Conf!$H9,'1'!$F$19:$F$28)) -> 0 | AH9: =IF($H9="","",SUMIF('2'!$D$19:$D$28,Conf!$H9,'2'!$F$19:$F$28)) -> 0 | AI9: =IF($H9="","",SUMIF('3'!$D$19:$D$28,Conf!$H9,'3'!$F$19:$F$28)) -> 0 | AJ9: =IF($H9="","",SUMIF('4'!$D$19:$D$28,Conf!$H9,'4'!$F$19:$F$28)) -> 0 | AK9: =IF($H9="","",SUMIF('5'!$D$19:$D$28,Conf!$H9,'5'!$F$19:$F$28)) -> 0 | AL9: =IF($H9="","",SUMIF('6'!$D$19:$D$28,Conf!$H9,'6'!$F$19:$F$28)) -> 0 | AM9: =IF($H9="","",SUMIF('7'!$D$19:$D$28,Conf!$H9,'7'!$F$19:$F$28)) -> 0 | AN9: =IF($H9="","",SUMIF('8'!$D$19:$D$28,Conf!$H9,'8'!$F$19:$F$28)) -> 0 | AO9: =IF($H9="","",SUMIF('9'!$D$19:$D$28,Conf!$H9,'9'!$F$19:$F$28)) -> 0 | AP9: =IF($H9="","",SUMIF('10'!$D$19:$D$28,Conf!$H9,'10'!$F$19:$F$28)) -> 0 | AQ9: =IF($H9="","",SUMIF('11'!$D$19:$D$28,Conf!$H9,'11'!$F$19:$F$28)) -> 0 | AR9: =IF($H9="","",SUMIF('12'!$D$19:$D$28,Conf!$H9,'12'!$F$19:$F$28)) -> 0 | AS9: =IF($H9="","",SUMIF('13'!$D$19:$D$28,Conf!$H9,'13'!$F$19:$F$28)) -> 0 | AT9: =IF($H9="","",SUMIF('14'!$D$19:$D$28,Conf!$H9,'14'!$F$19:$F$28)) -> 0 | AU9: =IF($H9="","",SUMIF('15'!$D$19:$D$28,Conf!$H9,'15'!$F$19:$F$28)) -> 0 | AV9: =IF($H9="","",SUMIF('16'!$D$19:$D$28,Conf!$H9,'16'!$F$19:$F$28)) -> 0 | AW9: =IF($H9="","",SUMIF('17'!$D$19:$D$28,Conf!$H9,'17'!$F$19:$F$28)) -> 0 | AX9: =IF($H9="","",SUMIF('18'!$D$19:$D$28,Conf!$H9,'18'!$F$19:$F$28)) -> 0 | AY9: =IF($H9="","",SUMIF('19'!$D$19:$D$28,Conf!$H9,'19'!$F$19:$F$28)) -> 0 | AZ9: =IFERROR(AG9,"") -> 0 | BA9: =IFERROR(AZ9+AH9,"") -> 0 | BB9: =IFERROR(BA9+AI9,"") -> 0 | BC9: =IFERROR(BB9+AJ9,"") -> 0 | BD9: =IFERROR(BC9+AK9,"") -> 0 | BE9: =IFERROR(BD9+AL9,"") -> 0 | BF9: =IFERROR(BE9+AM9,"") -> 0 | BG9: =IFERROR(BF9+AN9,"") -> 0 | BH9: =IFERROR(BG9+AO9,"") -> 0 | ... BR9: =IFERROR(BQ9+AY9,"") -> 0 | BS9: =IF($H9="","",RANK(AZ9,AZ$4:AZ$35,0)+COUNTIF($AZ$4:AZ9,AZ9)-1) -> 6 | BT9: =IF($H9="","",RANK(BA9,BA$4:BA$35,0)+COUNTIF($BA$4:BA9,BA9)-1) -> 6 | BU9: =IF($H9="","",RANK(BB9,BB$4:BB$35,0)+COUNTIF($BB$4:BB9,BB9)-1) -> 6 | BV9: =IF($H9="","",RANK(BC9,BC$4:BC$35,0)+COUNTIF($BC$4:BC9,BC9)-1) -> 6 | BW9: =IF($H9="","",RANK(BD9,BD$4:BD$35,0)+COUNTIF($BD$4:BD9,BD9)-1) -> 6 | BX9: =IF($H9="","",RANK(BE9,BE$4:BE$35,0)+COUNTIF($BE$4:BE9,BE9)-1) -> 6 | BY9: =IF($H9="","",RANK(BF9,BF$4:BF$35,0)+COUNTIF($BF$4:BF9,BF9)-1) -> 6 | BZ9: =IF($H9="","",RANK(BG9,BG$4:BG$35,0)+COUNTIF($BG$4:BG9,BG9)-1) -> 6 | CA9: =IF($H9="","",RANK(BH9,BH$4:BH$35,0)+COUNTIF($BH$4:BH9,BH9)-1) -> 6 | CB9: =IF($H9="","",RANK(BI9,BI$4:BI$35,0)+COUNTIF($BI$4:BI9,BI9)-1) -> 6 | CC9: =IF($H9="","",RANK(BJ9,BJ$4:BJ$35,0)+COUNTIF($BJ$4:BJ9,BJ9)-1) -> 6 | CD9: =IF($H9="","",RANK(BK9,BK$4:BK$35,0)+COUNTIF($BK$4:BK9,BK9)-1) -> 6 | CE9: =IF($H9="","",RANK(BL9,BL$4:BL$35,0)+COUNTIF($BL$4:BL9,BL9)-1) -> 6 | CF9: =IF($H9="","",RANK(BM9,BM$4:BM$35,0)+COUNTIF($BM$4:BM9,BM9)-1) -> 6 | CG9: =IF($H9="","",RANK(BN9,BN$4:BN$35,0)+COUNTIF($BN$4:BN9,BN9)-1) -> 6 | CH9: =IF($H9="","",RANK(BO9,BO$4:BO$35,0)+COUNTIF($BO$4:BO9,BO9)-1) -> 6 | CI9: =IF($H9="","",RANK(BP9,BP$4:BP$35,0)+COUNTIF($BP$4:BP9,BP9)-1) -> 6 | CJ9: =IF($H9="","",RANK(BQ9,BQ$4:BQ$35,0)+COUNTIF($BQ$4:BQ9,BQ9)-1) -> 6 | CK9: =IF($H9="","",RANK(BR9,BR$4:BR$35,0)+COUNTIF($BR$4:BR9,BR9)-1) -> 6 | CL9: =IF(H9="","",SUM(CM9:DE9)) -> 0 | CM9: =IF($H9="","",IF('1'!$D$14=Conf!$H9,1,0)) -> 0 | CN9: =IF($H9="","",IF('2'!$D$14=Conf!$H9,1,0)) -> 0 | CO9: =IF($H9="","",IF('3'!$D$14=Conf!$H9,1,0)) -> 0 | CP9: =IF($H9="","",IF('4'!$D$14=Conf!$H9,1,0)) -> 0 | CQ9: =IF($H9="","",IF('5'!$D$14=Conf!$H9,1,0)) -> 0 | CR9: =IF($H9="","",IF('6'!$D$14=Conf!$H9,1,0)) -> 0 | CS9: =IF($H9="","",IF('7'!$D$14=Conf!$H9,1,0)) -> 0 | CT9: =IF($H9="","",IF('8'!$D$14=Conf!$H9,1,0)) -> 0 | CU9: =IF($H9="","",IF('9'!$D$14=Conf!$H9,1,0)) -> 0 | CV9: =IF($H9="","",IF('10'!$D$14=Conf!$H9,1,0)) -> 0 | CW9: =IF($H9="","",IF('11'!$D$14=Conf!$H9,1,0)) -> 0 | CX9: =IF($H9="","",IF('12'!$D$14=Conf!$H9,1,0)) -> 0 | CY9: =IF($H9="","",IF('13'!$D$14=Conf!$H9,1,0)) -> 0 | CZ9: =IF($H9="","",IF('14'!$D$14=Conf!$H9,1,0)) -> 0 | DA9: =IF($H9="","",IF('15'!$D$14=Conf!$H9,1,0)) -> 0 | DB9: =IF($H9="","",IF('16'!$D$14=Conf!$H9,1,0)) -> 0 | DC9: =IF($H9="","",IF('17'!$D$14=Conf!$H9,1,0)) -> 0 | DD9: =IF($H9="","",IF('18'!$D$14=Conf!$H9,1,0)) -> 0 | DE9: =IF($H9="","",IF('19'!$D$14=Conf!$H9,1,0)) -> 0 | DG9: =IF(DH9="","",DI9+DK9) -> 6 | DH9: =H9 -> Romain GROSJEAN | DI9: =IF(DH9="","",RANK(DJ9,$DJ$4:$DJ$35,0)) -> 1 | DJ9: =K9 -> 0 | DK9: =IF(DH9="","",COUNTIF($DI$4:DI9,DI9)-1) -> 5 | DM9: =IF(DN9="","",DO9+DQ9) -> 6 | DN9: =H9 -> Romain GROSJEAN | DO9: =IF(DN9="","",RANK(DP9,$DP$4:$DP$35,0)) -> 1 | DP9: =CL9 -> 0 | DQ9: =IF(DN9="","",COUNTIF($DO$4:DO9,DO9)-1) -> 5 | DS9: =IF(DT9="","",DU9+DW9) -> 6 | DT9: =H9 -> Romain GROSJEAN | DU9: =IF(DT9="","",RANK(DV9,$DV$4:$DV$35,0)) -> 1 | DV9: =IFERROR(K9+L9+M9,"") -> 0 | DW9: =IF(DT9="","",COUNTIF($DU$4:DU9,DU9)-1) -> 5 | DY9: =IF(DZ9="","",EA9+EC9) -> 6 | DZ9: =H9 -> Romain GROSJEAN | EA9: =IF(DZ9="","",RANK(EB9,$EB$4:$EB$35,0)) -> 1 | EB9: =IFERROR(SUM(K9:T9),"") -> 0 | EC9: =IF(DZ9="","",COUNTIF($EA$4:EA9,EA9)-1) -> 5
A10: 9 | B10: 4-6 Julio | C10: GP GRAN BRETAÑA | E10: =IF('2'!$D$21="","",'2'!$D$21) | G10: =IF(H10="","",RANK(J10,$J$4:$J$35,0)+SUM(U10:AD10)+AF10) -> 7 | H10: =IF(PILOTOS!D19="","",PILOTOS!D19) -> Marcus ERICSSON | I10: =IF(PILOTOS!E19="","",PILOTOS!E19) -> Caterham | J10: =IF(H10="","",SUM(AG10:AY10)) -> 0 | K10: =IF(H10="","",COUNTIFS(AG10:AX10,25,$AG$36:$AX$36,1)+COUNTIFS(AG10:AX10,12.5,$AG$36:$AX$36,2))+IF(H10="","",COUNTIFS(AY10,50,$AY$36,1)+COUNTIFS(AY10,25,$AY$36,2)) -> 0 | L10: =IF(H10="","",COUNTIFS(AG10:AX10,18,$AG$36:$AX$36,1)+COUNTIFS(AG10:AX10,9,$AG$36:$AX$36,2))++IF(H10="","",COUNTIFS(AY10,36,$AY$36,1)+COUNTIFS(AY10,18,$AY$36,2)) -> 0 | M10: =IF(H10="","",COUNTIFS(AG10:AX10,15,$AG$36:$AX$36,1)+COUNTIFS(AG10:AX10,7.5,$AG$36:$AX$36,2))+IF(H10="","",COUNTIFS(AY10,30,$AY$36,1)+COUNTIFS(AY10,15,$AY$36,2)) -> 0 | N10: =IF(H10="","",COUNTIFS(AG10:AX10,12,$AG$36:$AX$36,1)+COUNTIFS(AG10:AX10,6,$AG$36:$AX$36,2))+IF(H10="","",COUNTIFS(AY10,24,$AY$36,1)+COUNTIFS(AY10,12,$AY$36,2)) -> 0 | O10: =IF(H10="","",COUNTIFS(AG10:AX10,10,$AG$36:$AX$36,1)+COUNTIFS(AG10:AX10,5,$AG$36:$AX$36,2))+IF(H10="","",COUNTIFS(AY10,20,$AY$36,1)+COUNTIFS(AY10,10,$AY$36,2)) -> 0 | P10: =IF(H10="","",COUNTIFS(AG10:AX10,8,$AG$36:$AX$36,1)+COUNTIFS(AG10:AX10,4,$AG$36:$AX$36,2))+IF(H10="","",COUNTIFS(AY10,16,$AY$36,1)+COUNTIFS(AY10,8,$AY$36,2)) -> 0 | Q10: =IF(H10="","",COUNTIFS(AG10:AX10,6,$AG$36:$AX$36,1)+COUNTIFS(AG10:AX10,3,$AG$36:$AX$36,2))+IF(H10="","",COUNTIFS(AY10,12,$AY$36,1)+COUNTIFS(AY10,6,$AY$36,2)) -> 0 | R10: =IF(H10="","",COUNTIFS(AG10:AX10,4,$AG$36:$AX$36,1)+COUNTIFS(AG10:AX10,2,$AG$36:$AX$36,2))+IF(H10="","",COUNTIFS(AY10,8,$AY$36,1)+COUNTIFS(AY10,4,$AY$36,2)) -> 0 | S10: =IF(H10="","",COUNTIFS(AG10:AX10,2,$AG$36:$AX$36,1)+COUNTIFS(AG10:AX10,1,$AG$36:$AX$36,2))+IF(H10="","",COUNTIFS(AY10,4,$AY$36,1)+COUNTIFS(AY10,2,$AY$36,2)) -> 0 | T10: =IF(H10="","",COUNTIFS(AG10:AX10,1,$AG$36:$AX$36,1)+COUNTIFS(AG10:AX10,0.5,$AG$36:$AX$36,2))+IF(H10="","",COUNTIFS(AY10,2,$AY$36,1)+COUNTIFS(AY10,1,$AY$36,2)) -> 0 | U10: =IF(H10="","",SUMPRODUCT(($J$4:$J$35=J10)*($K$4:$K$35>K10))) -> 0 | V10: =IF(H10="","",SUMPRODUCT(($J$4:$J$35=J10)*($K$4:$K$35=K10)*($L$4:$L$35>L10))) -> 0 | W10: =IF(H10="","",SUMPRODUCT(($J$4:$J$35=J10)*($K$4:$K$35=K10)*($L$4:$L$35=L10)*($M$4:$M$35>M10))) -> 0 | X10: =IF(H10="","",SUMPRODUCT(($J$4:$J$35=J10)*($K$4:$K$35=K10)*($L$4:$L$35=L10)*($M$4:$M$35=M10)*($N$4:$N$35>N10))) -> 0 | Y10: =IF(H10="","",SUMPRODUCT(($J$4:$J$35=J10)*($K$4:$K$35=K10)*($L$4:$L$35=L10)*($M$4:$M$35=M10)*($N$4:$N$35=N10)*($O$4:$O$35>O10))) -> 0 | Z10: =IF(H10="","",SUMPRODUCT(($J$4:$J$35=J10)*($K$4:$K$35=K10)*($L$4:$L$35=L10)*($M$4:$M$35=M10)*($N$4:$N$35=N10)*($O$4:$O$35=O10)*($P$4:$P$35>P10))) -> 0 | AA10: =IF(H10="","",SUMPRODUCT(($J$4:$J$35=J10)*($K$4:$K$35=K10)*($L$4:$L$35=L10)*($M$4:$M$35=M10)*($N$4:$N$35=N10)*($O$4:$O$35=O10)*($P$4:$P$35=P10)*($Q$4:$Q$35>Q10))) -> 0 | AB10: =IF(H10="","",SUMPRODUCT(($J$4:$J$35=J10)*($K$4:$K$35=K10)*($L$4:$L$35=L10)*($M$4:$M$35=M10)*($N$4:$N$35=N10)*($O$4:$O$35=O10)*($P$4:$P$35=P10)*($Q$4:$Q$35=Q10)*($R$4:$R$35>R10))) -> 0 | AC10: =IF(H10="","",SUMPRODUCT(($J$4:$J$35=J10)*($K$4:$K$35=K10)*($L$4:$L$35=L10)*($M$4:$M$35=M10)*($N$4:$N$35=N10)*($O$4:$O$35=O10)*($P$4:$P$35=P10)*($Q$4:$Q$35=Q10)*($R$4:$R$35=R10)*($S$4:$S$35>S10))) -> 0 | AD10: =IF(H10="","",SUMPRODUCT(($J$4:$J$35=J10)*($K$4:$K$35=K10)*($L$4:$L$35=L10)*($M$4:$M$35=M10)*($N$4:$N$35=N10)*($O$4:$O$35=O10)*($P$4:$P$35=P10)*($Q$4:$Q$35=Q10)*($R$4:$R$35=R10)*($S$4:$S$35=S10)*($T$4:$T$35>T10))) -> 0 | AE10: =IF(PILOTOS!C19="","",PILOTOS!C19) -> 9 | AF10: =IF(H10="","",SUMPRODUCT(($J$4:$J$35=J10)*($K$4:$K$35=K10)*($L$4:$L$35=L10)*($M$4:$M$35=M10)*($N$4:$N$35=N10)*($O$4:$O$35=O10)*($P$4:$P$35=P10)*($Q$4:$Q$35=Q10)*($R$4:$R$35=R10)*($S$4:$S$35=S10)*($T$4:$T$35=T10)*($AE$4:$AE$35<AE10))) -> 6 | AG10: =IF($H10="","",SUMIF('1'!$D$19:$D$28,Conf!$H10,'1'!$F$19:$F$28)) -> 0 | AH10: =IF($H10="","",SUMIF('2'!$D$19:$D$28,Conf!$H10,'2'!$F$19:$F$28)) -> 0 | AI10: =IF($H10="","",SUMIF('3'!$D$19:$D$28,Conf!$H10,'3'!$F$19:$F$28)) -> 0 | AJ10: =IF($H10="","",SUMIF('4'!$D$19:$D$28,Conf!$H10,'4'!$F$19:$F$28)) -> 0 | AK10: =IF($H10="","",SUMIF('5'!$D$19:$D$28,Conf!$H10,'5'!$F$19:$F$28)) -> 0 | AL10: =IF($H10="","",SUMIF('6'!$D$19:$D$28,Conf!$H10,'6'!$F$19:$F$28)) -> 0 | AM10: =IF($H10="","",SUMIF('7'!$D$19:$D$28,Conf!$H10,'7'!$F$19:$F$28)) -> 0 | AN10: =IF($H10="","",SUMIF('8'!$D$19:$D$28,Conf!$H10,'8'!$F$19:$F$28)) -> 0 | AO10: =IF($H10="","",SUMIF('9'!$D$19:$D$28,Conf!$H10,'9'!$F$19:$F$28)) -> 0 | AP10: =IF($H10="","",SUMIF('10'!$D$19:$D$28,Conf!$H10,'10'!$F$19:$F$28)) -> 0 | AQ10: =IF($H10="","",SUMIF('11'!$D$19:$D$28,Conf!$H10,'11'!$F$19:$F$28)) -> 0 | AR10: =IF($H10="","",SUMIF('12'!$D$19:$D$28,Conf!$H10,'12'!$F$19:$F$28)) -> 0 | AS10: =IF($H10="","",SUMIF('13'!$D$19:$D$28,Conf!$H10,'13'!$F$19:$F$28)) -> 0 | AT10: =IF($H10="","",SUMIF('14'!$D$19:$D$28,Conf!$H10,'14'!$F$19:$F$28)) -> 0 | AU10: =IF($H10="","",SUMIF('15'!$D$19:$D$28,Conf!$H10,'15'!$F$19:$F$28)) -> 0 | AV10: =IF($H10="","",SUMIF('16'!$D$19:$D$28,Conf!$H10,'16'!$F$19:$F$28)) -> 0 | AW10: =IF($H10="","",SUMIF('17'!$D$19:$D$28,Conf!$H10,'17'!$F$19:$F$28)) -> 0 | AX10: =IF($H10="","",SUMIF('18'!$D$19:$D$28,Conf!$H10,'18'!$F$19:$F$28)) -> 0 | AY10: =IF($H10="","",SUMIF('19'!$D$19:$D$28,Conf!$H10,'19'!$F$19:$F$28)) -> 0 | AZ10: =IFERROR(AG10,"") -> 0 | BA10: =IFERROR(AZ10+AH10,"") -> 0 | BB10: =IFERROR(BA10+AI10,"") -> 0 | BC10: =IFERROR(BB10+AJ10,"") -> 0 | BD10: =IFERROR(BC10+AK10,"") -> 0 | BE10: =IFERROR(BD10+AL10,"") -> 0 | BF10: =IFERROR(BE10+AM10,"") -> 0 | BG10: =IFERROR(BF10+AN10,"") -> 0 | BH10: =IFERROR(BG10+AO10,"") -> 0 | ... BR10: =IFERROR(BQ10+AY10,"") -> 0 | BS10: =IF($H10="","",RANK(AZ10,AZ$4:AZ$35,0)+COUNTIF($AZ$4:AZ10,AZ10)-1) -> 7 | BT10: =IF($H10="","",RANK(BA10,BA$4:BA$35,0)+COUNTIF($BA$4:BA10,BA10)-1) -> 7 | BU10: =IF($H10="","",RANK(BB10,BB$4:BB$35,0)+COUNTIF($BB$4:BB10,BB10)-1) -> 7 | BV10: =IF($H10="","",RANK(BC10,BC$4:BC$35,0)+COUNTIF($BC$4:BC10,BC10)-1) -> 7 | BW10: =IF($H10="","",RANK(BD10,BD$4:BD$35,0)+COUNTIF($BD$4:BD10,BD10)-1) -> 7 | BX10: =IF($H10="","",RANK(BE10,BE$4:BE$35,0)+COUNTIF($BE$4:BE10,BE10)-1) -> 7 | BY10: =IF($H10="","",RANK(BF10,BF$4:BF$35,0)+COUNTIF($BF$4:BF10,BF10)-1) -> 7 | BZ10: =IF($H10="","",RANK(BG10,BG$4:BG$35,0)+COUNTIF($BG$4:BG10,BG10)-1) -> 7 | CA10: =IF($H10="","",RANK(BH10,BH$4:BH$35,0)+COUNTIF($BH$4:BH10,BH10)-1) -> 7 | CB10: =IF($H10="","",RANK(BI10,BI$4:BI$35,0)+COUNTIF($BI$4:BI10,BI10)-1) -> 7 | CC10: =IF($H10="","",RANK(BJ10,BJ$4:BJ$35,0)+COUNTIF($BJ$4:BJ10,BJ10)-1) -> 7 | CD10: =IF($H10="","",RANK(BK10,BK$4:BK$35,0)+COUNTIF($BK$4:BK10,BK10)-1) -> 7 | CE10: =IF($H10="","",RANK(BL10,BL$4:BL$35,0)+COUNTIF($BL$4:BL10,BL10)-1) -> 7 | CF10: =IF($H10="","",RANK(BM10,BM$4:BM$35,0)+COUNTIF($BM$4:BM10,BM10)-1) -> 7 | CG10: =IF($H10="","",RANK(BN10,BN$4:BN$35,0)+COUNTIF($BN$4:BN10,BN10)-1) -> 7 | CH10: =IF($H10="","",RANK(BO10,BO$4:BO$35,0)+COUNTIF($BO$4:BO10,BO10)-1) -> 7 | CI10: =IF($H10="","",RANK(BP10,BP$4:BP$35,0)+COUNTIF($BP$4:BP10,BP10)-1) -> 7 | CJ10: =IF($H10="","",RANK(BQ10,BQ$4:BQ$35,0)+COUNTIF($BQ$4:BQ10,BQ10)-1) -> 7 | CK10: =IF($H10="","",RANK(BR10,BR$4:BR$35,0)+COUNTIF($BR$4:BR10,BR10)-1) -> 7 | CL10: =IF(H10="","",SUM(CM10:DE10)) -> 0 | CM10: =IF($H10="","",IF('1'!$D$14=Conf!$H10,1,0)) -> 0 | CN10: =IF($H10="","",IF('2'!$D$14=Conf!$H10,1,0)) -> 0 | CO10: =IF($H10="","",IF('3'!$D$14=Conf!$H10,1,0)) -> 0 | CP10: =IF($H10="","",IF('4'!$D$14=Conf!$H10,1,0)) -> 0 | CQ10: =IF($H10="","",IF('5'!$D$14=Conf!$H10,1,0)) -> 0 | CR10: =IF($H10="","",IF('6'!$D$14=Conf!$H10,1,0)) -> 0 | CS10: =IF($H10="","",IF('7'!$D$14=Conf!$H10,1,0)) -> 0 | CT10: =IF($H10="","",IF('8'!$D$14=Conf!$H10,1,0)) -> 0 | CU10: =IF($H10="","",IF('9'!$D$14=Conf!$H10,1,0)) -> 0 | CV10: =IF($H10="","",IF('10'!$D$14=Conf!$H10,1,0)) -> 0 | CW10: =IF($H10="","",IF('11'!$D$14=Conf!$H10,1,0)) -> 0 | CX10: =IF($H10="","",IF('12'!$D$14=Conf!$H10,1,0)) -> 0 | CY10: =IF($H10="","",IF('13'!$D$14=Conf!$H10,1,0)) -> 0 | CZ10: =IF($H10="","",IF('14'!$D$14=Conf!$H10,1,0)) -> 0 | DA10: =IF($H10="","",IF('15'!$D$14=Conf!$H10,1,0)) -> 0 | DB10: =IF($H10="","",IF('16'!$D$14=Conf!$H10,1,0)) -> 0 | DC10: =IF($H10="","",IF('17'!$D$14=Conf!$H10,1,0)) -> 0 | DD10: =IF($H10="","",IF('18'!$D$14=Conf!$H10,1,0)) -> 0 | DE10: =IF($H10="","",IF('19'!$D$14=Conf!$H10,1,0)) -> 0 | DG10: =IF(DH10="","",DI10+DK10) -> 7 | DH10: =H10 -> Marcus ERICSSON | DI10: =IF(DH10="","",RANK(DJ10,$DJ$4:$DJ$35,0)) -> 1 | DJ10: =K10 -> 0 | DK10: =IF(DH10="","",COUNTIF($DI$4:DI10,DI10)-1) -> 6 | DM10: =IF(DN10="","",DO10+DQ10) -> 7 | DN10: =H10 -> Marcus ERICSSON | DO10: =IF(DN10="","",RANK(DP10,$DP$4:$DP$35,0)) -> 1 | DP10: =CL10 -> 0 | DQ10: =IF(DN10="","",COUNTIF($DO$4:DO10,DO10)-1) -> 6 | DS10: =IF(DT10="","",DU10+DW10) -> 7 | DT10: =H10 -> Marcus ERICSSON | DU10: =IF(DT10="","",RANK(DV10,$DV$4:$DV$35,0)) -> 1 | DV10: =IFERROR(K10+L10+M10,"") -> 0 | DW10: =IF(DT10="","",COUNTIF($DU$4:DU10,DU10)-1) -> 6 | DY10: =IF(DZ10="","",EA10+EC10) -> 7 | DZ10: =H10 -> Marcus ERICSSON | EA10: =IF(DZ10="","",RANK(EB10,$EB$4:$EB$35,0)) -> 1 | EB10: =IFERROR(SUM(K10:T10),"") -> 0 | EC10: =IF(DZ10="","",COUNTIF($EA$4:EA10,EA10)-1) -> 6
A11: 10 | B11: 18-20 Julio | C11: GP ALEMANIA | E11: =IF('2'!$D$22="","",'2'!$D$22) | G11: =IF(H11="","",RANK(J11,$J$4:$J$35,0)+SUM(U11:AD11)+AF11) -> 8 | H11: =IF(PILOTOS!D20="","",PILOTOS!D20) -> Kamui KOBAYASHI | I11: =IF(PILOTOS!E20="","",PILOTOS!E20) -> Caterham | J11: =IF(H11="","",SUM(AG11:AY11)) -> 0 | K11: =IF(H11="","",COUNTIFS(AG11:AX11,25,$AG$36:$AX$36,1)+COUNTIFS(AG11:AX11,12.5,$AG$36:$AX$36,2))+IF(H11="","",COUNTIFS(AY11,50,$AY$36,1)+COUNTIFS(AY11,25,$AY$36,2)) -> 0 | L11: =IF(H11="","",COUNTIFS(AG11:AX11,18,$AG$36:$AX$36,1)+COUNTIFS(AG11:AX11,9,$AG$36:$AX$36,2))++IF(H11="","",COUNTIFS(AY11,36,$AY$36,1)+COUNTIFS(AY11,18,$AY$36,2)) -> 0 | M11: =IF(H11="","",COUNTIFS(AG11:AX11,15,$AG$36:$AX$36,1)+COUNTIFS(AG11:AX11,7.5,$AG$36:$AX$36,2))+IF(H11="","",COUNTIFS(AY11,30,$AY$36,1)+COUNTIFS(AY11,15,$AY$36,2)) -> 0 | N11: =IF(H11="","",COUNTIFS(AG11:AX11,12,$AG$36:$AX$36,1)+COUNTIFS(AG11:AX11,6,$AG$36:$AX$36,2))+IF(H11="","",COUNTIFS(AY11,24,$AY$36,1)+COUNTIFS(AY11,12,$AY$36,2)) -> 0 | O11: =IF(H11="","",COUNTIFS(AG11:AX11,10,$AG$36:$AX$36,1)+COUNTIFS(AG11:AX11,5,$AG$36:$AX$36,2))+IF(H11="","",COUNTIFS(AY11,20,$AY$36,1)+COUNTIFS(AY11,10,$AY$36,2)) -> 0 | P11: =IF(H11="","",COUNTIFS(AG11:AX11,8,$AG$36:$AX$36,1)+COUNTIFS(AG11:AX11,4,$AG$36:$AX$36,2))+IF(H11="","",COUNTIFS(AY11,16,$AY$36,1)+COUNTIFS(AY11,8,$AY$36,2)) -> 0 | Q11: =IF(H11="","",COUNTIFS(AG11:AX11,6,$AG$36:$AX$36,1)+COUNTIFS(AG11:AX11,3,$AG$36:$AX$36,2))+IF(H11="","",COUNTIFS(AY11,12,$AY$36,1)+COUNTIFS(AY11,6,$AY$36,2)) -> 0 | R11: =IF(H11="","",COUNTIFS(AG11:AX11,4,$AG$36:$AX$36,1)+COUNTIFS(AG11:AX11,2,$AG$36:$AX$36,2))+IF(H11="","",COUNTIFS(AY11,8,$AY$36,1)+COUNTIFS(AY11,4,$AY$36,2)) -> 0 | S11: =IF(H11="","",COUNTIFS(AG11:AX11,2,$AG$36:$AX$36,1)+COUNTIFS(AG11:AX11,1,$AG$36:$AX$36,2))+IF(H11="","",COUNTIFS(AY11,4,$AY$36,1)+COUNTIFS(AY11,2,$AY$36,2)) -> 0 | T11: =IF(H11="","",COUNTIFS(AG11:AX11,1,$AG$36:$AX$36,1)+COUNTIFS(AG11:AX11,0.5,$AG$36:$AX$36,2))+IF(H11="","",COUNTIFS(AY11,2,$AY$36,1)+COUNTIFS(AY11,1,$AY$36,2)) -> 0 | U11: =IF(H11="","",SUMPRODUCT(($J$4:$J$35=J11)*($K$4:$K$35>K11))) -> 0 | V11: =IF(H11="","",SUMPRODUCT(($J$4:$J$35=J11)*($K$4:$K$35=K11)*($L$4:$L$35>L11))) -> 0 | W11: =IF(H11="","",SUMPRODUCT(($J$4:$J$35=J11)*($K$4:$K$35=K11)*($L$4:$L$35=L11)*($M$4:$M$35>M11))) -> 0 | X11: =IF(H11="","",SUMPRODUCT(($J$4:$J$35=J11)*($K$4:$K$35=K11)*($L$4:$L$35=L11)*($M$4:$M$35=M11)*($N$4:$N$35>N11))) -> 0 | Y11: =IF(H11="","",SUMPRODUCT(($J$4:$J$35=J11)*($K$4:$K$35=K11)*($L$4:$L$35=L11)*($M$4:$M$35=M11)*($N$4:$N$35=N11)*($O$4:$O$35>O11))) -> 0 | Z11: =IF(H11="","",SUMPRODUCT(($J$4:$J$35=J11)*($K$4:$K$35=K11)*($L$4:$L$35=L11)*($M$4:$M$35=M11)*($N$4:$N$35=N11)*($O$4:$O$35=O11)*($P$4:$P$35>P11))) -> 0 | AA11: =IF(H11="","",SUMPRODUCT(($J$4:$J$35=J11)*($K$4:$K$35=K11)*($L$4:$L$35=L11)*($M$4:$M$35=M11)*($N$4:$N$35=N11)*($O$4:$O$35=O11)*($P$4:$P$35=P11)*($Q$4:$Q$35>Q11))) -> 0 | AB11: =IF(H11="","",SUMPRODUCT(($J$4:$J$35=J11)*($K$4:$K$35=K11)*($L$4:$L$35=L11)*($M$4:$M$35=M11)*($N$4:$N$35=N11)*($O$4:$O$35=O11)*($P$4:$P$35=P11)*($Q$4:$Q$35=Q11)*($R$4:$R$35>R11))) -> 0 | AC11: =IF(H11="","",SUMPRODUCT(($J$4:$J$35=J11)*($K$4:$K$35=K11)*($L$4:$L$35=L11)*($M$4:$M$35=M11)*($N$4:$N$35=N11)*($O$4:$O$35=O11)*($P$4:$P$35=P11)*($Q$4:$Q$35=Q11)*($R$4:$R$35=R11)*($S$4:$S$35>S11))) -> 0 | AD11: =IF(H11="","",SUMPRODUCT(($J$4:$J$35=J11)*($K$4:$K$35=K11)*($L$4:$L$35=L11)*($M$4:$M$35=M11)*($N$4:$N$35=N11)*($O$4:$O$35=O11)*($P$4:$P$35=P11)*($Q$4:$Q$35=Q11)*($R$4:$R$35=R11)*($S$4:$S$35=S11)*($T$4:$T$35>T11))) -> 0 | AE11: =IF(PILOTOS!C20="","",PILOTOS!C20) -> 10 | AF11: =IF(H11="","",SUMPRODUCT(($J$4:$J$35=J11)*($K$4:$K$35=K11)*($L$4:$L$35=L11)*($M$4:$M$35=M11)*($N$4:$N$35=N11)*($O$4:$O$35=O11)*($P$4:$P$35=P11)*($Q$4:$Q$35=Q11)*($R$4:$R$35=R11)*($S$4:$S$35=S11)*($T$4:$T$35=T11)*($AE$4:$AE$35<AE11))) -> 7 | AG11: =IF($H11="","",SUMIF('1'!$D$19:$D$28,Conf!$H11,'1'!$F$19:$F$28)) -> 0 | AH11: =IF($H11="","",SUMIF('2'!$D$19:$D$28,Conf!$H11,'2'!$F$19:$F$28)) -> 0 | AI11: =IF($H11="","",SUMIF('3'!$D$19:$D$28,Conf!$H11,'3'!$F$19:$F$28)) -> 0 | AJ11: =IF($H11="","",SUMIF('4'!$D$19:$D$28,Conf!$H11,'4'!$F$19:$F$28)) -> 0 | AK11: =IF($H11="","",SUMIF('5'!$D$19:$D$28,Conf!$H11,'5'!$F$19:$F$28)) -> 0 | AL11: =IF($H11="","",SUMIF('6'!$D$19:$D$28,Conf!$H11,'6'!$F$19:$F$28)) -> 0 | AM11: =IF($H11="","",SUMIF('7'!$D$19:$D$28,Conf!$H11,'7'!$F$19:$F$28)) -> 0 | AN11: =IF($H11="","",SUMIF('8'!$D$19:$D$28,Conf!$H11,'8'!$F$19:$F$28)) -> 0 | AO11: =IF($H11="","",SUMIF('9'!$D$19:$D$28,Conf!$H11,'9'!$F$19:$F$28)) -> 0 | AP11: =IF($H11="","",SUMIF('10'!$D$19:$D$28,Conf!$H11,'10'!$F$19:$F$28)) -> 0 | AQ11: =IF($H11="","",SUMIF('11'!$D$19:$D$28,Conf!$H11,'11'!$F$19:$F$28)) -> 0 | AR11: =IF($H11="","",SUMIF('12'!$D$19:$D$28,Conf!$H11,'12'!$F$19:$F$28)) -> 0 | AS11: =IF($H11="","",SUMIF('13'!$D$19:$D$28,Conf!$H11,'13'!$F$19:$F$28)) -> 0 | AT11: =IF($H11="","",SUMIF('14'!$D$19:$D$28,Conf!$H11,'14'!$F$19:$F$28)) -> 0 | AU11: =IF($H11="","",SUMIF('15'!$D$19:$D$28,Conf!$H11,'15'!$F$19:$F$28)) -> 0 | AV11: =IF($H11="","",SUMIF('16'!$D$19:$D$28,Conf!$H11,'16'!$F$19:$F$28)) -> 0 | AW11: =IF($H11="","",SUMIF('17'!$D$19:$D$28,Conf!$H11,'17'!$F$19:$F$28)) -> 0 | AX11: =IF($H11="","",SUMIF('18'!$D$19:$D$28,Conf!$H11,'18'!$F$19:$F$28)) -> 0 | AY11: =IF($H11="","",SUMIF('19'!$D$19:$D$28,Conf!$H11,'19'!$F$19:$F$28)) -> 0 | AZ11: =IFERROR(AG11,"") -> 0 | BA11: =IFERROR(AZ11+AH11,"") -> 0 | BB11: =IFERROR(BA11+AI11,"") -> 0 | BC11: =IFERROR(BB11+AJ11,"") -> 0 | BD11: =IFERROR(BC11+AK11,"") -> 0 | BE11: =IFERROR(BD11+AL11,"") -> 0 | BF11: =IFERROR(BE11+AM11,"") -> 0 | BG11: =IFERROR(BF11+AN11,"") -> 0 | BH11: =IFERROR(BG11+AO11,"") -> 0 | ... BR11: =IFERROR(BQ11+AY11,"") -> 0 | BS11: =IF($H11="","",RANK(AZ11,AZ$4:AZ$35,0)+COUNTIF($AZ$4:AZ11,AZ11)-1) -> 8 | BT11: =IF($H11="","",RANK(BA11,BA$4:BA$35,0)+COUNTIF($BA$4:BA11,BA11)-1) -> 8 | BU11: =IF($H11="","",RANK(BB11,BB$4:BB$35,0)+COUNTIF($BB$4:BB11,BB11)-1) -> 8 | BV11: =IF($H11="","",RANK(BC11,BC$4:BC$35,0)+COUNTIF($BC$4:BC11,BC11)-1) -> 8 | BW11: =IF($H11="","",RANK(BD11,BD$4:BD$35,0)+COUNTIF($BD$4:BD11,BD11)-1) -> 8 | BX11: =IF($H11="","",RANK(BE11,BE$4:BE$35,0)+COUNTIF($BE$4:BE11,BE11)-1) -> 8 | BY11: =IF($H11="","",RANK(BF11,BF$4:BF$35,0)+COUNTIF($BF$4:BF11,BF11)-1) -> 8 | BZ11: =IF($H11="","",RANK(BG11,BG$4:BG$35,0)+COUNTIF($BG$4:BG11,BG11)-1) -> 8 | CA11: =IF($H11="","",RANK(BH11,BH$4:BH$35,0)+COUNTIF($BH$4:BH11,BH11)-1) -> 8 | CB11: =IF($H11="","",RANK(BI11,BI$4:BI$35,0)+COUNTIF($BI$4:BI11,BI11)-1) -> 8 | CC11: =IF($H11="","",RANK(BJ11,BJ$4:BJ$35,0)+COUNTIF($BJ$4:BJ11,BJ11)-1) -> 8 | CD11: =IF($H11="","",RANK(BK11,BK$4:BK$35,0)+COUNTIF($BK$4:BK11,BK11)-1) -> 8 | CE11: =IF($H11="","",RANK(BL11,BL$4:BL$35,0)+COUNTIF($BL$4:BL11,BL11)-1) -> 8 | CF11: =IF($H11="","",RANK(BM11,BM$4:BM$35,0)+COUNTIF($BM$4:BM11,BM11)-1) -> 8 | CG11: =IF($H11="","",RANK(BN11,BN$4:BN$35,0)+COUNTIF($BN$4:BN11,BN11)-1) -> 8 | CH11: =IF($H11="","",RANK(BO11,BO$4:BO$35,0)+COUNTIF($BO$4:BO11,BO11)-1) -> 8 | CI11: =IF($H11="","",RANK(BP11,BP$4:BP$35,0)+COUNTIF($BP$4:BP11,BP11)-1) -> 8 | CJ11: =IF($H11="","",RANK(BQ11,BQ$4:BQ$35,0)+COUNTIF($BQ$4:BQ11,BQ11)-1) -> 8 | CK11: =IF($H11="","",RANK(BR11,BR$4:BR$35,0)+COUNTIF($BR$4:BR11,BR11)-1) -> 8 | CL11: =IF(H11="","",SUM(CM11:DE11)) -> 0 | CM11: =IF($H11="","",IF('1'!$D$14=Conf!$H11,1,0)) -> 0 | CN11: =IF($H11="","",IF('2'!$D$14=Conf!$H11,1,0)) -> 0 | CO11: =IF($H11="","",IF('3'!$D$14=Conf!$H11,1,0)) -> 0 | CP11: =IF($H11="","",IF('4'!$D$14=Conf!$H11,1,0)) -> 0 | CQ11: =IF($H11="","",IF('5'!$D$14=Conf!$H11,1,0)) -> 0 | CR11: =IF($H11="","",IF('6'!$D$14=Conf!$H11,1,0)) -> 0 | CS11: =IF($H11="","",IF('7'!$D$14=Conf!$H11,1,0)) -> 0 | CT11: =IF($H11="","",IF('8'!$D$14=Conf!$H11,1,0)) -> 0 | CU11: =IF($H11="","",IF('9'!$D$14=Conf!$H11,1,0)) -> 0 | CV11: =IF($H11="","",IF('10'!$D$14=Conf!$H11,1,0)) -> 0 | CW11: =IF($H11="","",IF('11'!$D$14=Conf!$H11,1,0)) -> 0 | CX11: =IF($H11="","",IF('12'!$D$14=Conf!$H11,1,0)) -> 0 | CY11: =IF($H11="","",IF('13'!$D$14=Conf!$H11,1,0)) -> 0 | CZ11: =IF($H11="","",IF('14'!$D$14=Conf!$H11,1,0)) -> 0 | DA11: =IF($H11="","",IF('15'!$D$14=Conf!$H11,1,0)) -> 0 | DB11: =IF($H11="","",IF('16'!$D$14=Conf!$H11,1,0)) -> 0 | DC11: =IF($H11="","",IF('17'!$D$14=Conf!$H11,1,0)) -> 0 | DD11: =IF($H11="","",IF('18'!$D$14=Conf!$H11,1,0)) -> 0 | DE11: =IF($H11="","",IF('19'!$D$14=Conf!$H11,1,0)) -> 0 | DG11: =IF(DH11="","",DI11+DK11) -> 8 | DH11: =H11 -> Kamui KOBAYASHI | DI11: =IF(DH11="","",RANK(DJ11,$DJ$4:$DJ$35,0)) -> 1 | DJ11: =K11 -> 0 | DK11: =IF(DH11="","",COUNTIF($DI$4:DI11,DI11)-1) -> 7 | DM11: =IF(DN11="","",DO11+DQ11) -> 8 | DN11: =H11 -> Kamui KOBAYASHI | DO11: =IF(DN11="","",RANK(DP11,$DP$4:$DP$35,0)) -> 1 | DP11: =CL11 -> 0 | DQ11: =IF(DN11="","",COUNTIF($DO$4:DO11,DO11)-1) -> 7 | DS11: =IF(DT11="","",DU11+DW11) -> 8 | DT11: =H11 -> Kamui KOBAYASHI | DU11: =IF(DT11="","",RANK(DV11,$DV$4:$DV$35,0)) -> 1 | DV11: =IFERROR(K11+L11+M11,"") -> 0 | DW11: =IF(DT11="","",COUNTIF($DU$4:DU11,DU11)-1) -> 7 | DY11: =IF(DZ11="","",EA11+EC11) -> 8 | DZ11: =H11 -> Kamui KOBAYASHI | EA11: =IF(DZ11="","",RANK(EB11,$EB$4:$EB$35,0)) -> 1 | EB11: =IFERROR(SUM(K11:T11),"") -> 0 | EC11: =IF(DZ11="","",COUNTIF($EA$4:EA11,EA11)-1) -> 7
A12: 11 | B12: 25-27 Julio | C12: GP HUNGRIA | E12: =IF('2'!$D$23="","",'2'!$D$23) | G12: =IF(H12="","",RANK(J12,$J$4:$J$35,0)+SUM(U12:AD12)+AF12) -> 9 | H12: =IF(PILOTOS!D21="","",PILOTOS!D21) -> Sergio PEREZ | I12: =IF(PILOTOS!E21="","",PILOTOS!E21) -> Force India | J12: =IF(H12="","",SUM(AG12:AY12)) -> 0 | K12: =IF(H12="","",COUNTIFS(AG12:AX12,25,$AG$36:$AX$36,1)+COUNTIFS(AG12:AX12,12.5,$AG$36:$AX$36,2))+IF(H12="","",COUNTIFS(AY12,50,$AY$36,1)+COUNTIFS(AY12,25,$AY$36,2)) -> 0 | L12: =IF(H12="","",COUNTIFS(AG12:AX12,18,$AG$36:$AX$36,1)+COUNTIFS(AG12:AX12,9,$AG$36:$AX$36,2))++IF(H12="","",COUNTIFS(AY12,36,$AY$36,1)+COUNTIFS(AY12,18,$AY$36,2)) -> 0 | M12: =IF(H12="","",COUNTIFS(AG12:AX12,15,$AG$36:$AX$36,1)+COUNTIFS(AG12:AX12,7.5,$AG$36:$AX$36,2))+IF(H12="","",COUNTIFS(AY12,30,$AY$36,1)+COUNTIFS(AY12,15,$AY$36,2)) -> 0 | N12: =IF(H12="","",COUNTIFS(AG12:AX12,12,$AG$36:$AX$36,1)+COUNTIFS(AG12:AX12,6,$AG$36:$AX$36,2))+IF(H12="","",COUNTIFS(AY12,24,$AY$36,1)+COUNTIFS(AY12,12,$AY$36,2)) -> 0 | O12: =IF(H12="","",COUNTIFS(AG12:AX12,10,$AG$36:$AX$36,1)+COUNTIFS(AG12:AX12,5,$AG$36:$AX$36,2))+IF(H12="","",COUNTIFS(AY12,20,$AY$36,1)+COUNTIFS(AY12,10,$AY$36,2)) -> 0 | P12: =IF(H12="","",COUNTIFS(AG12:AX12,8,$AG$36:$AX$36,1)+COUNTIFS(AG12:AX12,4,$AG$36:$AX$36,2))+IF(H12="","",COUNTIFS(AY12,16,$AY$36,1)+COUNTIFS(AY12,8,$AY$36,2)) -> 0 | Q12: =IF(H12="","",COUNTIFS(AG12:AX12,6,$AG$36:$AX$36,1)+COUNTIFS(AG12:AX12,3,$AG$36:$AX$36,2))+IF(H12="","",COUNTIFS(AY12,12,$AY$36,1)+COUNTIFS(AY12,6,$AY$36,2)) -> 0 | R12: =IF(H12="","",COUNTIFS(AG12:AX12,4,$AG$36:$AX$36,1)+COUNTIFS(AG12:AX12,2,$AG$36:$AX$36,2))+IF(H12="","",COUNTIFS(AY12,8,$AY$36,1)+COUNTIFS(AY12,4,$AY$36,2)) -> 0 | S12: =IF(H12="","",COUNTIFS(AG12:AX12,2,$AG$36:$AX$36,1)+COUNTIFS(AG12:AX12,1,$AG$36:$AX$36,2))+IF(H12="","",COUNTIFS(AY12,4,$AY$36,1)+COUNTIFS(AY12,2,$AY$36,2)) -> 0 | T12: =IF(H12="","",COUNTIFS(AG12:AX12,1,$AG$36:$AX$36,1)+COUNTIFS(AG12:AX12,0.5,$AG$36:$AX$36,2))+IF(H12="","",COUNTIFS(AY12,2,$AY$36,1)+COUNTIFS(AY12,1,$AY$36,2)) -> 0 | U12: =IF(H12="","",SUMPRODUCT(($J$4:$J$35=J12)*($K$4:$K$35>K12))) -> 0 | V12: =IF(H12="","",SUMPRODUCT(($J$4:$J$35=J12)*($K$4:$K$35=K12)*($L$4:$L$35>L12))) -> 0 | W12: =IF(H12="","",SUMPRODUCT(($J$4:$J$35=J12)*($K$4:$K$35=K12)*($L$4:$L$35=L12)*($M$4:$M$35>M12))) -> 0 | X12: =IF(H12="","",SUMPRODUCT(($J$4:$J$35=J12)*($K$4:$K$35=K12)*($L$4:$L$35=L12)*($M$4:$M$35=M12)*($N$4:$N$35>N12))) -> 0 | Y12: =IF(H12="","",SUMPRODUCT(($J$4:$J$35=J12)*($K$4:$K$35=K12)*($L$4:$L$35=L12)*($M$4:$M$35=M12)*($N$4:$N$35=N12)*($O$4:$O$35>O12))) -> 0 | Z12: =IF(H12="","",SUMPRODUCT(($J$4:$J$35=J12)*($K$4:$K$35=K12)*($L$4:$L$35=L12)*($M$4:$M$35=M12)*($N$4:$N$35=N12)*($O$4:$O$35=O12)*($P$4:$P$35>P12))) -> 0 | AA12: =IF(H12="","",SUMPRODUCT(($J$4:$J$35=J12)*($K$4:$K$35=K12)*($L$4:$L$35=L12)*($M$4:$M$35=M12)*($N$4:$N$35=N12)*($O$4:$O$35=O12)*($P$4:$P$35=P12)*($Q$4:$Q$35>Q12))) -> 0 | AB12: =IF(H12="","",SUMPRODUCT(($J$4:$J$35=J12)*($K$4:$K$35=K12)*($L$4:$L$35=L12)*($M$4:$M$35=M12)*($N$4:$N$35=N12)*($O$4:$O$35=O12)*($P$4:$P$35=P12)*($Q$4:$Q$35=Q12)*($R$4:$R$35>R12))) -> 0 | AC12: =IF(H12="","",SUMPRODUCT(($J$4:$J$35=J12)*($K$4:$K$35=K12)*($L$4:$L$35=L12)*($M$4:$M$35=M12)*($N$4:$N$35=N12)*($O$4:$O$35=O12)*($P$4:$P$35=P12)*($Q$4:$Q$35=Q12)*($R$4:$R$35=R12)*($S$4:$S$35>S12))) -> 0 | AD12: =IF(H12="","",SUMPRODUCT(($J$4:$J$35=J12)*($K$4:$K$35=K12)*($L$4:$L$35=L12)*($M$4:$M$35=M12)*($N$4:$N$35=N12)*($O$4:$O$35=O12)*($P$4:$P$35=P12)*($Q$4:$Q$35=Q12)*($R$4:$R$35=R12)*($S$4:$S$35=S12)*($T$4:$T$35>T12))) -> 0 | AE12: =IF(PILOTOS!C21="","",PILOTOS!C21) -> 11 | AF12: =IF(H12="","",SUMPRODUCT(($J$4:$J$35=J12)*($K$4:$K$35=K12)*($L$4:$L$35=L12)*($M$4:$M$35=M12)*($N$4:$N$35=N12)*($O$4:$O$35=O12)*($P$4:$P$35=P12)*($Q$4:$Q$35=Q12)*($R$4:$R$35=R12)*($S$4:$S$35=S12)*($T$4:$T$35=T12)*($AE$4:$AE$35<AE12))) -> 8 | AG12: =IF($H12="","",SUMIF('1'!$D$19:$D$28,Conf!$H12,'1'!$F$19:$F$28)) -> 0 | AH12: =IF($H12="","",SUMIF('2'!$D$19:$D$28,Conf!$H12,'2'!$F$19:$F$28)) -> 0 | AI12: =IF($H12="","",SUMIF('3'!$D$19:$D$28,Conf!$H12,'3'!$F$19:$F$28)) -> 0 | AJ12: =IF($H12="","",SUMIF('4'!$D$19:$D$28,Conf!$H12,'4'!$F$19:$F$28)) -> 0 | AK12: =IF($H12="","",SUMIF('5'!$D$19:$D$28,Conf!$H12,'5'!$F$19:$F$28)) -> 0 | AL12: =IF($H12="","",SUMIF('6'!$D$19:$D$28,Conf!$H12,'6'!$F$19:$F$28)) -> 0 | AM12: =IF($H12="","",SUMIF('7'!$D$19:$D$28,Conf!$H12,'7'!$F$19:$F$28)) -> 0 | AN12: =IF($H12="","",SUMIF('8'!$D$19:$D$28,Conf!$H12,'8'!$F$19:$F$28)) -> 0 | AO12: =IF($H12="","",SUMIF('9'!$D$19:$D$28,Conf!$H12,'9'!$F$19:$F$28)) -> 0 | AP12: =IF($H12="","",SUMIF('10'!$D$19:$D$28,Conf!$H12,'10'!$F$19:$F$28)) -> 0 | AQ12: =IF($H12="","",SUMIF('11'!$D$19:$D$28,Conf!$H12,'11'!$F$19:$F$28)) -> 0 | AR12: =IF($H12="","",SUMIF('12'!$D$19:$D$28,Conf!$H12,'12'!$F$19:$F$28)) -> 0 | AS12: =IF($H12="","",SUMIF('13'!$D$19:$D$28,Conf!$H12,'13'!$F$19:$F$28)) -> 0 | AT12: =IF($H12="","",SUMIF('14'!$D$19:$D$28,Conf!$H12,'14'!$F$19:$F$28)) -> 0 | AU12: =IF($H12="","",SUMIF('15'!$D$19:$D$28,Conf!$H12,'15'!$F$19:$F$28)) -> 0 | AV12: =IF($H12="","",SUMIF('16'!$D$19:$D$28,Conf!$H12,'16'!$F$19:$F$28)) -> 0 | AW12: =IF($H12="","",SUMIF('17'!$D$19:$D$28,Conf!$H12,'17'!$F$19:$F$28)) -> 0 | AX12: =IF($H12="","",SUMIF('18'!$D$19:$D$28,Conf!$H12,'18'!$F$19:$F$28)) -> 0 | AY12: =IF($H12="","",SUMIF('19'!$D$19:$D$28,Conf!$H12,'19'!$F$19:$F$28)) -> 0 | AZ12: =IFERROR(AG12,"") -> 0 | BA12: =IFERROR(AZ12+AH12,"") -> 0 | BB12: =IFERROR(BA12+AI12,"") -> 0 | BC12: =IFERROR(BB12+AJ12,"") -> 0 | BD12: =IFERROR(BC12+AK12,"") -> 0 | BE12: =IFERROR(BD12+AL12,"") -> 0 | BF12: =IFERROR(BE12+AM12,"") -> 0 | BG12: =IFERROR(BF12+AN12,"") -> 0 | BH12: =IFERROR(BG12+AO12,"") -> 0 | ... BR12: =IFERROR(BQ12+AY12,"") -> 0 | BS12: =IF($H12="","",RANK(AZ12,AZ$4:AZ$35,0)+COUNTIF($AZ$4:AZ12,AZ12)-1) -> 9 | BT12: =IF($H12="","",RANK(BA12,BA$4:BA$35,0)+COUNTIF($BA$4:BA12,BA12)-1) -> 9 | BU12: =IF($H12="","",RANK(BB12,BB$4:BB$35,0)+COUNTIF($BB$4:BB12,BB12)-1) -> 9 | BV12: =IF($H12="","",RANK(BC12,BC$4:BC$35,0)+COUNTIF($BC$4:BC12,BC12)-1) -> 9 | BW12: =IF($H12="","",RANK(BD12,BD$4:BD$35,0)+COUNTIF($BD$4:BD12,BD12)-1) -> 9 | BX12: =IF($H12="","",RANK(BE12,BE$4:BE$35,0)+COUNTIF($BE$4:BE12,BE12)-1) -> 9 | BY12: =IF($H12="","",RANK(BF12,BF$4:BF$35,0)+COUNTIF($BF$4:BF12,BF12)-1) -> 9 | BZ12: =IF($H12="","",RANK(BG12,BG$4:BG$35,0)+COUNTIF($BG$4:BG12,BG12)-1) -> 9 | CA12: =IF($H12="","",RANK(BH12,BH$4:BH$35,0)+COUNTIF($BH$4:BH12,BH12)-1) -> 9 | CB12: =IF($H12="","",RANK(BI12,BI$4:BI$35,0)+COUNTIF($BI$4:BI12,BI12)-1) -> 9 | CC12: =IF($H12="","",RANK(BJ12,BJ$4:BJ$35,0)+COUNTIF($BJ$4:BJ12,BJ12)-1) -> 9 | CD12: =IF($H12="","",RANK(BK12,BK$4:BK$35,0)+COUNTIF($BK$4:BK12,BK12)-1) -> 9 | CE12: =IF($H12="","",RANK(BL12,BL$4:BL$35,0)+COUNTIF($BL$4:BL12,BL12)-1) -> 9 | CF12: =IF($H12="","",RANK(BM12,BM$4:BM$35,0)+COUNTIF($BM$4:BM12,BM12)-1) -> 9 | CG12: =IF($H12="","",RANK(BN12,BN$4:BN$35,0)+COUNTIF($BN$4:BN12,BN12)-1) -> 9 | CH12: =IF($H12="","",RANK(BO12,BO$4:BO$35,0)+COUNTIF($BO$4:BO12,BO12)-1) -> 9 | CI12: =IF($H12="","",RANK(BP12,BP$4:BP$35,0)+COUNTIF($BP$4:BP12,BP12)-1) -> 9 | CJ12: =IF($H12="","",RANK(BQ12,BQ$4:BQ$35,0)+COUNTIF($BQ$4:BQ12,BQ12)-1) -> 9 | CK12: =IF($H12="","",RANK(BR12,BR$4:BR$35,0)+COUNTIF($BR$4:BR12,BR12)-1) -> 9 | CL12: =IF(H12="","",SUM(CM12:DE12)) -> 0 | CM12: =IF($H12="","",IF('1'!$D$14=Conf!$H12,1,0)) -> 0 | CN12: =IF($H12="","",IF('2'!$D$14=Conf!$H12,1,0)) -> 0 | CO12: =IF($H12="","",IF('3'!$D$14=Conf!$H12,1,0)) -> 0 | CP12: =IF($H12="","",IF('4'!$D$14=Conf!$H12,1,0)) -> 0 | CQ12: =IF($H12="","",IF('5'!$D$14=Conf!$H12,1,0)) -> 0 | CR12: =IF($H12="","",IF('6'!$D$14=Conf!$H12,1,0)) -> 0 | CS12: =IF($H12="","",IF('7'!$D$14=Conf!$H12,1,0)) -> 0 | CT12: =IF($H12="","",IF('8'!$D$14=Conf!$H12,1,0)) -> 0 | CU12: =IF($H12="","",IF('9'!$D$14=Conf!$H12,1,0)) -> 0 | CV12: =IF($H12="","",IF('10'!$D$14=Conf!$H12,1,0)) -> 0 | CW12: =IF($H12="","",IF('11'!$D$14=Conf!$H12,1,0)) -> 0 | CX12: =IF($H12="","",IF('12'!$D$14=Conf!$H12,1,0)) -> 0 | CY12: =IF($H12="","",IF('13'!$D$14=Conf!$H12,1,0)) -> 0 | CZ12: =IF($H12="","",IF('14'!$D$14=Conf!$H12,1,0)) -> 0 | DA12: =IF($H12="","",IF('15'!$D$14=Conf!$H12,1,0)) -> 0 | DB12: =IF($H12="","",IF('16'!$D$14=Conf!$H12,1,0)) -> 0 | DC12: =IF($H12="","",IF('17'!$D$14=Conf!$H12,1,0)) -> 0 | DD12: =IF($H12="","",IF('18'!$D$14=Conf!$H12,1,0)) -> 0 | DE12: =IF($H12="","",IF('19'!$D$14=Conf!$H12,1,0)) -> 0 | DG12: =IF(DH12="","",DI12+DK12) -> 9 | DH12: =H12 -> Sergio PEREZ | DI12: =IF(DH12="","",RANK(DJ12,$DJ$4:$DJ$35,0)) -> 1 | DJ12: =K12 -> 0 | DK12: =IF(DH12="","",COUNTIF($DI$4:DI12,DI12)-1) -> 8 | DM12: =IF(DN12="","",DO12+DQ12) -> 9 | DN12: =H12 -> Sergio PEREZ | DO12: =IF(DN12="","",RANK(DP12,$DP$4:$DP$35,0)) -> 1 | DP12: =CL12 -> 0 | DQ12: =IF(DN12="","",COUNTIF($DO$4:DO12,DO12)-1) -> 8 | DS12: =IF(DT12="","",DU12+DW12) -> 9 | DT12: =H12 -> Sergio PEREZ | DU12: =IF(DT12="","",RANK(DV12,$DV$4:$DV$35,0)) -> 1 | DV12: =IFERROR(K12+L12+M12,"") -> 0 | DW12: =IF(DT12="","",COUNTIF($DU$4:DU12,DU12)-1) -> 8 | DY12: =IF(DZ12="","",EA12+EC12) -> 9 | DZ12: =H12 -> Sergio PEREZ | EA12: =IF(DZ12="","",RANK(EB12,$EB$4:$EB$35,0)) -> 1 | EB12: =IFERROR(SUM(K12:T12),"") -> 0 | EC12: =IF(DZ12="","",COUNTIF($EA$4:EA12,EA12)-1) -> 8
A13: 12 | B13: 22-24 Agosto | C13: GP BELGICA | E13: =C4 -> GP BAHRAIN | G13: =IF(H13="","",RANK(J13,$J$4:$J$35,0)+SUM(U13:AD13)+AF13) -> 10 | H13: =IF(PILOTOS!D22="","",PILOTOS!D22) -> Pastor MALDONADO | I13: =IF(PILOTOS!E22="","",PILOTOS!E22) -> Lotus | J13: =IF(H13="","",SUM(AG13:AY13)) -> 0 | K13: =IF(H13="","",COUNTIFS(AG13:AX13,25,$AG$36:$AX$36,1)+COUNTIFS(AG13:AX13,12.5,$AG$36:$AX$36,2))+IF(H13="","",COUNTIFS(AY13,50,$AY$36,1)+COUNTIFS(AY13,25,$AY$36,2)) -> 0 | L13: =IF(H13="","",COUNTIFS(AG13:AX13,18,$AG$36:$AX$36,1)+COUNTIFS(AG13:AX13,9,$AG$36:$AX$36,2))++IF(H13="","",COUNTIFS(AY13,36,$AY$36,1)+COUNTIFS(AY13,18,$AY$36,2)) -> 0 | M13: =IF(H13="","",COUNTIFS(AG13:AX13,15,$AG$36:$AX$36,1)+COUNTIFS(AG13:AX13,7.5,$AG$36:$AX$36,2))+IF(H13="","",COUNTIFS(AY13,30,$AY$36,1)+COUNTIFS(AY13,15,$AY$36,2)) -> 0 | N13: =IF(H13="","",COUNTIFS(AG13:AX13,12,$AG$36:$AX$36,1)+COUNTIFS(AG13:AX13,6,$AG$36:$AX$36,2))+IF(H13="","",COUNTIFS(AY13,24,$AY$36,1)+COUNTIFS(AY13,12,$AY$36,2)) -> 0 | O13: =IF(H13="","",COUNTIFS(AG13:AX13,10,$AG$36:$AX$36,1)+COUNTIFS(AG13:AX13,5,$AG$36:$AX$36,2))+IF(H13="","",COUNTIFS(AY13,20,$AY$36,1)+COUNTIFS(AY13,10,$AY$36,2)) -> 0 | P13: =IF(H13="","",COUNTIFS(AG13:AX13,8,$AG$36:$AX$36,1)+COUNTIFS(AG13:AX13,4,$AG$36:$AX$36,2))+IF(H13="","",COUNTIFS(AY13,16,$AY$36,1)+COUNTIFS(AY13,8,$AY$36,2)) -> 0 | Q13: =IF(H13="","",COUNTIFS(AG13:AX13,6,$AG$36:$AX$36,1)+COUNTIFS(AG13:AX13,3,$AG$36:$AX$36,2))+IF(H13="","",COUNTIFS(AY13,12,$AY$36,1)+COUNTIFS(AY13,6,$AY$36,2)) -> 0 | R13: =IF(H13="","",COUNTIFS(AG13:AX13,4,$AG$36:$AX$36,1)+COUNTIFS(AG13:AX13,2,$AG$36:$AX$36,2))+IF(H13="","",COUNTIFS(AY13,8,$AY$36,1)+COUNTIFS(AY13,4,$AY$36,2)) -> 0 | S13: =IF(H13="","",COUNTIFS(AG13:AX13,2,$AG$36:$AX$36,1)+COUNTIFS(AG13:AX13,1,$AG$36:$AX$36,2))+IF(H13="","",COUNTIFS(AY13,4,$AY$36,1)+COUNTIFS(AY13,2,$AY$36,2)) -> 0 | T13: =IF(H13="","",COUNTIFS(AG13:AX13,1,$AG$36:$AX$36,1)+COUNTIFS(AG13:AX13,0.5,$AG$36:$AX$36,2))+IF(H13="","",COUNTIFS(AY13,2,$AY$36,1)+COUNTIFS(AY13,1,$AY$36,2)) -> 0 | U13: =IF(H13="","",SUMPRODUCT(($J$4:$J$35=J13)*($K$4:$K$35>K13))) -> 0 | V13: =IF(H13="","",SUMPRODUCT(($J$4:$J$35=J13)*($K$4:$K$35=K13)*($L$4:$L$35>L13))) -> 0 | W13: =IF(H13="","",SUMPRODUCT(($J$4:$J$35=J13)*($K$4:$K$35=K13)*($L$4:$L$35=L13)*($M$4:$M$35>M13))) -> 0 | X13: =IF(H13="","",SUMPRODUCT(($J$4:$J$35=J13)*($K$4:$K$35=K13)*($L$4:$L$35=L13)*($M$4:$M$35=M13)*($N$4:$N$35>N13))) -> 0 | Y13: =IF(H13="","",SUMPRODUCT(($J$4:$J$35=J13)*($K$4:$K$35=K13)*($L$4:$L$35=L13)*($M$4:$M$35=M13)*($N$4:$N$35=N13)*($O$4:$O$35>O13))) -> 0 | Z13: =IF(H13="","",SUMPRODUCT(($J$4:$J$35=J13)*($K$4:$K$35=K13)*($L$4:$L$35=L13)*($M$4:$M$35=M13)*($N$4:$N$35=N13)*($O$4:$O$35=O13)*($P$4:$P$35>P13))) -> 0 | AA13: =IF(H13="","",SUMPRODUCT(($J$4:$J$35=J13)*($K$4:$K$35=K13)*($L$4:$L$35=L13)*($M$4:$M$35=M13)*($N$4:$N$35=N13)*($O$4:$O$35=O13)*($P$4:$P$35=P13)*($Q$4:$Q$35>Q13))) -> 0 | AB13: =IF(H13="","",SUMPRODUCT(($J$4:$J$35=J13)*($K$4:$K$35=K13)*($L$4:$L$35=L13)*($M$4:$M$35=M13)*($N$4:$N$35=N13)*($O$4:$O$35=O13)*($P$4:$P$35=P13)*($Q$4:$Q$35=Q13)*($R$4:$R$35>R13))) -> 0 | AC13: =IF(H13="","",SUMPRODUCT(($J$4:$J$35=J13)*($K$4:$K$35=K13)*($L$4:$L$35=L13)*($M$4:$M$35=M13)*($N$4:$N$35=N13)*($O$4:$O$35=O13)*($P$4:$P$35=P13)*($Q$4:$Q$35=Q13)*($R$4:$R$35=R13)*($S$4:$S$35>S13))) -> 0 | AD13: =IF(H13="","",SUMPRODUCT(($J$4:$J$35=J13)*($K$4:$K$35=K13)*($L$4:$L$35=L13)*($M$4:$M$35=M13)*($N$4:$N$35=N13)*($O$4:$O$35=O13)*($P$4:$P$35=P13)*($Q$4:$Q$35=Q13)*($R$4:$R$35=R13)*($S$4:$S$35=S13)*($T$4:$T$35>T13))) -> 0 | AE13: =IF(PILOTOS!C22="","",PILOTOS!C22) -> 13 | AF13: =IF(H13="","",SUMPRODUCT(($J$4:$J$35=J13)*($K$4:$K$35=K13)*($L$4:$L$35=L13)*($M$4:$M$35=M13)*($N$4:$N$35=N13)*($O$4:$O$35=O13)*($P$4:$P$35=P13)*($Q$4:$Q$35=Q13)*($R$4:$R$35=R13)*($S$4:$S$35=S13)*($T$4:$T$35=T13)*($AE$4:$AE$35<AE13))) -> 9 | AG13: =IF($H13="","",SUMIF('1'!$D$19:$D$28,Conf!$H13,'1'!$F$19:$F$28)) -> 0 | AH13: =IF($H13="","",SUMIF('2'!$D$19:$D$28,Conf!$H13,'2'!$F$19:$F$28)) -> 0 | AI13: =IF($H13="","",SUMIF('3'!$D$19:$D$28,Conf!$H13,'3'!$F$19:$F$28)) -> 0 | AJ13: =IF($H13="","",SUMIF('4'!$D$19:$D$28,Conf!$H13,'4'!$F$19:$F$28)) -> 0 | AK13: =IF($H13="","",SUMIF('5'!$D$19:$D$28,Conf!$H13,'5'!$F$19:$F$28)) -> 0 | AL13: =IF($H13="","",SUMIF('6'!$D$19:$D$28,Conf!$H13,'6'!$F$19:$F$28)) -> 0 | AM13: =IF($H13="","",SUMIF('7'!$D$19:$D$28,Conf!$H13,'7'!$F$19:$F$28)) -> 0 | AN13: =IF($H13="","",SUMIF('8'!$D$19:$D$28,Conf!$H13,'8'!$F$19:$F$28)) -> 0 | AO13: =IF($H13="","",SUMIF('9'!$D$19:$D$28,Conf!$H13,'9'!$F$19:$F$28)) -> 0 | AP13: =IF($H13="","",SUMIF('10'!$D$19:$D$28,Conf!$H13,'10'!$F$19:$F$28)) -> 0 | AQ13: =IF($H13="","",SUMIF('11'!$D$19:$D$28,Conf!$H13,'11'!$F$19:$F$28)) -> 0 | AR13: =IF($H13="","",SUMIF('12'!$D$19:$D$28,Conf!$H13,'12'!$F$19:$F$28)) -> 0 | AS13: =IF($H13="","",SUMIF('13'!$D$19:$D$28,Conf!$H13,'13'!$F$19:$F$28)) -> 0 | AT13: =IF($H13="","",SUMIF('14'!$D$19:$D$28,Conf!$H13,'14'!$F$19:$F$28)) -> 0 | AU13: =IF($H13="","",SUMIF('15'!$D$19:$D$28,Conf!$H13,'15'!$F$19:$F$28)) -> 0 | AV13: =IF($H13="","",SUMIF('16'!$D$19:$D$28,Conf!$H13,'16'!$F$19:$F$28)) -> 0 | AW13: =IF($H13="","",SUMIF('17'!$D$19:$D$28,Conf!$H13,'17'!$F$19:$F$28)) -> 0 | AX13: =IF($H13="","",SUMIF('18'!$D$19:$D$28,Conf!$H13,'18'!$F$19:$F$28)) -> 0 | AY13: =IF($H13="","",SUMIF('19'!$D$19:$D$28,Conf!$H13,'19'!$F$19:$F$28)) -> 0 | AZ13: =IFERROR(AG13,"") -> 0 | BA13: =IFERROR(AZ13+AH13,"") -> 0 | BB13: =IFERROR(BA13+AI13,"") -> 0 | BC13: =IFERROR(BB13+AJ13,"") -> 0 | BD13: =IFERROR(BC13+AK13,"") -> 0 | BE13: =IFERROR(BD13+AL13,"") -> 0 | BF13: =IFERROR(BE13+AM13,"") -> 0 | BG13: =IFERROR(BF13+AN13,"") -> 0 | BH13: =IFERROR(BG13+AO13,"") -> 0 | ... BR13: =IFERROR(BQ13+AY13,"") -> 0 | BS13: =IF($H13="","",RANK(AZ13,AZ$4:AZ$35,0)+COUNTIF($AZ$4:AZ13,AZ13)-1) -> 10 | BT13: =IF($H13="","",RANK(BA13,BA$4:BA$35,0)+COUNTIF($BA$4:BA13,BA13)-1) -> 10 | BU13: =IF($H13="","",RANK(BB13,BB$4:BB$35,0)+COUNTIF($BB$4:BB13,BB13)-1) -> 10 | BV13: =IF($H13="","",RANK(BC13,BC$4:BC$35,0)+COUNTIF($BC$4:BC13,BC13)-1) -> 10 | BW13: =IF($H13="","",RANK(BD13,BD$4:BD$35,0)+COUNTIF($BD$4:BD13,BD13)-1) -> 10 | BX13: =IF($H13="","",RANK(BE13,BE$4:BE$35,0)+COUNTIF($BE$4:BE13,BE13)-1) -> 10 | BY13: =IF($H13="","",RANK(BF13,BF$4:BF$35,0)+COUNTIF($BF$4:BF13,BF13)-1) -> 10 | BZ13: =IF($H13="","",RANK(BG13,BG$4:BG$35,0)+COUNTIF($BG$4:BG13,BG13)-1) -> 10 | CA13: =IF($H13="","",RANK(BH13,BH$4:BH$35,0)+COUNTIF($BH$4:BH13,BH13)-1) -> 10 | CB13: =IF($H13="","",RANK(BI13,BI$4:BI$35,0)+COUNTIF($BI$4:BI13,BI13)-1) -> 10 | CC13: =IF($H13="","",RANK(BJ13,BJ$4:BJ$35,0)+COUNTIF($BJ$4:BJ13,BJ13)-1) -> 10 | CD13: =IF($H13="","",RANK(BK13,BK$4:BK$35,0)+COUNTIF($BK$4:BK13,BK13)-1) -> 10 | CE13: =IF($H13="","",RANK(BL13,BL$4:BL$35,0)+COUNTIF($BL$4:BL13,BL13)-1) -> 10 | CF13: =IF($H13="","",RANK(BM13,BM$4:BM$35,0)+COUNTIF($BM$4:BM13,BM13)-1) -> 10 | CG13: =IF($H13="","",RANK(BN13,BN$4:BN$35,0)+COUNTIF($BN$4:BN13,BN13)-1) -> 10 | CH13: =IF($H13="","",RANK(BO13,BO$4:BO$35,0)+COUNTIF($BO$4:BO13,BO13)-1) -> 10 | CI13: =IF($H13="","",RANK(BP13,BP$4:BP$35,0)+COUNTIF($BP$4:BP13,BP13)-1) -> 10 | CJ13: =IF($H13="","",RANK(BQ13,BQ$4:BQ$35,0)+COUNTIF($BQ$4:BQ13,BQ13)-1) -> 10 | CK13: =IF($H13="","",RANK(BR13,BR$4:BR$35,0)+COUNTIF($BR$4:BR13,BR13)-1) -> 10 | CL13: =IF(H13="","",SUM(CM13:DE13)) -> 0 | CM13: =IF($H13="","",IF('1'!$D$14=Conf!$H13,1,0)) -> 0 | CN13: =IF($H13="","",IF('2'!$D$14=Conf!$H13,1,0)) -> 0 | CO13: =IF($H13="","",IF('3'!$D$14=Conf!$H13,1,0)) -> 0 | CP13: =IF($H13="","",IF('4'!$D$14=Conf!$H13,1,0)) -> 0 | CQ13: =IF($H13="","",IF('5'!$D$14=Conf!$H13,1,0)) -> 0 | CR13: =IF($H13="","",IF('6'!$D$14=Conf!$H13,1,0)) -> 0 | CS13: =IF($H13="","",IF('7'!$D$14=Conf!$H13,1,0)) -> 0 | CT13: =IF($H13="","",IF('8'!$D$14=Conf!$H13,1,0)) -> 0 | CU13: =IF($H13="","",IF('9'!$D$14=Conf!$H13,1,0)) -> 0 | CV13: =IF($H13="","",IF('10'!$D$14=Conf!$H13,1,0)) -> 0 | CW13: =IF($H13="","",IF('11'!$D$14=Conf!$H13,1,0)) -> 0 | CX13: =IF($H13="","",IF('12'!$D$14=Conf!$H13,1,0)) -> 0 | CY13: =IF($H13="","",IF('13'!$D$14=Conf!$H13,1,0)) -> 0 | CZ13: =IF($H13="","",IF('14'!$D$14=Conf!$H13,1,0)) -> 0 | DA13: =IF($H13="","",IF('15'!$D$14=Conf!$H13,1,0)) -> 0 | DB13: =IF($H13="","",IF('16'!$D$14=Conf!$H13,1,0)) -> 0 | DC13: =IF($H13="","",IF('17'!$D$14=Conf!$H13,1,0)) -> 0 | DD13: =IF($H13="","",IF('18'!$D$14=Conf!$H13,1,0)) -> 0 | DE13: =IF($H13="","",IF('19'!$D$14=Conf!$H13,1,0)) -> 0 | DG13: =IF(DH13="","",DI13+DK13) -> 10 | DH13: =H13 -> Pastor MALDONADO | DI13: =IF(DH13="","",RANK(DJ13,$DJ$4:$DJ$35,0)) -> 1 | DJ13: =K13 -> 0 | DK13: =IF(DH13="","",COUNTIF($DI$4:DI13,DI13)-1) -> 9 | DM13: =IF(DN13="","",DO13+DQ13) -> 10 | DN13: =H13 -> Pastor MALDONADO | DO13: =IF(DN13="","",RANK(DP13,$DP$4:$DP$35,0)) -> 1 | DP13: =CL13 -> 0 | DQ13: =IF(DN13="","",COUNTIF($DO$4:DO13,DO13)-1) -> 9 | DS13: =IF(DT13="","",DU13+DW13) -> 10 | DT13: =H13 -> Pastor MALDONADO | DU13: =IF(DT13="","",RANK(DV13,$DV$4:$DV$35,0)) -> 1 | DV13: =IFERROR(K13+L13+M13,"") -> 0 | DW13: =IF(DT13="","",COUNTIF($DU$4:DU13,DU13)-1) -> 9 | DY13: =IF(DZ13="","",EA13+EC13) -> 10 | DZ13: =H13 -> Pastor MALDONADO | EA13: =IF(DZ13="","",RANK(EB13,$EB$4:$EB$35,0)) -> 1 | EB13: =IFERROR(SUM(K13:T13),"") -> 0 | EC13: =IF(DZ13="","",COUNTIF($EA$4:EA13,EA13)-1) -> 9
A14: 13 | B14: 5-7 Septiembre | C14: GP ITALIA | E14: =IF('3'!$D$19="","",'3'!$D$19) | G14: =IF(H14="","",RANK(J14,$J$4:$J$35,0)+SUM(U14:AD14)+AF14) -> 11 | H14: =IF(PILOTOS!D23="","",PILOTOS!D23) -> Fernando ALONSO | I14: =IF(PILOTOS!E23="","",PILOTOS!E23) -> Ferrari | J14: =IF(H14="","",SUM(AG14:AY14)) -> 0 | K14: =IF(H14="","",COUNTIFS(AG14:AX14,25,$AG$36:$AX$36,1)+COUNTIFS(AG14:AX14,12.5,$AG$36:$AX$36,2))+IF(H14="","",COUNTIFS(AY14,50,$AY$36,1)+COUNTIFS(AY14,25,$AY$36,2)) -> 0 | L14: =IF(H14="","",COUNTIFS(AG14:AX14,18,$AG$36:$AX$36,1)+COUNTIFS(AG14:AX14,9,$AG$36:$AX$36,2))++IF(H14="","",COUNTIFS(AY14,36,$AY$36,1)+COUNTIFS(AY14,18,$AY$36,2)) -> 0 | M14: =IF(H14="","",COUNTIFS(AG14:AX14,15,$AG$36:$AX$36,1)+COUNTIFS(AG14:AX14,7.5,$AG$36:$AX$36,2))+IF(H14="","",COUNTIFS(AY14,30,$AY$36,1)+COUNTIFS(AY14,15,$AY$36,2)) -> 0 | N14: =IF(H14="","",COUNTIFS(AG14:AX14,12,$AG$36:$AX$36,1)+COUNTIFS(AG14:AX14,6,$AG$36:$AX$36,2))+IF(H14="","",COUNTIFS(AY14,24,$AY$36,1)+COUNTIFS(AY14,12,$AY$36,2)) -> 0 | O14: =IF(H14="","",COUNTIFS(AG14:AX14,10,$AG$36:$AX$36,1)+COUNTIFS(AG14:AX14,5,$AG$36:$AX$36,2))+IF(H14="","",COUNTIFS(AY14,20,$AY$36,1)+COUNTIFS(AY14,10,$AY$36,2)) -> 0 | P14: =IF(H14="","",COUNTIFS(AG14:AX14,8,$AG$36:$AX$36,1)+COUNTIFS(AG14:AX14,4,$AG$36:$AX$36,2))+IF(H14="","",COUNTIFS(AY14,16,$AY$36,1)+COUNTIFS(AY14,8,$AY$36,2)) -> 0 | Q14: =IF(H14="","",COUNTIFS(AG14:AX14,6,$AG$36:$AX$36,1)+COUNTIFS(AG14:AX14,3,$AG$36:$AX$36,2))+IF(H14="","",COUNTIFS(AY14,12,$AY$36,1)+COUNTIFS(AY14,6,$AY$36,2)) -> 0 | R14: =IF(H14="","",COUNTIFS(AG14:AX14,4,$AG$36:$AX$36,1)+COUNTIFS(AG14:AX14,2,$AG$36:$AX$36,2))+IF(H14="","",COUNTIFS(AY14,8,$AY$36,1)+COUNTIFS(AY14,4,$AY$36,2)) -> 0 | S14: =IF(H14="","",COUNTIFS(AG14:AX14,2,$AG$36:$AX$36,1)+COUNTIFS(AG14:AX14,1,$AG$36:$AX$36,2))+IF(H14="","",COUNTIFS(AY14,4,$AY$36,1)+COUNTIFS(AY14,2,$AY$36,2)) -> 0 | T14: =IF(H14="","",COUNTIFS(AG14:AX14,1,$AG$36:$AX$36,1)+COUNTIFS(AG14:AX14,0.5,$AG$36:$AX$36,2))+IF(H14="","",COUNTIFS(AY14,2,$AY$36,1)+COUNTIFS(AY14,1,$AY$36,2)) -> 0 | U14: =IF(H14="","",SUMPRODUCT(($J$4:$J$35=J14)*($K$4:$K$35>K14))) -> 0 | V14: =IF(H14="","",SUMPRODUCT(($J$4:$J$35=J14)*($K$4:$K$35=K14)*($L$4:$L$35>L14))) -> 0 | W14: =IF(H14="","",SUMPRODUCT(($J$4:$J$35=J14)*($K$4:$K$35=K14)*($L$4:$L$35=L14)*($M$4:$M$35>M14))) -> 0 | X14: =IF(H14="","",SUMPRODUCT(($J$4:$J$35=J14)*($K$4:$K$35=K14)*($L$4:$L$35=L14)*($M$4:$M$35=M14)*($N$4:$N$35>N14))) -> 0 | Y14: =IF(H14="","",SUMPRODUCT(($J$4:$J$35=J14)*($K$4:$K$35=K14)*($L$4:$L$35=L14)*($M$4:$M$35=M14)*($N$4:$N$35=N14)*($O$4:$O$35>O14))) -> 0 | Z14: =IF(H14="","",SUMPRODUCT(($J$4:$J$35=J14)*($K$4:$K$35=K14)*($L$4:$L$35=L14)*($M$4:$M$35=M14)*($N$4:$N$35=N14)*($O$4:$O$35=O14)*($P$4:$P$35>P14))) -> 0 | AA14: =IF(H14="","",SUMPRODUCT(($J$4:$J$35=J14)*($K$4:$K$35=K14)*($L$4:$L$35=L14)*($M$4:$M$35=M14)*($N$4:$N$35=N14)*($O$4:$O$35=O14)*($P$4:$P$35=P14)*($Q$4:$Q$35>Q14))) -> 0 | AB14: =IF(H14="","",SUMPRODUCT(($J$4:$J$35=J14)*($K$4:$K$35=K14)*($L$4:$L$35=L14)*($M$4:$M$35=M14)*($N$4:$N$35=N14)*($O$4:$O$35=O14)*($P$4:$P$35=P14)*($Q$4:$Q$35=Q14)*($R$4:$R$35>R14))) -> 0 | AC14: =IF(H14="","",SUMPRODUCT(($J$4:$J$35=J14)*($K$4:$K$35=K14)*($L$4:$L$35=L14)*($M$4:$M$35=M14)*($N$4:$N$35=N14)*($O$4:$O$35=O14)*($P$4:$P$35=P14)*($Q$4:$Q$35=Q14)*($R$4:$R$35=R14)*($S$4:$S$35>S14))) -> 0 | AD14: =IF(H14="","",SUMPRODUCT(($J$4:$J$35=J14)*($K$4:$K$35=K14)*($L$4:$L$35=L14)*($M$4:$M$35=M14)*($N$4:$N$35=N14)*($O$4:$O$35=O14)*($P$4:$P$35=P14)*($Q$4:$Q$35=Q14)*($R$4:$R$35=R14)*($S$4:$S$35=S14)*($T$4:$T$35>T14))) -> 0 | AE14: =IF(PILOTOS!C23="","",PILOTOS!C23) -> 14 | AF14: =IF(H14="","",SUMPRODUCT(($J$4:$J$35=J14)*($K$4:$K$35=K14)*($L$4:$L$35=L14)*($M$4:$M$35=M14)*($N$4:$N$35=N14)*($O$4:$O$35=O14)*($P$4:$P$35=P14)*($Q$4:$Q$35=Q14)*($R$4:$R$35=R14)*($S$4:$S$35=S14)*($T$4:$T$35=T14)*($AE$4:$AE$35<AE14))) -> 10 | AG14: =IF($H14="","",SUMIF('1'!$D$19:$D$28,Conf!$H14,'1'!$F$19:$F$28)) -> 0 | AH14: =IF($H14="","",SUMIF('2'!$D$19:$D$28,Conf!$H14,'2'!$F$19:$F$28)) -> 0 | AI14: =IF($H14="","",SUMIF('3'!$D$19:$D$28,Conf!$H14,'3'!$F$19:$F$28)) -> 0 | AJ14: =IF($H14="","",SUMIF('4'!$D$19:$D$28,Conf!$H14,'4'!$F$19:$F$28)) -> 0 | AK14: =IF($H14="","",SUMIF('5'!$D$19:$D$28,Conf!$H14,'5'!$F$19:$F$28)) -> 0 | AL14: =IF($H14="","",SUMIF('6'!$D$19:$D$28,Conf!$H14,'6'!$F$19:$F$28)) -> 0 | AM14: =IF($H14="","",SUMIF('7'!$D$19:$D$28,Conf!$H14,'7'!$F$19:$F$28)) -> 0 | AN14: =IF($H14="","",SUMIF('8'!$D$19:$D$28,Conf!$H14,'8'!$F$19:$F$28)) -> 0 | AO14: =IF($H14="","",SUMIF('9'!$D$19:$D$28,Conf!$H14,'9'!$F$19:$F$28)) -> 0 | AP14: =IF($H14="","",SUMIF('10'!$D$19:$D$28,Conf!$H14,'10'!$F$19:$F$28)) -> 0 | AQ14: =IF($H14="","",SUMIF('11'!$D$19:$D$28,Conf!$H14,'11'!$F$19:$F$28)) -> 0 | AR14: =IF($H14="","",SUMIF('12'!$D$19:$D$28,Conf!$H14,'12'!$F$19:$F$28)) -> 0 | AS14: =IF($H14="","",SUMIF('13'!$D$19:$D$28,Conf!$H14,'13'!$F$19:$F$28)) -> 0 | AT14: =IF($H14="","",SUMIF('14'!$D$19:$D$28,Conf!$H14,'14'!$F$19:$F$28)) -> 0 | AU14: =IF($H14="","",SUMIF('15'!$D$19:$D$28,Conf!$H14,'15'!$F$19:$F$28)) -> 0 | AV14: =IF($H14="","",SUMIF('16'!$D$19:$D$28,Conf!$H14,'16'!$F$19:$F$28)) -> 0 | AW14: =IF($H14="","",SUMIF('17'!$D$19:$D$28,Conf!$H14,'17'!$F$19:$F$28)) -> 0 | AX14: =IF($H14="","",SUMIF('18'!$D$19:$D$28,Conf!$H14,'18'!$F$19:$F$28)) -> 0 | AY14: =IF($H14="","",SUMIF('19'!$D$19:$D$28,Conf!$H14,'19'!$F$19:$F$28)) -> 0 | AZ14: =IFERROR(AG14,"") -> 0 | BA14: =IFERROR(AZ14+AH14,"") -> 0 | BB14: =IFERROR(BA14+AI14,"") -> 0 | BC14: =IFERROR(BB14+AJ14,"") -> 0 | BD14: =IFERROR(BC14+AK14,"") -> 0 | BE14: =IFERROR(BD14+AL14,"") -> 0 | BF14: =IFERROR(BE14+AM14,"") -> 0 | BG14: =IFERROR(BF14+AN14,"") -> 0 | BH14: =IFERROR(BG14+AO14,"") -> 0 | ... BR14: =IFERROR(BQ14+AY14,"") -> 0 | BS14: =IF($H14="","",RANK(AZ14,AZ$4:AZ$35,0)+COUNTIF($AZ$4:AZ14,AZ14)-1) -> 11 | BT14: =IF($H14="","",RANK(BA14,BA$4:BA$35,0)+COUNTIF($BA$4:BA14,BA14)-1) -> 11 | BU14: =IF($H14="","",RANK(BB14,BB$4:BB$35,0)+COUNTIF($BB$4:BB14,BB14)-1) -> 11 | BV14: =IF($H14="","",RANK(BC14,BC$4:BC$35,0)+COUNTIF($BC$4:BC14,BC14)-1) -> 11 | BW14: =IF($H14="","",RANK(BD14,BD$4:BD$35,0)+COUNTIF($BD$4:BD14,BD14)-1) -> 11 | BX14: =IF($H14="","",RANK(BE14,BE$4:BE$35,0)+COUNTIF($BE$4:BE14,BE14)-1) -> 11 | BY14: =IF($H14="","",RANK(BF14,BF$4:BF$35,0)+COUNTIF($BF$4:BF14,BF14)-1) -> 11 | BZ14: =IF($H14="","",RANK(BG14,BG$4:BG$35,0)+COUNTIF($BG$4:BG14,BG14)-1) -> 11 | CA14: =IF($H14="","",RANK(BH14,BH$4:BH$35,0)+COUNTIF($BH$4:BH14,BH14)-1) -> 11 | CB14: =IF($H14="","",RANK(BI14,BI$4:BI$35,0)+COUNTIF($BI$4:BI14,BI14)-1) -> 11 | CC14: =IF($H14="","",RANK(BJ14,BJ$4:BJ$35,0)+COUNTIF($BJ$4:BJ14,BJ14)-1) -> 11 | CD14: =IF($H14="","",RANK(BK14,BK$4:BK$35,0)+COUNTIF($BK$4:BK14,BK14)-1) -> 11 | CE14: =IF($H14="","",RANK(BL14,BL$4:BL$35,0)+COUNTIF($BL$4:BL14,BL14)-1) -> 11 | CF14: =IF($H14="","",RANK(BM14,BM$4:BM$35,0)+COUNTIF($BM$4:BM14,BM14)-1) -> 11 | CG14: =IF($H14="","",RANK(BN14,BN$4:BN$35,0)+COUNTIF($BN$4:BN14,BN14)-1) -> 11 | CH14: =IF($H14="","",RANK(BO14,BO$4:BO$35,0)+COUNTIF($BO$4:BO14,BO14)-1) -> 11 | CI14: =IF($H14="","",RANK(BP14,BP$4:BP$35,0)+COUNTIF($BP$4:BP14,BP14)-1) -> 11 | CJ14: =IF($H14="","",RANK(BQ14,BQ$4:BQ$35,0)+COUNTIF($BQ$4:BQ14,BQ14)-1) -> 11 | CK14: =IF($H14="","",RANK(BR14,BR$4:BR$35,0)+COUNTIF($BR$4:BR14,BR14)-1) -> 11 | CL14: =IF(H14="","",SUM(CM14:DE14)) -> 0 | CM14: =IF($H14="","",IF('1'!$D$14=Conf!$H14,1,0)) -> 0 | CN14: =IF($H14="","",IF('2'!$D$14=Conf!$H14,1,0)) -> 0 | CO14: =IF($H14="","",IF('3'!$D$14=Conf!$H14,1,0)) -> 0 | CP14: =IF($H14="","",IF('4'!$D$14=Conf!$H14,1,0)) -> 0 | CQ14: =IF($H14="","",IF('5'!$D$14=Conf!$H14,1,0)) -> 0 | CR14: =IF($H14="","",IF('6'!$D$14=Conf!$H14,1,0)) -> 0 | CS14: =IF($H14="","",IF('7'!$D$14=Conf!$H14,1,0)) -> 0 | CT14: =IF($H14="","",IF('8'!$D$14=Conf!$H14,1,0)) -> 0 | CU14: =IF($H14="","",IF('9'!$D$14=Conf!$H14,1,0)) -> 0 | CV14: =IF($H14="","",IF('10'!$D$14=Conf!$H14,1,0)) -> 0 | CW14: =IF($H14="","",IF('11'!$D$14=Conf!$H14,1,0)) -> 0 | CX14: =IF($H14="","",IF('12'!$D$14=Conf!$H14,1,0)) -> 0 | CY14: =IF($H14="","",IF('13'!$D$14=Conf!$H14,1,0)) -> 0 | CZ14: =IF($H14="","",IF('14'!$D$14=Conf!$H14,1,0)) -> 0 | DA14: =IF($H14="","",IF('15'!$D$14=Conf!$H14,1,0)) -> 0 | DB14: =IF($H14="","",IF('16'!$D$14=Conf!$H14,1,0)) -> 0 | DC14: =IF($H14="","",IF('17'!$D$14=Conf!$H14,1,0)) -> 0 | DD14: =IF($H14="","",IF('18'!$D$14=Conf!$H14,1,0)) -> 0 | DE14: =IF($H14="","",IF('19'!$D$14=Conf!$H14,1,0)) -> 0 | DG14: =IF(DH14="","",DI14+DK14) -> 11 | DH14: =H14 -> Fernando ALONSO | DI14: =IF(DH14="","",RANK(DJ14,$DJ$4:$DJ$35,0)) -> 1 | DJ14: =K14 -> 0 | DK14: =IF(DH14="","",COUNTIF($DI$4:DI14,DI14)-1) -> 10 | DM14: =IF(DN14="","",DO14+DQ14) -> 11 | DN14: =H14 -> Fernando ALONSO | DO14: =IF(DN14="","",RANK(DP14,$DP$4:$DP$35,0)) -> 1 | DP14: =CL14 -> 0 | DQ14: =IF(DN14="","",COUNTIF($DO$4:DO14,DO14)-1) -> 10 | DS14: =IF(DT14="","",DU14+DW14) -> 11 | DT14: =H14 -> Fernando ALONSO | DU14: =IF(DT14="","",RANK(DV14,$DV$4:$DV$35,0)) -> 1 | DV14: =IFERROR(K14+L14+M14,"") -> 0 | DW14: =IF(DT14="","",COUNTIF($DU$4:DU14,DU14)-1) -> 10 | DY14: =IF(DZ14="","",EA14+EC14) -> 11 | DZ14: =H14 -> Fernando ALONSO | EA14: =IF(DZ14="","",RANK(EB14,$EB$4:$EB$35,0)) -> 1 | EB14: =IFERROR(SUM(K14:T14),"") -> 0 | EC14: =IF(DZ14="","",COUNTIF($EA$4:EA14,EA14)-1) -> 10
A15: 14 | B15: 19-21 Septiembre | C15: GP SINGAPUR | E15: =IF('3'!$D$20="","",'3'!$D$20) | G15: =IF(H15="","",RANK(J15,$J$4:$J$35,0)+SUM(U15:AD15)+AF15) -> 12 | H15: =IF(PILOTOS!D24="","",PILOTOS!D24) -> Jules BIANCHI | I15: =IF(PILOTOS!E24="","",PILOTOS!E24) -> Marussia | J15: =IF(H15="","",SUM(AG15:AY15)) -> 0 | K15: =IF(H15="","",COUNTIFS(AG15:AX15,25,$AG$36:$AX$36,1)+COUNTIFS(AG15:AX15,12.5,$AG$36:$AX$36,2))+IF(H15="","",COUNTIFS(AY15,50,$AY$36,1)+COUNTIFS(AY15,25,$AY$36,2)) -> 0 | L15: =IF(H15="","",COUNTIFS(AG15:AX15,18,$AG$36:$AX$36,1)+COUNTIFS(AG15:AX15,9,$AG$36:$AX$36,2))++IF(H15="","",COUNTIFS(AY15,36,$AY$36,1)+COUNTIFS(AY15,18,$AY$36,2)) -> 0 | M15: =IF(H15="","",COUNTIFS(AG15:AX15,15,$AG$36:$AX$36,1)+COUNTIFS(AG15:AX15,7.5,$AG$36:$AX$36,2))+IF(H15="","",COUNTIFS(AY15,30,$AY$36,1)+COUNTIFS(AY15,15,$AY$36,2)) -> 0 | N15: =IF(H15="","",COUNTIFS(AG15:AX15,12,$AG$36:$AX$36,1)+COUNTIFS(AG15:AX15,6,$AG$36:$AX$36,2))+IF(H15="","",COUNTIFS(AY15,24,$AY$36,1)+COUNTIFS(AY15,12,$AY$36,2)) -> 0 | O15: =IF(H15="","",COUNTIFS(AG15:AX15,10,$AG$36:$AX$36,1)+COUNTIFS(AG15:AX15,5,$AG$36:$AX$36,2))+IF(H15="","",COUNTIFS(AY15,20,$AY$36,1)+COUNTIFS(AY15,10,$AY$36,2)) -> 0 | P15: =IF(H15="","",COUNTIFS(AG15:AX15,8,$AG$36:$AX$36,1)+COUNTIFS(AG15:AX15,4,$AG$36:$AX$36,2))+IF(H15="","",COUNTIFS(AY15,16,$AY$36,1)+COUNTIFS(AY15,8,$AY$36,2)) -> 0 | Q15: =IF(H15="","",COUNTIFS(AG15:AX15,6,$AG$36:$AX$36,1)+COUNTIFS(AG15:AX15,3,$AG$36:$AX$36,2))+IF(H15="","",COUNTIFS(AY15,12,$AY$36,1)+COUNTIFS(AY15,6,$AY$36,2)) -> 0 | R15: =IF(H15="","",COUNTIFS(AG15:AX15,4,$AG$36:$AX$36,1)+COUNTIFS(AG15:AX15,2,$AG$36:$AX$36,2))+IF(H15="","",COUNTIFS(AY15,8,$AY$36,1)+COUNTIFS(AY15,4,$AY$36,2)) -> 0 | S15: =IF(H15="","",COUNTIFS(AG15:AX15,2,$AG$36:$AX$36,1)+COUNTIFS(AG15:AX15,1,$AG$36:$AX$36,2))+IF(H15="","",COUNTIFS(AY15,4,$AY$36,1)+COUNTIFS(AY15,2,$AY$36,2)) -> 0 | T15: =IF(H15="","",COUNTIFS(AG15:AX15,1,$AG$36:$AX$36,1)+COUNTIFS(AG15:AX15,0.5,$AG$36:$AX$36,2))+IF(H15="","",COUNTIFS(AY15,2,$AY$36,1)+COUNTIFS(AY15,1,$AY$36,2)) -> 0 | U15: =IF(H15="","",SUMPRODUCT(($J$4:$J$35=J15)*($K$4:$K$35>K15))) -> 0 | V15: =IF(H15="","",SUMPRODUCT(($J$4:$J$35=J15)*($K$4:$K$35=K15)*($L$4:$L$35>L15))) -> 0 | W15: =IF(H15="","",SUMPRODUCT(($J$4:$J$35=J15)*($K$4:$K$35=K15)*($L$4:$L$35=L15)*($M$4:$M$35>M15))) -> 0 | X15: =IF(H15="","",SUMPRODUCT(($J$4:$J$35=J15)*($K$4:$K$35=K15)*($L$4:$L$35=L15)*($M$4:$M$35=M15)*($N$4:$N$35>N15))) -> 0 | Y15: =IF(H15="","",SUMPRODUCT(($J$4:$J$35=J15)*($K$4:$K$35=K15)*($L$4:$L$35=L15)*($M$4:$M$35=M15)*($N$4:$N$35=N15)*($O$4:$O$35>O15))) -> 0 | Z15: =IF(H15="","",SUMPRODUCT(($J$4:$J$35=J15)*($K$4:$K$35=K15)*($L$4:$L$35=L15)*($M$4:$M$35=M15)*($N$4:$N$35=N15)*($O$4:$O$35=O15)*($P$4:$P$35>P15))) -> 0 | AA15: =IF(H15="","",SUMPRODUCT(($J$4:$J$35=J15)*($K$4:$K$35=K15)*($L$4:$L$35=L15)*($M$4:$M$35=M15)*($N$4:$N$35=N15)*($O$4:$O$35=O15)*($P$4:$P$35=P15)*($Q$4:$Q$35>Q15))) -> 0 | AB15: =IF(H15="","",SUMPRODUCT(($J$4:$J$35=J15)*($K$4:$K$35=K15)*($L$4:$L$35=L15)*($M$4:$M$35=M15)*($N$4:$N$35=N15)*($O$4:$O$35=O15)*($P$4:$P$35=P15)*($Q$4:$Q$35=Q15)*($R$4:$R$35>R15))) -> 0 | AC15: =IF(H15="","",SUMPRODUCT(($J$4:$J$35=J15)*($K$4:$K$35=K15)*($L$4:$L$35=L15)*($M$4:$M$35=M15)*($N$4:$N$35=N15)*($O$4:$O$35=O15)*($P$4:$P$35=P15)*($Q$4:$Q$35=Q15)*($R$4:$R$35=R15)*($S$4:$S$35>S15))) -> 0 | AD15: =IF(H15="","",SUMPRODUCT(($J$4:$J$35=J15)*($K$4:$K$35=K15)*($L$4:$L$35=L15)*($M$4:$M$35=M15)*($N$4:$N$35=N15)*($O$4:$O$35=O15)*($P$4:$P$35=P15)*($Q$4:$Q$35=Q15)*($R$4:$R$35=R15)*($S$4:$S$35=S15)*($T$4:$T$35>T15))) -> 0 | AE15: =IF(PILOTOS!C24="","",PILOTOS!C24) -> 17 | AF15: =IF(H15="","",SUMPRODUCT(($J$4:$J$35=J15)*($K$4:$K$35=K15)*($L$4:$L$35=L15)*($M$4:$M$35=M15)*($N$4:$N$35=N15)*($O$4:$O$35=O15)*($P$4:$P$35=P15)*($Q$4:$Q$35=Q15)*($R$4:$R$35=R15)*($S$4:$S$35=S15)*($T$4:$T$35=T15)*($AE$4:$AE$35<AE15))) -> 11 | AG15: =IF($H15="","",SUMIF('1'!$D$19:$D$28,Conf!$H15,'1'!$F$19:$F$28)) -> 0 | AH15: =IF($H15="","",SUMIF('2'!$D$19:$D$28,Conf!$H15,'2'!$F$19:$F$28)) -> 0 | AI15: =IF($H15="","",SUMIF('3'!$D$19:$D$28,Conf!$H15,'3'!$F$19:$F$28)) -> 0 | AJ15: =IF($H15="","",SUMIF('4'!$D$19:$D$28,Conf!$H15,'4'!$F$19:$F$28)) -> 0 | AK15: =IF($H15="","",SUMIF('5'!$D$19:$D$28,Conf!$H15,'5'!$F$19:$F$28)) -> 0 | AL15: =IF($H15="","",SUMIF('6'!$D$19:$D$28,Conf!$H15,'6'!$F$19:$F$28)) -> 0 | AM15: =IF($H15="","",SUMIF('7'!$D$19:$D$28,Conf!$H15,'7'!$F$19:$F$28)) -> 0 | AN15: =IF($H15="","",SUMIF('8'!$D$19:$D$28,Conf!$H15,'8'!$F$19:$F$28)) -> 0 | AO15: =IF($H15="","",SUMIF('9'!$D$19:$D$28,Conf!$H15,'9'!$F$19:$F$28)) -> 0 | AP15: =IF($H15="","",SUMIF('10'!$D$19:$D$28,Conf!$H15,'10'!$F$19:$F$28)) -> 0 | AQ15: =IF($H15="","",SUMIF('11'!$D$19:$D$28,Conf!$H15,'11'!$F$19:$F$28)) -> 0 | AR15: =IF($H15="","",SUMIF('12'!$D$19:$D$28,Conf!$H15,'12'!$F$19:$F$28)) -> 0 | AS15: =IF($H15="","",SUMIF('13'!$D$19:$D$28,Conf!$H15,'13'!$F$19:$F$28)) -> 0 | AT15: =IF($H15="","",SUMIF('14'!$D$19:$D$28,Conf!$H15,'14'!$F$19:$F$28)) -> 0 | AU15: =IF($H15="","",SUMIF('15'!$D$19:$D$28,Conf!$H15,'15'!$F$19:$F$28)) -> 0 | AV15: =IF($H15="","",SUMIF('16'!$D$19:$D$28,Conf!$H15,'16'!$F$19:$F$28)) -> 0 | AW15: =IF($H15="","",SUMIF('17'!$D$19:$D$28,Conf!$H15,'17'!$F$19:$F$28)) -> 0 | AX15: =IF($H15="","",SUMIF('18'!$D$19:$D$28,Conf!$H15,'18'!$F$19:$F$28)) -> 0 | AY15: =IF($H15="","",SUMIF('19'!$D$19:$D$28,Conf!$H15,'19'!$F$19:$F$28)) -> 0 | AZ15: =IFERROR(AG15,"") -> 0 | BA15: =IFERROR(AZ15+AH15,"") -> 0 | BB15: =IFERROR(BA15+AI15,"") -> 0 | BC15: =IFERROR(BB15+AJ15,"") -> 0 | BD15: =IFERROR(BC15+AK15,"") -> 0 | BE15: =IFERROR(BD15+AL15,"") -> 0 | BF15: =IFERROR(BE15+AM15,"") -> 0 | BG15: =IFERROR(BF15+AN15,"") -> 0 | BH15: =IFERROR(BG15+AO15,"") -> 0 | ... BR15: =IFERROR(BQ15+AY15,"") -> 0 | BS15: =IF($H15="","",RANK(AZ15,AZ$4:AZ$35,0)+COUNTIF($AZ$4:AZ15,AZ15)-1) -> 12 | BT15: =IF($H15="","",RANK(BA15,BA$4:BA$35,0)+COUNTIF($BA$4:BA15,BA15)-1) -> 12 | BU15: =IF($H15="","",RANK(BB15,BB$4:BB$35,0)+COUNTIF($BB$4:BB15,BB15)-1) -> 12 | BV15: =IF($H15="","",RANK(BC15,BC$4:BC$35,0)+COUNTIF($BC$4:BC15,BC15)-1) -> 12 | BW15: =IF($H15="","",RANK(BD15,BD$4:BD$35,0)+COUNTIF($BD$4:BD15,BD15)-1) -> 12 | BX15: =IF($H15="","",RANK(BE15,BE$4:BE$35,0)+COUNTIF($BE$4:BE15,BE15)-1) -> 12 | BY15: =IF($H15="","",RANK(BF15,BF$4:BF$35,0)+COUNTIF($BF$4:BF15,BF15)-1) -> 12 | BZ15: =IF($H15="","",RANK(BG15,BG$4:BG$35,0)+COUNTIF($BG$4:BG15,BG15)-1) -> 12 | CA15: =IF($H15="","",RANK(BH15,BH$4:BH$35,0)+COUNTIF($BH$4:BH15,BH15)-1) -> 12 | CB15: =IF($H15="","",RANK(BI15,BI$4:BI$35,0)+COUNTIF($BI$4:BI15,BI15)-1) -> 12 | CC15: =IF($H15="","",RANK(BJ15,BJ$4:BJ$35,0)+COUNTIF($BJ$4:BJ15,BJ15)-1) -> 12 | CD15: =IF($H15="","",RANK(BK15,BK$4:BK$35,0)+COUNTIF($BK$4:BK15,BK15)-1) -> 12 | CE15: =IF($H15="","",RANK(BL15,BL$4:BL$35,0)+COUNTIF($BL$4:BL15,BL15)-1) -> 12 | CF15: =IF($H15="","",RANK(BM15,BM$4:BM$35,0)+COUNTIF($BM$4:BM15,BM15)-1) -> 12 | CG15: =IF($H15="","",RANK(BN15,BN$4:BN$35,0)+COUNTIF($BN$4:BN15,BN15)-1) -> 12 | CH15: =IF($H15="","",RANK(BO15,BO$4:BO$35,0)+COUNTIF($BO$4:BO15,BO15)-1) -> 12 | CI15: =IF($H15="","",RANK(BP15,BP$4:BP$35,0)+COUNTIF($BP$4:BP15,BP15)-1) -> 12 | CJ15: =IF($H15="","",RANK(BQ15,BQ$4:BQ$35,0)+COUNTIF($BQ$4:BQ15,BQ15)-1) -> 12 | CK15: =IF($H15="","",RANK(BR15,BR$4:BR$35,0)+COUNTIF($BR$4:BR15,BR15)-1) -> 12 | CL15: =IF(H15="","",SUM(CM15:DE15)) -> 0 | CM15: =IF($H15="","",IF('1'!$D$14=Conf!$H15,1,0)) -> 0 | CN15: =IF($H15="","",IF('2'!$D$14=Conf!$H15,1,0)) -> 0 | CO15: =IF($H15="","",IF('3'!$D$14=Conf!$H15,1,0)) -> 0 | CP15: =IF($H15="","",IF('4'!$D$14=Conf!$H15,1,0)) -> 0 | CQ15: =IF($H15="","",IF('5'!$D$14=Conf!$H15,1,0)) -> 0 | CR15: =IF($H15="","",IF('6'!$D$14=Conf!$H15,1,0)) -> 0 | CS15: =IF($H15="","",IF('7'!$D$14=Conf!$H15,1,0)) -> 0 | CT15: =IF($H15="","",IF('8'!$D$14=Conf!$H15,1,0)) -> 0 | CU15: =IF($H15="","",IF('9'!$D$14=Conf!$H15,1,0)) -> 0 | CV15: =IF($H15="","",IF('10'!$D$14=Conf!$H15,1,0)) -> 0 | CW15: =IF($H15="","",IF('11'!$D$14=Conf!$H15,1,0)) -> 0 | CX15: =IF($H15="","",IF('12'!$D$14=Conf!$H15,1,0)) -> 0 | CY15: =IF($H15="","",IF('13'!$D$14=Conf!$H15,1,0)) -> 0 | CZ15: =IF($H15="","",IF('14'!$D$14=Conf!$H15,1,0)) -> 0 | DA15: =IF($H15="","",IF('15'!$D$14=Conf!$H15,1,0)) -> 0 | DB15: =IF($H15="","",IF('16'!$D$14=Conf!$H15,1,0)) -> 0 | DC15: =IF($H15="","",IF('17'!$D$14=Conf!$H15,1,0)) -> 0 | DD15: =IF($H15="","",IF('18'!$D$14=Conf!$H15,1,0)) -> 0 | DE15: =IF($H15="","",IF('19'!$D$14=Conf!$H15,1,0)) -> 0 | DG15: =IF(DH15="","",DI15+DK15) -> 12 | DH15: =H15 -> Jules BIANCHI | DI15: =IF(DH15="","",RANK(DJ15,$DJ$4:$DJ$35,0)) -> 1 | DJ15: =K15 -> 0 | DK15: =IF(DH15="","",COUNTIF($DI$4:DI15,DI15)-1) -> 11 | DM15: =IF(DN15="","",DO15+DQ15) -> 12 | DN15: =H15 -> Jules BIANCHI | DO15: =IF(DN15="","",RANK(DP15,$DP$4:$DP$35,0)) -> 1 | DP15: =CL15 -> 0 | DQ15: =IF(DN15="","",COUNTIF($DO$4:DO15,DO15)-1) -> 11 | DS15: =IF(DT15="","",DU15+DW15) -> 12 | DT15: =H15 -> Jules BIANCHI | DU15: =IF(DT15="","",RANK(DV15,$DV$4:$DV$35,0)) -> 1 | DV15: =IFERROR(K15+L15+M15,"") -> 0 | DW15: =IF(DT15="","",COUNTIF($DU$4:DU15,DU15)-1) -> 11 | DY15: =IF(DZ15="","",EA15+EC15) -> 12 | DZ15: =H15 -> Jules BIANCHI | EA15: =IF(DZ15="","",RANK(EB15,$EB$4:$EB$35,0)) -> 1 | EB15: =IFERROR(SUM(K15:T15),"") -> 0 | EC15: =IF(DZ15="","",COUNTIF($EA$4:EA15,EA15)-1) -> 11
A16: 15 | B16: 3-5 Octubre | C16: GP JAPON | E16: =IF('3'!$D$21="","",'3'!$D$21) | G16: =IF(H16="","",RANK(J16,$J$4:$J$35,0)+SUM(U16:AD16)+AF16) -> 13 | H16: =IF(PILOTOS!D25="","",PILOTOS!D25) -> Felipe MASSA | I16: =IF(PILOTOS!E25="","",PILOTOS!E25) -> Williams | J16: =IF(H16="","",SUM(AG16:AY16)) -> 0 | K16: =IF(H16="","",COUNTIFS(AG16:AX16,25,$AG$36:$AX$36,1)+COUNTIFS(AG16:AX16,12.5,$AG$36:$AX$36,2))+IF(H16="","",COUNTIFS(AY16,50,$AY$36,1)+COUNTIFS(AY16,25,$AY$36,2)) -> 0 | L16: =IF(H16="","",COUNTIFS(AG16:AX16,18,$AG$36:$AX$36,1)+COUNTIFS(AG16:AX16,9,$AG$36:$AX$36,2))++IF(H16="","",COUNTIFS(AY16,36,$AY$36,1)+COUNTIFS(AY16,18,$AY$36,2)) -> 0 | M16: =IF(H16="","",COUNTIFS(AG16:AX16,15,$AG$36:$AX$36,1)+COUNTIFS(AG16:AX16,7.5,$AG$36:$AX$36,2))+IF(H16="","",COUNTIFS(AY16,30,$AY$36,1)+COUNTIFS(AY16,15,$AY$36,2)) -> 0 | N16: =IF(H16="","",COUNTIFS(AG16:AX16,12,$AG$36:$AX$36,1)+COUNTIFS(AG16:AX16,6,$AG$36:$AX$36,2))+IF(H16="","",COUNTIFS(AY16,24,$AY$36,1)+COUNTIFS(AY16,12,$AY$36,2)) -> 0 | O16: =IF(H16="","",COUNTIFS(AG16:AX16,10,$AG$36:$AX$36,1)+COUNTIFS(AG16:AX16,5,$AG$36:$AX$36,2))+IF(H16="","",COUNTIFS(AY16,20,$AY$36,1)+COUNTIFS(AY16,10,$AY$36,2)) -> 0 | P16: =IF(H16="","",COUNTIFS(AG16:AX16,8,$AG$36:$AX$36,1)+COUNTIFS(AG16:AX16,4,$AG$36:$AX$36,2))+IF(H16="","",COUNTIFS(AY16,16,$AY$36,1)+COUNTIFS(AY16,8,$AY$36,2)) -> 0 | Q16: =IF(H16="","",COUNTIFS(AG16:AX16,6,$AG$36:$AX$36,1)+COUNTIFS(AG16:AX16,3,$AG$36:$AX$36,2))+IF(H16="","",COUNTIFS(AY16,12,$AY$36,1)+COUNTIFS(AY16,6,$AY$36,2)) -> 0 | R16: =IF(H16="","",COUNTIFS(AG16:AX16,4,$AG$36:$AX$36,1)+COUNTIFS(AG16:AX16,2,$AG$36:$AX$36,2))+IF(H16="","",COUNTIFS(AY16,8,$AY$36,1)+COUNTIFS(AY16,4,$AY$36,2)) -> 0 | S16: =IF(H16="","",COUNTIFS(AG16:AX16,2,$AG$36:$AX$36,1)+COUNTIFS(AG16:AX16,1,$AG$36:$AX$36,2))+IF(H16="","",COUNTIFS(AY16,4,$AY$36,1)+COUNTIFS(AY16,2,$AY$36,2)) -> 0 | T16: =IF(H16="","",COUNTIFS(AG16:AX16,1,$AG$36:$AX$36,1)+COUNTIFS(AG16:AX16,0.5,$AG$36:$AX$36,2))+IF(H16="","",COUNTIFS(AY16,2,$AY$36,1)+COUNTIFS(AY16,1,$AY$36,2)) -> 0 | U16: =IF(H16="","",SUMPRODUCT(($J$4:$J$35=J16)*($K$4:$K$35>K16))) -> 0 | V16: =IF(H16="","",SUMPRODUCT(($J$4:$J$35=J16)*($K$4:$K$35=K16)*($L$4:$L$35>L16))) -> 0 | W16: =IF(H16="","",SUMPRODUCT(($J$4:$J$35=J16)*($K$4:$K$35=K16)*($L$4:$L$35=L16)*($M$4:$M$35>M16))) -> 0 | X16: =IF(H16="","",SUMPRODUCT(($J$4:$J$35=J16)*($K$4:$K$35=K16)*($L$4:$L$35=L16)*($M$4:$M$35=M16)*($N$4:$N$35>N16))) -> 0 | Y16: =IF(H16="","",SUMPRODUCT(($J$4:$J$35=J16)*($K$4:$K$35=K16)*($L$4:$L$35=L16)*($M$4:$M$35=M16)*($N$4:$N$35=N16)*($O$4:$O$35>O16))) -> 0 | Z16: =IF(H16="","",SUMPRODUCT(($J$4:$J$35=J16)*($K$4:$K$35=K16)*($L$4:$L$35=L16)*($M$4:$M$35=M16)*($N$4:$N$35=N16)*($O$4:$O$35=O16)*($P$4:$P$35>P16))) -> 0 | AA16: =IF(H16="","",SUMPRODUCT(($J$4:$J$35=J16)*($K$4:$K$35=K16)*($L$4:$L$35=L16)*($M$4:$M$35=M16)*($N$4:$N$35=N16)*($O$4:$O$35=O16)*($P$4:$P$35=P16)*($Q$4:$Q$35>Q16))) -> 0 | AB16: =IF(H16="","",SUMPRODUCT(($J$4:$J$35=J16)*($K$4:$K$35=K16)*($L$4:$L$35=L16)*($M$4:$M$35=M16)*($N$4:$N$35=N16)*($O$4:$O$35=O16)*($P$4:$P$35=P16)*($Q$4:$Q$35=Q16)*($R$4:$R$35>R16))) -> 0 | AC16: =IF(H16="","",SUMPRODUCT(($J$4:$J$35=J16)*($K$4:$K$35=K16)*($L$4:$L$35=L16)*($M$4:$M$35=M16)*($N$4:$N$35=N16)*($O$4:$O$35=O16)*($P$4:$P$35=P16)*($Q$4:$Q$35=Q16)*($R$4:$R$35=R16)*($S$4:$S$35>S16))) -> 0 | AD16: =IF(H16="","",SUMPRODUCT(($J$4:$J$35=J16)*($K$4:$K$35=K16)*($L$4:$L$35=L16)*($M$4:$M$35=M16)*($N$4:$N$35=N16)*($O$4:$O$35=O16)*($P$4:$P$35=P16)*($Q$4:$Q$35=Q16)*($R$4:$R$35=R16)*($S$4:$S$35=S16)*($T$4:$T$35>T16))) -> 0 | AE16: =IF(PILOTOS!C25="","",PILOTOS!C25) -> 19 | AF16: =IF(H16="","",SUMPRODUCT(($J$4:$J$35=J16)*($K$4:$K$35=K16)*($L$4:$L$35=L16)*($M$4:$M$35=M16)*($N$4:$N$35=N16)*($O$4:$O$35=O16)*($P$4:$P$35=P16)*($Q$4:$Q$35=Q16)*($R$4:$R$35=R16)*($S$4:$S$35=S16)*($T$4:$T$35=T16)*($AE$4:$AE$35<AE16))) -> 12 | AG16: =IF($H16="","",SUMIF('1'!$D$19:$D$28,Conf!$H16,'1'!$F$19:$F$28)) -> 0 | AH16: =IF($H16="","",SUMIF('2'!$D$19:$D$28,Conf!$H16,'2'!$F$19:$F$28)) -> 0 | AI16: =IF($H16="","",SUMIF('3'!$D$19:$D$28,Conf!$H16,'3'!$F$19:$F$28)) -> 0 | AJ16: =IF($H16="","",SUMIF('4'!$D$19:$D$28,Conf!$H16,'4'!$F$19:$F$28)) -> 0 | AK16: =IF($H16="","",SUMIF('5'!$D$19:$D$28,Conf!$H16,'5'!$F$19:$F$28)) -> 0 | AL16: =IF($H16="","",SUMIF('6'!$D$19:$D$28,Conf!$H16,'6'!$F$19:$F$28)) -> 0 | AM16: =IF($H16="","",SUMIF('7'!$D$19:$D$28,Conf!$H16,'7'!$F$19:$F$28)) -> 0 | AN16: =IF($H16="","",SUMIF('8'!$D$19:$D$28,Conf!$H16,'8'!$F$19:$F$28)) -> 0 | AO16: =IF($H16="","",SUMIF('9'!$D$19:$D$28,Conf!$H16,'9'!$F$19:$F$28)) -> 0 | AP16: =IF($H16="","",SUMIF('10'!$D$19:$D$28,Conf!$H16,'10'!$F$19:$F$28)) -> 0 | AQ16: =IF($H16="","",SUMIF('11'!$D$19:$D$28,Conf!$H16,'11'!$F$19:$F$28)) -> 0 | AR16: =IF($H16="","",SUMIF('12'!$D$19:$D$28,Conf!$H16,'12'!$F$19:$F$28)) -> 0 | AS16: =IF($H16="","",SUMIF('13'!$D$19:$D$28,Conf!$H16,'13'!$F$19:$F$28)) -> 0 | AT16: =IF($H16="","",SUMIF('14'!$D$19:$D$28,Conf!$H16,'14'!$F$19:$F$28)) -> 0 | AU16: =IF($H16="","",SUMIF('15'!$D$19:$D$28,Conf!$H16,'15'!$F$19:$F$28)) -> 0 | AV16: =IF($H16="","",SUMIF('16'!$D$19:$D$28,Conf!$H16,'16'!$F$19:$F$28)) -> 0 | AW16: =IF($H16="","",SUMIF('17'!$D$19:$D$28,Conf!$H16,'17'!$F$19:$F$28)) -> 0 | AX16: =IF($H16="","",SUMIF('18'!$D$19:$D$28,Conf!$H16,'18'!$F$19:$F$28)) -> 0 | AY16: =IF($H16="","",SUMIF('19'!$D$19:$D$28,Conf!$H16,'19'!$F$19:$F$28)) -> 0 | AZ16: =IFERROR(AG16,"") -> 0 | BA16: =IFERROR(AZ16+AH16,"") -> 0 | BB16: =IFERROR(BA16+AI16,"") -> 0 | BC16: =IFERROR(BB16+AJ16,"") -> 0 | BD16: =IFERROR(BC16+AK16,"") -> 0 | BE16: =IFERROR(BD16+AL16,"") -> 0 | BF16: =IFERROR(BE16+AM16,"") -> 0 | BG16: =IFERROR(BF16+AN16,"") -> 0 | BH16: =IFERROR(BG16+AO16,"") -> 0 | ... BR16: =IFERROR(BQ16+AY16,"") -> 0 | BS16: =IF($H16="","",RANK(AZ16,AZ$4:AZ$35,0)+COUNTIF($AZ$4:AZ16,AZ16)-1) -> 13 | BT16: =IF($H16="","",RANK(BA16,BA$4:BA$35,0)+COUNTIF($BA$4:BA16,BA16)-1) -> 13 | BU16: =IF($H16="","",RANK(BB16,BB$4:BB$35,0)+COUNTIF($BB$4:BB16,BB16)-1) -> 13 | BV16: =IF($H16="","",RANK(BC16,BC$4:BC$35,0)+COUNTIF($BC$4:BC16,BC16)-1) -> 13 | BW16: =IF($H16="","",RANK(BD16,BD$4:BD$35,0)+COUNTIF($BD$4:BD16,BD16)-1) -> 13 | BX16: =IF($H16="","",RANK(BE16,BE$4:BE$35,0)+COUNTIF($BE$4:BE16,BE16)-1) -> 13 | BY16: =IF($H16="","",RANK(BF16,BF$4:BF$35,0)+COUNTIF($BF$4:BF16,BF16)-1) -> 13 | BZ16: =IF($H16="","",RANK(BG16,BG$4:BG$35,0)+COUNTIF($BG$4:BG16,BG16)-1) -> 13 | CA16: =IF($H16="","",RANK(BH16,BH$4:BH$35,0)+COUNTIF($BH$4:BH16,BH16)-1) -> 13 | CB16: =IF($H16="","",RANK(BI16,BI$4:BI$35,0)+COUNTIF($BI$4:BI16,BI16)-1) -> 13 | CC16: =IF($H16="","",RANK(BJ16,BJ$4:BJ$35,0)+COUNTIF($BJ$4:BJ16,BJ16)-1) -> 13 | CD16: =IF($H16="","",RANK(BK16,BK$4:BK$35,0)+COUNTIF($BK$4:BK16,BK16)-1) -> 13 | CE16: =IF($H16="","",RANK(BL16,BL$4:BL$35,0)+COUNTIF($BL$4:BL16,BL16)-1) -> 13 | CF16: =IF($H16="","",RANK(BM16,BM$4:BM$35,0)+COUNTIF($BM$4:BM16,BM16)-1) -> 13 | CG16: =IF($H16="","",RANK(BN16,BN$4:BN$35,0)+COUNTIF($BN$4:BN16,BN16)-1) -> 13 | CH16: =IF($H16="","",RANK(BO16,BO$4:BO$35,0)+COUNTIF($BO$4:BO16,BO16)-1) -> 13 | CI16: =IF($H16="","",RANK(BP16,BP$4:BP$35,0)+COUNTIF($BP$4:BP16,BP16)-1) -> 13 | CJ16: =IF($H16="","",RANK(BQ16,BQ$4:BQ$35,0)+COUNTIF($BQ$4:BQ16,BQ16)-1) -> 13 | CK16: =IF($H16="","",RANK(BR16,BR$4:BR$35,0)+COUNTIF($BR$4:BR16,BR16)-1) -> 13 | CL16: =IF(H16="","",SUM(CM16:DE16)) -> 0 | CM16: =IF($H16="","",IF('1'!$D$14=Conf!$H16,1,0)) -> 0 | CN16: =IF($H16="","",IF('2'!$D$14=Conf!$H16,1,0)) -> 0 | CO16: =IF($H16="","",IF('3'!$D$14=Conf!$H16,1,0)) -> 0 | CP16: =IF($H16="","",IF('4'!$D$14=Conf!$H16,1,0)) -> 0 | CQ16: =IF($H16="","",IF('5'!$D$14=Conf!$H16,1,0)) -> 0 | CR16: =IF($H16="","",IF('6'!$D$14=Conf!$H16,1,0)) -> 0 | CS16: =IF($H16="","",IF('7'!$D$14=Conf!$H16,1,0)) -> 0 | CT16: =IF($H16="","",IF('8'!$D$14=Conf!$H16,1,0)) -> 0 | CU16: =IF($H16="","",IF('9'!$D$14=Conf!$H16,1,0)) -> 0 | CV16: =IF($H16="","",IF('10'!$D$14=Conf!$H16,1,0)) -> 0 | CW16: =IF($H16="","",IF('11'!$D$14=Conf!$H16,1,0)) -> 0 | CX16: =IF($H16="","",IF('12'!$D$14=Conf!$H16,1,0)) -> 0 | CY16: =IF($H16="","",IF('13'!$D$14=Conf!$H16,1,0)) -> 0 | CZ16: =IF($H16="","",IF('14'!$D$14=Conf!$H16,1,0)) -> 0 | DA16: =IF($H16="","",IF('15'!$D$14=Conf!$H16,1,0)) -> 0 | DB16: =IF($H16="","",IF('16'!$D$14=Conf!$H16,1,0)) -> 0 | DC16: =IF($H16="","",IF('17'!$D$14=Conf!$H16,1,0)) -> 0 | DD16: =IF($H16="","",IF('18'!$D$14=Conf!$H16,1,0)) -> 0 | DE16: =IF($H16="","",IF('19'!$D$14=Conf!$H16,1,0)) -> 0 | DG16: =IF(DH16="","",DI16+DK16) -> 13 | DH16: =H16 -> Felipe MASSA | DI16: =IF(DH16="","",RANK(DJ16,$DJ$4:$DJ$35,0)) -> 1 | DJ16: =K16 -> 0 | DK16: =IF(DH16="","",COUNTIF($DI$4:DI16,DI16)-1) -> 12 | DM16: =IF(DN16="","",DO16+DQ16) -> 13 | DN16: =H16 -> Felipe MASSA | DO16: =IF(DN16="","",RANK(DP16,$DP$4:$DP$35,0)) -> 1 | DP16: =CL16 -> 0 | DQ16: =IF(DN16="","",COUNTIF($DO$4:DO16,DO16)-1) -> 12 | DS16: =IF(DT16="","",DU16+DW16) -> 13 | DT16: =H16 -> Felipe MASSA | DU16: =IF(DT16="","",RANK(DV16,$DV$4:$DV$35,0)) -> 1 | DV16: =IFERROR(K16+L16+M16,"") -> 0 | DW16: =IF(DT16="","",COUNTIF($DU$4:DU16,DU16)-1) -> 12 | DY16: =IF(DZ16="","",EA16+EC16) -> 13 | DZ16: =H16 -> Felipe MASSA | EA16: =IF(DZ16="","",RANK(EB16,$EB$4:$EB$35,0)) -> 1 | EB16: =IFERROR(SUM(K16:T16),"") -> 0 | EC16: =IF(DZ16="","",COUNTIF($EA$4:EA16,EA16)-1) -> 12
A17: 16 | B17: 10-12 Octubre | C17: GP RUSIA | E17: =IF('3'!$D$22="","",'3'!$D$22) | G17: =IF(H17="","",RANK(J17,$J$4:$J$35,0)+SUM(U17:AD17)+AF17) -> 14 | H17: =IF(PILOTOS!D26="","",PILOTOS!D26) -> Kevin MAGNUSSEN | I17: =IF(PILOTOS!E26="","",PILOTOS!E26) -> McLaren | J17: =IF(H17="","",SUM(AG17:AY17)) -> 0 | K17: =IF(H17="","",COUNTIFS(AG17:AX17,25,$AG$36:$AX$36,1)+COUNTIFS(AG17:AX17,12.5,$AG$36:$AX$36,2))+IF(H17="","",COUNTIFS(AY17,50,$AY$36,1)+COUNTIFS(AY17,25,$AY$36,2)) -> 0 | L17: =IF(H17="","",COUNTIFS(AG17:AX17,18,$AG$36:$AX$36,1)+COUNTIFS(AG17:AX17,9,$AG$36:$AX$36,2))++IF(H17="","",COUNTIFS(AY17,36,$AY$36,1)+COUNTIFS(AY17,18,$AY$36,2)) -> 0 | M17: =IF(H17="","",COUNTIFS(AG17:AX17,15,$AG$36:$AX$36,1)+COUNTIFS(AG17:AX17,7.5,$AG$36:$AX$36,2))+IF(H17="","",COUNTIFS(AY17,30,$AY$36,1)+COUNTIFS(AY17,15,$AY$36,2)) -> 0 | N17: =IF(H17="","",COUNTIFS(AG17:AX17,12,$AG$36:$AX$36,1)+COUNTIFS(AG17:AX17,6,$AG$36:$AX$36,2))+IF(H17="","",COUNTIFS(AY17,24,$AY$36,1)+COUNTIFS(AY17,12,$AY$36,2)) -> 0 | O17: =IF(H17="","",COUNTIFS(AG17:AX17,10,$AG$36:$AX$36,1)+COUNTIFS(AG17:AX17,5,$AG$36:$AX$36,2))+IF(H17="","",COUNTIFS(AY17,20,$AY$36,1)+COUNTIFS(AY17,10,$AY$36,2)) -> 0 | P17: =IF(H17="","",COUNTIFS(AG17:AX17,8,$AG$36:$AX$36,1)+COUNTIFS(AG17:AX17,4,$AG$36:$AX$36,2))+IF(H17="","",COUNTIFS(AY17,16,$AY$36,1)+COUNTIFS(AY17,8,$AY$36,2)) -> 0 | Q17: =IF(H17="","",COUNTIFS(AG17:AX17,6,$AG$36:$AX$36,1)+COUNTIFS(AG17:AX17,3,$AG$36:$AX$36,2))+IF(H17="","",COUNTIFS(AY17,12,$AY$36,1)+COUNTIFS(AY17,6,$AY$36,2)) -> 0 | R17: =IF(H17="","",COUNTIFS(AG17:AX17,4,$AG$36:$AX$36,1)+COUNTIFS(AG17:AX17,2,$AG$36:$AX$36,2))+IF(H17="","",COUNTIFS(AY17,8,$AY$36,1)+COUNTIFS(AY17,4,$AY$36,2)) -> 0 | S17: =IF(H17="","",COUNTIFS(AG17:AX17,2,$AG$36:$AX$36,1)+COUNTIFS(AG17:AX17,1,$AG$36:$AX$36,2))+IF(H17="","",COUNTIFS(AY17,4,$AY$36,1)+COUNTIFS(AY17,2,$AY$36,2)) -> 0 | T17: =IF(H17="","",COUNTIFS(AG17:AX17,1,$AG$36:$AX$36,1)+COUNTIFS(AG17:AX17,0.5,$AG$36:$AX$36,2))+IF(H17="","",COUNTIFS(AY17,2,$AY$36,1)+COUNTIFS(AY17,1,$AY$36,2)) -> 0 | U17: =IF(H17="","",SUMPRODUCT(($J$4:$J$35=J17)*($K$4:$K$35>K17))) -> 0 | V17: =IF(H17="","",SUMPRODUCT(($J$4:$J$35=J17)*($K$4:$K$35=K17)*($L$4:$L$35>L17))) -> 0 | W17: =IF(H17="","",SUMPRODUCT(($J$4:$J$35=J17)*($K$4:$K$35=K17)*($L$4:$L$35=L17)*($M$4:$M$35>M17))) -> 0 | X17: =IF(H17="","",SUMPRODUCT(($J$4:$J$35=J17)*($K$4:$K$35=K17)*($L$4:$L$35=L17)*($M$4:$M$35=M17)*($N$4:$N$35>N17))) -> 0 | Y17: =IF(H17="","",SUMPRODUCT(($J$4:$J$35=J17)*($K$4:$K$35=K17)*($L$4:$L$35=L17)*($M$4:$M$35=M17)*($N$4:$N$35=N17)*($O$4:$O$35>O17))) -> 0 | Z17: =IF(H17="","",SUMPRODUCT(($J$4:$J$35=J17)*($K$4:$K$35=K17)*($L$4:$L$35=L17)*($M$4:$M$35=M17)*($N$4:$N$35=N17)*($O$4:$O$35=O17)*($P$4:$P$35>P17))) -> 0 | AA17: =IF(H17="","",SUMPRODUCT(($J$4:$J$35=J17)*($K$4:$K$35=K17)*($L$4:$L$35=L17)*($M$4:$M$35=M17)*($N$4:$N$35=N17)*($O$4:$O$35=O17)*($P$4:$P$35=P17)*($Q$4:$Q$35>Q17))) -> 0 | AB17: =IF(H17="","",SUMPRODUCT(($J$4:$J$35=J17)*($K$4:$K$35=K17)*($L$4:$L$35=L17)*($M$4:$M$35=M17)*($N$4:$N$35=N17)*($O$4:$O$35=O17)*($P$4:$P$35=P17)*($Q$4:$Q$35=Q17)*($R$4:$R$35>R17))) -> 0 | AC17: =IF(H17="","",SUMPRODUCT(($J$4:$J$35=J17)*($K$4:$K$35=K17)*($L$4:$L$35=L17)*($M$4:$M$35=M17)*($N$4:$N$35=N17)*($O$4:$O$35=O17)*($P$4:$P$35=P17)*($Q$4:$Q$35=Q17)*($R$4:$R$35=R17)*($S$4:$S$35>S17))) -> 0 | AD17: =IF(H17="","",SUMPRODUCT(($J$4:$J$35=J17)*($K$4:$K$35=K17)*($L$4:$L$35=L17)*($M$4:$M$35=M17)*($N$4:$N$35=N17)*($O$4:$O$35=O17)*($P$4:$P$35=P17)*($Q$4:$Q$35=Q17)*($R$4:$R$35=R17)*($S$4:$S$35=S17)*($T$4:$T$35>T17))) -> 0 | AE17: =IF(PILOTOS!C26="","",PILOTOS!C26) -> 20 | AF17: =IF(H17="","",SUMPRODUCT(($J$4:$J$35=J17)*($K$4:$K$35=K17)*($L$4:$L$35=L17)*($M$4:$M$35=M17)*($N$4:$N$35=N17)*($O$4:$O$35=O17)*($P$4:$P$35=P17)*($Q$4:$Q$35=Q17)*($R$4:$R$35=R17)*($S$4:$S$35=S17)*($T$4:$T$35=T17)*($AE$4:$AE$35<AE17))) -> 13 | AG17: =IF($H17="","",SUMIF('1'!$D$19:$D$28,Conf!$H17,'1'!$F$19:$F$28)) -> 0 | AH17: =IF($H17="","",SUMIF('2'!$D$19:$D$28,Conf!$H17,'2'!$F$19:$F$28)) -> 0 | AI17: =IF($H17="","",SUMIF('3'!$D$19:$D$28,Conf!$H17,'3'!$F$19:$F$28)) -> 0 | AJ17: =IF($H17="","",SUMIF('4'!$D$19:$D$28,Conf!$H17,'4'!$F$19:$F$28)) -> 0 | AK17: =IF($H17="","",SUMIF('5'!$D$19:$D$28,Conf!$H17,'5'!$F$19:$F$28)) -> 0 | AL17: =IF($H17="","",SUMIF('6'!$D$19:$D$28,Conf!$H17,'6'!$F$19:$F$28)) -> 0 | AM17: =IF($H17="","",SUMIF('7'!$D$19:$D$28,Conf!$H17,'7'!$F$19:$F$28)) -> 0 | AN17: =IF($H17="","",SUMIF('8'!$D$19:$D$28,Conf!$H17,'8'!$F$19:$F$28)) -> 0 | AO17: =IF($H17="","",SUMIF('9'!$D$19:$D$28,Conf!$H17,'9'!$F$19:$F$28)) -> 0 | AP17: =IF($H17="","",SUMIF('10'!$D$19:$D$28,Conf!$H17,'10'!$F$19:$F$28)) -> 0 | AQ17: =IF($H17="","",SUMIF('11'!$D$19:$D$28,Conf!$H17,'11'!$F$19:$F$28)) -> 0 | AR17: =IF($H17="","",SUMIF('12'!$D$19:$D$28,Conf!$H17,'12'!$F$19:$F$28)) -> 0 | AS17: =IF($H17="","",SUMIF('13'!$D$19:$D$28,Conf!$H17,'13'!$F$19:$F$28)) -> 0 | AT17: =IF($H17="","",SUMIF('14'!$D$19:$D$28,Conf!$H17,'14'!$F$19:$F$28)) -> 0 | AU17: =IF($H17="","",SUMIF('15'!$D$19:$D$28,Conf!$H17,'15'!$F$19:$F$28)) -> 0 | AV17: =IF($H17="","",SUMIF('16'!$D$19:$D$28,Conf!$H17,'16'!$F$19:$F$28)) -> 0 | AW17: =IF($H17="","",SUMIF('17'!$D$19:$D$28,Conf!$H17,'17'!$F$19:$F$28)) -> 0 | AX17: =IF($H17="","",SUMIF('18'!$D$19:$D$28,Conf!$H17,'18'!$F$19:$F$28)) -> 0 | AY17: =IF($H17="","",SUMIF('19'!$D$19:$D$28,Conf!$H17,'19'!$F$19:$F$28)) -> 0 | AZ17: =IFERROR(AG17,"") -> 0 | BA17: =IFERROR(AZ17+AH17,"") -> 0 | BB17: =IFERROR(BA17+AI17,"") -> 0 | BC17: =IFERROR(BB17+AJ17,"") -> 0 | BD17: =IFERROR(BC17+AK17,"") -> 0 | BE17: =IFERROR(BD17+AL17,"") -> 0 | BF17: =IFERROR(BE17+AM17,"") -> 0 | BG17: =IFERROR(BF17+AN17,"") -> 0 | BH17: =IFERROR(BG17+AO17,"") -> 0 | ... BR17: =IFERROR(BQ17+AY17,"") -> 0 | BS17: =IF($H17="","",RANK(AZ17,AZ$4:AZ$35,0)+COUNTIF($AZ$4:AZ17,AZ17)-1) -> 14 | BT17: =IF($H17="","",RANK(BA17,BA$4:BA$35,0)+COUNTIF($BA$4:BA17,BA17)-1) -> 14 | BU17: =IF($H17="","",RANK(BB17,BB$4:BB$35,0)+COUNTIF($BB$4:BB17,BB17)-1) -> 14 | BV17: =IF($H17="","",RANK(BC17,BC$4:BC$35,0)+COUNTIF($BC$4:BC17,BC17)-1) -> 14 | BW17: =IF($H17="","",RANK(BD17,BD$4:BD$35,0)+COUNTIF($BD$4:BD17,BD17)-1) -> 14 | BX17: =IF($H17="","",RANK(BE17,BE$4:BE$35,0)+COUNTIF($BE$4:BE17,BE17)-1) -> 14 | BY17: =IF($H17="","",RANK(BF17,BF$4:BF$35,0)+COUNTIF($BF$4:BF17,BF17)-1) -> 14 | BZ17: =IF($H17="","",RANK(BG17,BG$4:BG$35,0)+COUNTIF($BG$4:BG17,BG17)-1) -> 14 | CA17: =IF($H17="","",RANK(BH17,BH$4:BH$35,0)+COUNTIF($BH$4:BH17,BH17)-1) -> 14 | CB17: =IF($H17="","",RANK(BI17,BI$4:BI$35,0)+COUNTIF($BI$4:BI17,BI17)-1) -> 14 | CC17: =IF($H17="","",RANK(BJ17,BJ$4:BJ$35,0)+COUNTIF($BJ$4:BJ17,BJ17)-1) -> 14 | CD17: =IF($H17="","",RANK(BK17,BK$4:BK$35,0)+COUNTIF($BK$4:BK17,BK17)-1) -> 14 | CE17: =IF($H17="","",RANK(BL17,BL$4:BL$35,0)+COUNTIF($BL$4:BL17,BL17)-1) -> 14 | CF17: =IF($H17="","",RANK(BM17,BM$4:BM$35,0)+COUNTIF($BM$4:BM17,BM17)-1) -> 14 | CG17: =IF($H17="","",RANK(BN17,BN$4:BN$35,0)+COUNTIF($BN$4:BN17,BN17)-1) -> 14 | CH17: =IF($H17="","",RANK(BO17,BO$4:BO$35,0)+COUNTIF($BO$4:BO17,BO17)-1) -> 14 | CI17: =IF($H17="","",RANK(BP17,BP$4:BP$35,0)+COUNTIF($BP$4:BP17,BP17)-1) -> 14 | CJ17: =IF($H17="","",RANK(BQ17,BQ$4:BQ$35,0)+COUNTIF($BQ$4:BQ17,BQ17)-1) -> 14 | CK17: =IF($H17="","",RANK(BR17,BR$4:BR$35,0)+COUNTIF($BR$4:BR17,BR17)-1) -> 14 | CL17: =IF(H17="","",SUM(CM17:DE17)) -> 0 | CM17: =IF($H17="","",IF('1'!$D$14=Conf!$H17,1,0)) -> 0 | CN17: =IF($H17="","",IF('2'!$D$14=Conf!$H17,1,0)) -> 0 | CO17: =IF($H17="","",IF('3'!$D$14=Conf!$H17,1,0)) -> 0 | CP17: =IF($H17="","",IF('4'!$D$14=Conf!$H17,1,0)) -> 0 | CQ17: =IF($H17="","",IF('5'!$D$14=Conf!$H17,1,0)) -> 0 | CR17: =IF($H17="","",IF('6'!$D$14=Conf!$H17,1,0)) -> 0 | CS17: =IF($H17="","",IF('7'!$D$14=Conf!$H17,1,0)) -> 0 | CT17: =IF($H17="","",IF('8'!$D$14=Conf!$H17,1,0)) -> 0 | CU17: =IF($H17="","",IF('9'!$D$14=Conf!$H17,1,0)) -> 0 | CV17: =IF($H17="","",IF('10'!$D$14=Conf!$H17,1,0)) -> 0 | CW17: =IF($H17="","",IF('11'!$D$14=Conf!$H17,1,0)) -> 0 | CX17: =IF($H17="","",IF('12'!$D$14=Conf!$H17,1,0)) -> 0 | CY17: =IF($H17="","",IF('13'!$D$14=Conf!$H17,1,0)) -> 0 | CZ17: =IF($H17="","",IF('14'!$D$14=Conf!$H17,1,0)) -> 0 | DA17: =IF($H17="","",IF('15'!$D$14=Conf!$H17,1,0)) -> 0 | DB17: =IF($H17="","",IF('16'!$D$14=Conf!$H17,1,0)) -> 0 | DC17: =IF($H17="","",IF('17'!$D$14=Conf!$H17,1,0)) -> 0 | DD17: =IF($H17="","",IF('18'!$D$14=Conf!$H17,1,0)) -> 0 | DE17: =IF($H17="","",IF('19'!$D$14=Conf!$H17,1,0)) -> 0 | DG17: =IF(DH17="","",DI17+DK17) -> 14 | DH17: =H17 -> Kevin MAGNUSSEN | DI17: =IF(DH17="","",RANK(DJ17,$DJ$4:$DJ$35,0)) -> 1 | DJ17: =K17 -> 0 | DK17: =IF(DH17="","",COUNTIF($DI$4:DI17,DI17)-1) -> 13 | DM17: =IF(DN17="","",DO17+DQ17) -> 14 | DN17: =H17 -> Kevin MAGNUSSEN | DO17: =IF(DN17="","",RANK(DP17,$DP$4:$DP$35,0)) -> 1 | DP17: =CL17 -> 0 | DQ17: =IF(DN17="","",COUNTIF($DO$4:DO17,DO17)-1) -> 13 | DS17: =IF(DT17="","",DU17+DW17) -> 14 | DT17: =H17 -> Kevin MAGNUSSEN | DU17: =IF(DT17="","",RANK(DV17,$DV$4:$DV$35,0)) -> 1 | DV17: =IFERROR(K17+L17+M17,"") -> 0 | DW17: =IF(DT17="","",COUNTIF($DU$4:DU17,DU17)-1) -> 13 | DY17: =IF(DZ17="","",EA17+EC17) -> 14 | DZ17: =H17 -> Kevin MAGNUSSEN | EA17: =IF(DZ17="","",RANK(EB17,$EB$4:$EB$35,0)) -> 1 | EB17: =IFERROR(SUM(K17:T17),"") -> 0 | EC17: =IF(DZ17="","",COUNTIF($EA$4:EA17,EA17)-1) -> 13
