Workbook
Name pilotos2: OFFSET(Pilotos!$E$7,0,0,COUNTA(Pilotos!$E$7:$E$56,">=0")-1,1)
Name pilotos3: OFFSET(Pilotos!$G$7,0,0,COUNTA(Pilotos!$G$7:$G$56,">=0")-1,1)
Name pilotosgp: OFFSET(Pilotos!$C$7,0,0,COUNTA(Pilotos!$C$7:$C$56,">=0")-1,1)

Sheet Menu
H2: Hoja realizada por IvanCha http://trabajosenexcel.blogspot.com

Sheet Resultados
A1: RESULTADOS TEMPORADA
B5: GP QATAR (23 Marzo)
B7: Pos | C7: MotoGP | D7: Moto2 | E7: Moto3 | F7: Ptos
B8: 1 | F8: 25
B9: 2 | F9: 20
B10: 3 | F10: 16
B11: 4 | F11: 13
B12: 5 | F12: 11
B13: 6 | F13: 10
B14: 7 | F14: 9
B15: 8 | F15: 8
B16: 9 | F16: 7
B17: 10 | F17: 6
B18: 11 | F18: 5
B19: 12 | F19: 4
... B22: 15 | F22: 1
B23: GP DE LAS AMERICAS (13 Abril)
B25: Pos | C25: MotoGP | D25: Moto2 | E25: Moto3 | F25: Ptos
B26: 1 | F26: 25
B27: 2 | F27: 20
B28: 3 | F28: 16
B29: 4 | F29: 13
B30: 5 | F30: 11
B31: 6 | F31: 10
B32: 7 | F32: 9
B33: 8 | F33: 8
B34: 9 | F34: 7
B35: 10 | F35: 6
B36: 11 | F36: 5
B37: 12 | F37: 4
... B40: 15 | F40: 1
B41: GP ARGENTINA (27 Abril)
B43: Pos | C43: MotoGP | D43: Moto2 | E43: Moto3 | F43: Ptos
B44: 1 | F44: 25
B45: 2 | F45: 20
B46: 3 | F46: 16
B47: 4 | F47: 13
B48: 5 | F48: 11
B49: 6 | F49: 10
B50: 7 | F50: 9
B51: 8 | F51: 8
B52: 9 | F52: 7
B53: 10 | F53: 6
B54: 11 | F54: 5
B55: 12 | F55: 4
... B58: 15 | F58: 1
B59: GP ESPAÑA (4 Mayo)
B61: Pos | C61: MotoGP | D61: Moto2 | E61: Moto3 | F61: Ptos
B62: 1 | F62: 25
B63: 2 | F63: 20
B64: 3 | F64: 16
B65: 4 | F65: 13
B66: 5 | F66: 11
B67: 6 | F67: 10
B68: 7 | F68: 9
B69: 8 | F69: 8
B70: 9 | F70: 7
B71: 10 | F71: 6
B72: 11 | F72: 5
B73: 12 | F73: 4
... B76: 15 | F76: 1
B77: GP FRANCIA (18 Mayo)
B79: Pos | C79: MotoGP | D79: Moto2 | E79: Moto3 | F79: Ptos
B80: 1 | F80: 25
B81: 2 | F81: 20
B82: 3 | F82: 16
B83: 4 | F83: 13
B84: 5 | F84: 11
B85: 6 | F85: 10
B86: 7 | F86: 9
B87: 8 | F87: 8
B88: 9 | F88: 7
B89: 10 | F89: 6
B90: 11 | F90: 5
B91: 12 | F91: 4
... B94: 15 | F94: 1
B95: GP ITALIA (1 Junio)
B97: Pos | C97: MotoGP | D97: Moto2 | E97: Moto3 | F97: Ptos
B98: 1 | F98: 25
B99: 2 | F99: 20
B100: 3 | F100: 16
B101: 4 | F101: 13
B102: 5 | F102: 11
B103: 6 | F103: 10
B104: 7 | F104: 9
B105: 8 | F105: 8
B106: 9 | F106: 7
B107: 10 | F107: 6
B108: 11 | F108: 5
B109: 12 | F109: 4
... B112: 15 | F112: 1
B113: GP CATALUNYA (15 Junio)
B115: Pos | C115: MotoGP | D115: Moto2 | E115: Moto3 | F115: Ptos
B116: 1 | F116: 25
B117: 2 | F117: 20
B118: 3 | F118: 16
B119: 4 | F119: 13
B120: 5 | F120: 11
B121: 6 | F121: 10
B122: 7 | F122: 9
...

Sheet Clasificaciones
A1: CLASIFICACIONES
B7: MOTOGP | G7: MOTO2 | L7: MOTO3
B8: Pos | C8: PILOTO | D8: PTOS | E8: Dif 1º | G8: Pos | H8: PILOTO | I8: PTOS | J8: Dif 1º | L8: Pos | M8: PILOTO | N8: PTOS | O8: Dif 1º
B9: 1 | C9: =IFERROR(VLOOKUP($B9,Conf!$A$3:$E$52,2,0),"") -> Andrea DOVIZIOSO | D9: =IFERROR(VLOOKUP($B9,Conf!$A$3:$E$52,5,0),"") -> 0 | E9: - | G9: 1 | H9: =IFERROR(VLOOKUP($G9,Conf!$G$3:$K$52,2,0),"") -> Josh HERRIN | I9: =IFERROR(VLOOKUP($G9,Conf!$G$3:$K$52,5,0),"") -> 0 | J9: - | L9: 1 | M9: =IFERROR(VLOOKUP($L9,Conf!$M$3:$Q$52,2,0),"") -> Matteo FERRARI | N9: =IFERROR(VLOOKUP($L9,Conf!$M$3:$Q$52,5,0),"") -> 0 | O9: -
B10: 2 | C10: =IFERROR(VLOOKUP($B10,Conf!$A$3:$E$52,2,0),"") -> Colin EDWARDS | D10: =IFERROR(VLOOKUP($B10,Conf!$A$3:$E$52,5,0),"") -> 0 | E10: =IF(D10<>"",D10-$D$9,"") -> 0 | G10: 2 | H10: =IFERROR(VLOOKUP($G10,Conf!$G$3:$K$52,2,0),"") -> Simone CORSI | I10: =IFERROR(VLOOKUP($G10,Conf!$G$3:$K$52,5,0),"") -> 0 | J10: =IF(I10="","",I10-$I$9) -> 0 | L10: 2 | M10: =IFERROR(VLOOKUP($L10,Conf!$M$3:$Q$52,2,0),"") -> Gabriel RAMOS | N10: =IFERROR(VLOOKUP($L10,Conf!$M$3:$Q$52,5,0),"") -> 0 | O10: =IF(N10="","",N10-$N$9) -> 0
B11: 3 | C11: =IFERROR(VLOOKUP($B11,Conf!$A$3:$E$52,2,0),"") -> Stefan BRADL | D11: =IFERROR(VLOOKUP($B11,Conf!$A$3:$E$52,5,0),"") -> 0 | E11: =IF(D11<>"",D11-$D$9,"") -> 0 | G11: 3 | H11: =IFERROR(VLOOKUP($G11,Conf!$G$3:$K$52,2,0),"") -> Randy KRUMMENACHER | I11: =IFERROR(VLOOKUP($G11,Conf!$G$3:$K$52,5,0),"") -> 0 | J11: =IF(I11="","",I11-$I$9) -> 0 | L11: 3 | M11: =IFERROR(VLOOKUP($L11,Conf!$M$3:$Q$52,2,0),"") -> Romano FENATI | N11: =IFERROR(VLOOKUP($L11,Conf!$M$3:$Q$52,5,0),"") -> 0 | O11: =IF(N11="","",N11-$N$9) -> 0
B12: 4 | C12: =IFERROR(VLOOKUP($B12,Conf!$A$3:$E$52,2,0),"") -> Hiroshi AOYAMA | D12: =IFERROR(VLOOKUP($B12,Conf!$A$3:$E$52,5,0),"") -> 0 | E12: =IF(D12<>"",D12-$D$9,"") -> 0 | G12: 4 | H12: =IFERROR(VLOOKUP($G12,Conf!$G$3:$K$52,2,0),"") -> Johann ZARCO | I12: =IFERROR(VLOOKUP($G12,Conf!$G$3:$K$52,5,0),"") -> 0 | J12: =IF(I12="","",I12-$I$9) -> 0 | L12: 4 | M12: =IFERROR(VLOOKUP($L12,Conf!$M$3:$Q$52,2,0),"") -> Efren VAZQUEZ | N12: =IFERROR(VLOOKUP($L12,Conf!$M$3:$Q$52,5,0),"") -> 0 | O12: =IF(N12="","",N12-$N$9) -> 0
B13: 5 | C13: =IFERROR(VLOOKUP($B13,Conf!$A$3:$E$52,2,0),"") -> Hector BARBERA | D13: =IFERROR(VLOOKUP($B13,Conf!$A$3:$E$52,5,0),"") -> 0 | E13: =IF(D13<>"",D13-$D$9,"") -> 0 | G13: 5 | H13: =IFERROR(VLOOKUP($G13,Conf!$G$3:$K$52,2,0),"") -> Lorenzo BALDASARRI | I13: =IFERROR(VLOOKUP($G13,Conf!$G$3:$K$52,5,0),"") -> 0 | J13: =IF(I13="","",I13-$I$9) -> 0 | L13: 5 | M13: =IFERROR(VLOOKUP($L13,Conf!$M$3:$Q$52,2,0),"") -> Jack MILLER | N13: =IFERROR(VLOOKUP($L13,Conf!$M$3:$Q$52,5,0),"") -> 0 | O13: =IF(N13="","",N13-$N$9) -> 0
B14: 6 | C14: =IFERROR(VLOOKUP($B14,Conf!$A$3:$E$52,2,0),"") -> Danilo PETRUCCI | D14: =IFERROR(VLOOKUP($B14,Conf!$A$3:$E$52,5,0),"") -> 0 | E14: =IF(D14<>"",D14-$D$9,"") -> 0 | G14: 6 | H14: =IFERROR(VLOOKUP($G14,Conf!$G$3:$K$52,2,0),"") -> Gino REA | I14: =IFERROR(VLOOKUP($G14,Conf!$G$3:$K$52,5,0),"") -> 0 | J14: =IF(I14="","",I14-$I$9) -> 0 | L14: 6 | M14: =IFERROR(VLOOKUP($L14,Conf!$M$3:$Q$52,2,0),"") -> Scott DEROUE | N14: =IFERROR(VLOOKUP($L14,Conf!$M$3:$Q$52,5,0),"") -> 0 | O14: =IF(N14="","",N14-$N$9) -> 0
B15: 7 | C15: =IFERROR(VLOOKUP($B15,Conf!$A$3:$E$52,2,0),"") -> Karel ABRAHAM | D15: =IFERROR(VLOOKUP($B15,Conf!$A$3:$E$52,5,0),"") -> 0 | E15: =IF(D15<>"",D15-$D$9,"") -> 0 | G15: 7 | H15: =IFERROR(VLOOKUP($G15,Conf!$G$3:$K$52,2,0),"") -> Thitipong WAROKORN | I15: =IFERROR(VLOOKUP($G15,Conf!$G$3:$K$52,5,0),"") -> 0 | J15: =IF(I15="","",I15-$I$9) -> 0 | L15: 7 | M15: =IFERROR(VLOOKUP($L15,Conf!$M$3:$Q$52,2,0),"") -> Alexis MASBOU | N15: =IFERROR(VLOOKUP($L15,Conf!$M$3:$Q$52,5,0),"") -> 0 | O15: =IF(N15="","",N15-$N$9) -> 0
B16: 8 | C16: =IFERROR(VLOOKUP($B16,Conf!$A$3:$E$52,2,0),"") -> Alvaro BAUTISTA | D16: =IFERROR(VLOOKUP($B16,Conf!$A$3:$E$52,5,0),"") -> 0 | E16: =IF(D16<>"",D16-$D$9,"") -> 0 | G16: 8 | H16: =IFERROR(VLOOKUP($G16,Conf!$G$3:$K$52,2,0),"") -> Sandro CORTESE | I16: =IFERROR(VLOOKUP($G16,Conf!$G$3:$K$52,5,0),"") -> 0 | J16: =IF(I16="","",I16-$I$9) -> 0 | L16: 8 | M16: =IFERROR(VLOOKUP($L16,Conf!$M$3:$Q$52,2,0),"") -> Livio LOI | N16: =IFERROR(VLOOKUP($L16,Conf!$M$3:$Q$52,5,0),"") -> 0 | O16: =IF(N16="","",N16-$N$9) -> 0
B17: 9 | C17: =IFERROR(VLOOKUP($B17,Conf!$A$3:$E$52,2,0),"") -> Broc PARKES | D17: =IFERROR(VLOOKUP($B17,Conf!$A$3:$E$52,5,0),"") -> 0 | E17: =IF(D17<>"",D17-$D$9,"") -> 0 | G17: 9 | H17: =IFERROR(VLOOKUP($G17,Conf!$G$3:$K$52,2,0),"") -> Thomas LUTHI | I17: =IFERROR(VLOOKUP($G17,Conf!$G$3:$K$52,5,0),"") -> 0 | J17: =IF(I17="","",I17-$I$9) -> 0 | L17: 9 | M17: =IFERROR(VLOOKUP($L17,Conf!$M$3:$Q$52,2,0),"") -> Alex MARQUEZ | N17: =IFERROR(VLOOKUP($L17,Conf!$M$3:$Q$52,5,0),"") -> 0 | O17: =IF(N17="","",N17-$N$9) -> 0
B18: 10 | C18: =IFERROR(VLOOKUP($B18,Conf!$A$3:$E$52,2,0),"") -> Dani PEDROSA | D18: =IFERROR(VLOOKUP($B18,Conf!$A$3:$E$52,5,0),"") -> 0 | E18: =IF(D18<>"",D18-$D$9,"") -> 0 | G18: 10 | H18: =IFERROR(VLOOKUP($G18,Conf!$G$3:$K$52,2,0),"") -> Alex DE ANGELIS | I18: =IFERROR(VLOOKUP($G18,Conf!$G$3:$K$52,5,0),"") -> 0 | J18: =IF(I18="","",I18-$I$9) -> 0 | L18: 10 | M18: =IFERROR(VLOOKUP($L18,Conf!$M$3:$Q$52,2,0),"") -> John McPHEE | N18: =IFERROR(VLOOKUP($L18,Conf!$M$3:$Q$52,5,0),"") -> 0 | O18: =IF(N18="","",N18-$N$9) -> 0
B19: 11 | C19: =IFERROR(VLOOKUP($B19,Conf!$A$3:$E$52,2,0),"") -> Andrea IANNONE | D19: =IFERROR(VLOOKUP($B19,Conf!$A$3:$E$52,5,0),"") -> 0 | E19: =IF(D19<>"",D19-$D$9,"") -> 0 | G19: 11 | H19: =IFERROR(VLOOKUP($G19,Conf!$G$3:$K$52,2,0),"") -> Nicolas TEROL | I19: =IFERROR(VLOOKUP($G19,Conf!$G$3:$K$52,5,0),"") -> 0 | J19: =IF(I19="","",I19-$I$9) -> 0 | L19: 11 | M19: =IFERROR(VLOOKUP($L19,Conf!$M$3:$Q$52,2,0),"") -> Alessandro TONUCCI | N19: =IFERROR(VLOOKUP($L19,Conf!$M$3:$Q$52,5,0),"") -> 0 | O19: =IF(N19="","",N19-$N$9) -> 0
B20: 12 | C20: =IFERROR(VLOOKUP($B20,Conf!$A$3:$E$52,2,0),"") -> Cal CRUTCHLOW | D20: =IFERROR(VLOOKUP($B20,Conf!$A$3:$E$52,5,0),"") -> 0 | E20: =IF(D20<>"",D20-$D$9,"") -> 0 | G20: 12 | H20: =IFERROR(VLOOKUP($G20,Conf!$G$3:$K$52,2,0),"") -> Xavier SIMEON | I20: =IFERROR(VLOOKUP($G20,Conf!$G$3:$K$52,5,0),"") -> 0 | J20: =IF(I20="","",I20-$I$9) -> 0 | L20: 12 | M20: =IFERROR(VLOOKUP($L20,Conf!$M$3:$Q$52,2,0),"") -> Francesco BAGNAIA | N20: =IFERROR(VLOOKUP($L20,Conf!$M$3:$Q$52,5,0),"") -> 0 | O20: =IF(N20="","",N20-$N$9) -> 0
B21: 13 | C21: =IFERROR(VLOOKUP($B21,Conf!$A$3:$E$52,2,0),"") -> Bradley SMITH | D21: =IFERROR(VLOOKUP($B21,Conf!$A$3:$E$52,5,0),"") -> 0 | E21: =IF(D21<>"",D21-$D$9,"") -> 0 | G21: 13 | H21: =IFERROR(VLOOKUP($G21,Conf!$G$3:$K$52,2,0),"") -> Franco MORBIDELLI | I21: =IFERROR(VLOOKUP($G21,Conf!$G$3:$K$52,5,0),"") -> 0 | J21: =IF(I21="","",I21-$I$9) -> 0 | L21: 13 | M21: =IFERROR(VLOOKUP($L21,Conf!$M$3:$Q$52,2,0),"") -> Ana CARRASCO | N21: =IFERROR(VLOOKUP($L21,Conf!$M$3:$Q$52,5,0),"") -> 0 | O21: =IF(N21="","",N21-$N$9) -> 0
... B29: 21 | C29: =IFERROR(VLOOKUP($B29,Conf!$A$3:$E$52,2,0),"") -> Michael LAVERTY | D29: =IFERROR(VLOOKUP($B29,Conf!$A$3:$E$52,5,0),"") -> 0 | E29: =IF(D29<>"",D29-$D$9,"") -> 0 | G29: 21 | H29: =IFERROR(VLOOKUP($G29,Conf!$G$3:$K$52,2,0),"") -> Tetsuta NAGASHIMA | I29: =IFERROR(VLOOKUP($G29,Conf!$G$3:$K$52,5,0),"") -> 0 | J29: =IF(I29="","",I29-$I$9) -> 0 | L29: 21 | M29: =IFERROR(VLOOKUP($L29,Conf!$M$3:$Q$52,2,0),"") -> Luca GRUNWALD | N29: =IFERROR(VLOOKUP($L29,Conf!$M$3:$Q$52,5,0),"") -> 0 | O29: =IF(N29="","",N29-$N$9) -> 0
B30: =IF(Conf!B24="","",Clasificaciones!B29+1) -> 22 | C30: =IFERROR(VLOOKUP($B30,Conf!$A$3:$E$52,2,0),"") -> Marc MARQUEZ | D30: =IFERROR(VLOOKUP($B30,Conf!$A$3:$E$52,5,0),"") -> 0 | E30: =IF(D30<>"",D30-$D$9,"") -> 0 | G30: 22 | H30: =IFERROR(VLOOKUP($G30,Conf!$G$3:$K$52,2,0),"") -> Axel PONS | I30: =IFERROR(VLOOKUP($G30,Conf!$G$3:$K$52,5,0),"") -> 0 | J30: =IF(I30="","",I30-$I$9) -> 0 | L30: 22 | M30: =IFERROR(VLOOKUP($L30,Conf!$M$3:$Q$52,2,0),"") -> Miguel OLIVEIRA | N30: =IFERROR(VLOOKUP($L30,Conf!$M$3:$Q$52,5,0),"") -> 0 | O30: =IF(N30="","",N30-$N$9) -> 0
B31: =IF(Conf!B25="","",Clasificaciones!B30+1) -> 23 | C31: =IFERROR(VLOOKUP($B31,Conf!$A$3:$E$52,2,0),"") -> Jorge LORENZO | D31: =IFERROR(VLOOKUP($B31,Conf!$A$3:$E$52,5,0),"") -> 0 | E31: =IF(D31<>"",D31-$D$9,"") -> 0 | G31: 23 | H31: =IFERROR(VLOOKUP($G31,Conf!$G$3:$K$52,2,0),"") -> Esteve RABAT | I31: =IFERROR(VLOOKUP($G31,Conf!$G$3:$K$52,5,0),"") -> 0 | J31: =IF(I31="","",I31-$I$9) -> 0 | L31: 23 | M31: =IFERROR(VLOOKUP($L31,Conf!$M$3:$Q$52,2,0),"") -> Bryan SCHOUTEN | N31: =IFERROR(VLOOKUP($L31,Conf!$M$3:$Q$52,5,0),"") -> 0 | O31: =IF(N31="","",N31-$N$9) -> 0
B32: =IF(Conf!B26="","",Clasificaciones!B31+1) | C32: =IFERROR(VLOOKUP($B32,Conf!$A$3:$E$52,2,0),"") | D32: =IFERROR(VLOOKUP($B32,Conf!$A$3:$E$52,5,0),"") | E32: =IF(D32<>"",D32-$D$9,"") | G32: 24 | H32: =IFERROR(VLOOKUP($G32,Conf!$G$3:$K$52,2,0),"") -> Mattia PASINI | I32: =IFERROR(VLOOKUP($G32,Conf!$G$3:$K$52,5,0),"") -> 0 | J32: =IF(I32="","",I32-$I$9) -> 0 | L32: 24 | M32: =IFERROR(VLOOKUP($L32,Conf!$M$3:$Q$52,2,0),"") -> Danny KENT | N32: =IFERROR(VLOOKUP($L32,Conf!$M$3:$Q$52,5,0),"") -> 0 | O32: =IF(N32="","",N32-$N$9) -> 0
B33: =IF(Conf!B27="","",Clasificaciones!B32+1) | C33: =IFERROR(VLOOKUP($B33,Conf!$A$3:$E$52,2,0),"") | D33: =IFERROR(VLOOKUP($B33,Conf!$A$3:$E$52,5,0),"") | E33: =IF(D33<>"",D33-$D$9,"") | G33: 25 | H33: =IFERROR(VLOOKUP($G33,Conf!$G$3:$K$52,2,0),"") -> Hafizh SYAHRIN | I33: =IFERROR(VLOOKUP($G33,Conf!$G$3:$K$52,5,0),"") -> 0 | J33: =IF(I33="","",I33-$I$9) -> 0 | L33: 25 | M33: =IFERROR(VLOOKUP($L33,Conf!$M$3:$Q$52,2,0),"") -> Andrea LOCATELLI | N33: =IFERROR(VLOOKUP($L33,Conf!$M$3:$Q$52,5,0),"") -> 0 | O33: =IF(N33="","",N33-$N$9) -> 0
B34: =IF(Conf!B28="","",Clasificaciones!B33+1) | C34: =IFERROR(VLOOKUP($B34,Conf!$A$3:$E$52,2,0),"") | D34: =IFERROR(VLOOKUP($B34,Conf!$A$3:$E$52,5,0),"") | E34: =IF(D34<>"",D34-$D$9,"") | G34: 26 | H34: =IFERROR(VLOOKUP($G34,Conf!$G$3:$K$52,2,0),"") -> Julian SIMON | I34: =IFERROR(VLOOKUP($G34,Conf!$G$3:$K$52,5,0),"") -> 0 | J34: =IF(I34="","",I34-$I$9) -> 0 | L34: 26 | M34: =IFERROR(VLOOKUP($L34,Conf!$M$3:$Q$52,2,0),"") -> Eric GRANADO | N34: =IFERROR(VLOOKUP($L34,Conf!$M$3:$Q$52,5,0),"") -> 0 | O34: =IF(N34="","",N34-$N$9) -> 0
B35: =IF(Conf!B29="","",Clasificaciones!B34+1) | C35: =IFERROR(VLOOKUP($B35,Conf!$A$3:$E$52,2,0),"") | D35: =IFERROR(VLOOKUP($B35,Conf!$A$3:$E$52,5,0),"") | E35: =IF(D35<>"",D35-$D$9,"") | G35: 27 | H35: =IFERROR(VLOOKUP($G35,Conf!$G$3:$K$52,2,0),"") -> Robin MULHAUSER | I35: =IFERROR(VLOOKUP($G35,Conf!$G$3:$K$52,5,0),"") -> 0 | J35: =IF(I35="","",I35-$I$9) -> 0 | L35: 27 | M35: =IFERROR(VLOOKUP($L35,Conf!$M$3:$Q$52,2,0),"") -> Juanfran GUEVARA | N35: =IFERROR(VLOOKUP($L35,Conf!$M$3:$Q$52,5,0),"") -> 0 | O35: =IF(N35="","",N35-$N$9) -> 0
B36: =IF(Conf!B30="","",Clasificaciones!B35+1) | C36: =IFERROR(VLOOKUP($B36,Conf!$A$3:$E$52,2,0),"") | D36: =IFERROR(VLOOKUP($B36,Conf!$A$3:$E$52,5,0),"") | E36: =IF(D36<>"",D36-$D$9,"") | G36: 28 | H36: =IFERROR(VLOOKUP($G36,Conf!$G$3:$K$52,2,0),"") -> Dominique AEGERTER | I36: =IFERROR(VLOOKUP($G36,Conf!$G$3:$K$52,5,0),"") -> 0 | J36: =IF(I36="","",I36-$I$9) -> 0 | L36: 28 | M36: =IFERROR(VLOOKUP($L36,Conf!$M$3:$Q$52,2,0),"") -> Arthur SISSIS | N36: =IFERROR(VLOOKUP($L36,Conf!$M$3:$Q$52,5,0),"") -> 0 | O36: =IF(N36="","",N36-$N$9) -> 0
B37: =IF(Conf!B31="","",Clasificaciones!B36+1) | C37: =IFERROR(VLOOKUP($B37,Conf!$A$3:$E$52,2,0),"") | D37: =IFERROR(VLOOKUP($B37,Conf!$A$3:$E$52,5,0),"") | E37: =IF(D37<>"",D37-$D$9,"") | G37: 29 | H37: =IFERROR(VLOOKUP($G37,Conf!$G$3:$K$52,2,0),"") -> Jordi TORRES | I37: =IFERROR(VLOOKUP($G37,Conf!$G$3:$K$52,5,0),"") -> 0 | J37: =IF(I37="","",I37-$I$9) -> 0 | L37: 29 | M37: =IFERROR(VLOOKUP($L37,Conf!$M$3:$Q$52,2,0),"") -> Zulfahmi KHAIRUDDIN | N37: =IFERROR(VLOOKUP($L37,Conf!$M$3:$Q$52,5,0),"") -> 0 | O37: =IF(N37="","",N37-$N$9) -> 0
B38: =IF(Conf!B32="","",Clasificaciones!B37+1) | C38: =IFERROR(VLOOKUP($B38,Conf!$A$3:$E$52,2,0),"") | D38: =IFERROR(VLOOKUP($B38,Conf!$A$3:$E$52,5,0),"") | E38: =IF(D38<>"",D38-$D$9,"") | G38: 30 | H38: =IFERROR(VLOOKUP($G38,Conf!$G$3:$K$52,2,0),"") -> Alex MARIÑELARENA | I38: =IFERROR(VLOOKUP($G38,Conf!$G$3:$K$52,5,0),"") -> 0 | J38: =IF(I38="","",I38-$I$9) -> 0 | L38: 30 | M38: =IFERROR(VLOOKUP($L38,Conf!$M$3:$Q$52,2,0),"") -> Philipp OETTL | N38: =IFERROR(VLOOKUP($L38,Conf!$M$3:$Q$52,5,0),"") -> 0 | O38: =IF(N38="","",N38-$N$9) -> 0
B39: =IF(Conf!B33="","",Clasificaciones!B38+1) | C39: =IFERROR(VLOOKUP($B39,Conf!$A$3:$E$52,2,0),"") | D39: =IFERROR(VLOOKUP($B39,Conf!$A$3:$E$52,5,0),"") | E39: =IF(D39<>"",D39-$D$9,"") | G39: 31 | H39: =IFERROR(VLOOKUP($G39,Conf!$G$3:$K$52,2,0),"") -> Jonas FOLGER | I39: =IFERROR(VLOOKUP($G39,Conf!$G$3:$K$52,5,0),"") -> 0 | J39: =IF(I39="","",I39-$I$9) -> 0 | L39: 31 | M39: =IFERROR(VLOOKUP($L39,Conf!$M$3:$Q$52,2,0),"") -> Jakub KORNFEIL | N39: =IFERROR(VLOOKUP($L39,Conf!$M$3:$Q$52,5,0),"") -> 0 | O39: =IF(N39="","",N39-$N$9) -> 0
B40: =IF(Conf!B34="","",Clasificaciones!B39+1) | C40: =IFERROR(VLOOKUP($B40,Conf!$A$3:$E$52,2,0),"") | D40: =IFERROR(VLOOKUP($B40,Conf!$A$3:$E$52,5,0),"") | E40: =IF(D40<>"",D40-$D$9,"") | G40: =IF(Conf!H34="","",Clasificaciones!G39+1) -> 32 | H40: =IFERROR(VLOOKUP($G40,Conf!$G$3:$K$52,2,0),"") -> Anthony WEST | I40: =IFERROR(VLOOKUP($G40,Conf!$G$3:$K$52,5,0),"") -> 0 | J40: =IF(I40="","",I40-$I$9) -> 0 | L40: 32 | M40: =IFERROR(VLOOKUP($L40,Conf!$M$3:$Q$52,2,0),"") -> Jules DANILO | N40: =IFERROR(VLOOKUP($L40,Conf!$M$3:$Q$52,5,0),"") -> 0 | O40: =IF(N40="","",N40-$N$9) -> 0
B41: =IF(Conf!B35="","",Clasificaciones!B40+1) | C41: =IFERROR(VLOOKUP($B41,Conf!$A$3:$E$52,2,0),"") | D41: =IFERROR(VLOOKUP($B41,Conf!$A$3:$E$52,5,0),"") | E41: =IF(D41<>"",D41-$D$9,"") | G41: =IF(Conf!H35="","",Clasificaciones!G40+1) -> 33 | H41: =IFERROR(VLOOKUP($G41,Conf!$G$3:$K$52,2,0),"") -> Louis ROSSI | I41: =IFERROR(VLOOKUP($G41,Conf!$G$3:$K$52,5,0),"") -> 0 | J41: =IF(I41="","",I41-$I$9) -> 0 | L41: =IF(Conf!N35="","",Clasificaciones!L40+1) -> 33 | M41: =IFERROR(VLOOKUP($L41,Conf!$M$3:$Q$52,2,0),"") -> Karel HANIKA | N41: =IFERROR(VLOOKUP($L41,Conf!$M$3:$Q$52,5,0),"") -> 0 | O41: =IF(N41="","",N41-$N$9) -> 0
B42: =IF(Conf!B36="","",Clasificaciones!B41+1) | C42: =IFERROR(VLOOKUP($B42,Conf!$A$3:$E$52,2,0),"") | D42: =IFERROR(VLOOKUP($B42,Conf!$A$3:$E$52,5,0),"") | E42: =IF(D42<>"",D42-$D$9,"") | G42: =IF(Conf!H36="","",Clasificaciones!G41+1) -> 34 | H42: =IFERROR(VLOOKUP($G42,Conf!$G$3:$K$52,2,0),"") -> Roman RAMOS | I42: =IFERROR(VLOOKUP($G42,Conf!$G$3:$K$52,5,0),"") -> 0 | J42: =IF(I42="","",I42-$I$9) -> 0 | L42: =IF(Conf!N36="","",Clasificaciones!L41+1) | M42: =IFERROR(VLOOKUP($L42,Conf!$M$3:$Q$52,2,0),"") | N42: =IFERROR(VLOOKUP($L42,Conf!$M$3:$Q$52,5,0),"") | O42: =IF(N42="","",N42-$N$9)
B43: =IF(Conf!B37="","",Clasificaciones!B42+1) | C43: =IFERROR(VLOOKUP($B43,Conf!$A$3:$E$52,2,0),"") | D43: =IFERROR(VLOOKUP($B43,Conf!$A$3:$E$52,5,0),"") | E43: =IF(D43<>"",D43-$D$9,"") | G43: =IF(Conf!H37="","",Clasificaciones!G42+1) -> 35 | H43: =IFERROR(VLOOKUP($G43,Conf!$G$3:$K$52,2,0),"") -> Ricard CARDUS | I43: =IFERROR(VLOOKUP($G43,Conf!$G$3:$K$52,5,0),"") -> 0 | J43: =IF(I43="","",I43-$I$9) -> 0 | L43: =IF(Conf!N37="","",Clasificaciones!L42+1) | M43: =IFERROR(VLOOKUP($L43,Conf!$M$3:$Q$52,2,0),"") | N43: =IFERROR(VLOOKUP($L43,Conf!$M$3:$Q$52,5,0),"") | O43: =IF(N43="","",N43-$N$9)
B44: =IF(Conf!B38="","",Clasificaciones!B43+1) | C44: =IFERROR(VLOOKUP($B44,Conf!$A$3:$E$52,2,0),"") | D44: =IFERROR(VLOOKUP($B44,Conf!$A$3:$E$52,5,0),"") | E44: =IF(D44<>"",D44-$D$9,"") | G44: =IF(Conf!H38="","",Clasificaciones!G43+1) | H44: =IFERROR(VLOOKUP($G44,Conf!$G$3:$K$52,2,0),"") | I44: =IFERROR(VLOOKUP($G44,Conf!$G$3:$K$52,5,0),"") | J44: =IF(I44="","",I44-$I$9) | L44: =IF(Conf!N38="","",Clasificaciones!L43+1) | M44: =IFERROR(VLOOKUP($L44,Conf!$M$3:$Q$52,2,0),"") | N44: =IFERROR(VLOOKUP($L44,Conf!$M$3:$Q$52,5,0),"") | O44: =IF(N44="","",N44-$N$9)
B45: =IF(Conf!B39="","",Clasificaciones!B44+1) | C45: =IFERROR(VLOOKUP($B45,Conf!$A$3:$E$52,2,0),"") | D45: =IFERROR(VLOOKUP($B45,Conf!$A$3:$E$52,5,0),"") | E45: =IF(D45<>"",D45-$D$9,"") | G45: =IF(Conf!H39="","",Clasificaciones!G44+1) | H45: =IFERROR(VLOOKUP($G45,Conf!$G$3:$K$52,2,0),"") | I45: =IFERROR(VLOOKUP($G45,Conf!$G$3:$K$52,5,0),"") | J45: =IF(I45="","",I45-$I$9) | L45: =IF(Conf!N39="","",Clasificaciones!L44+1) | M45: =IFERROR(VLOOKUP($L45,Conf!$M$3:$Q$52,2,0),"") | N45: =IFERROR(VLOOKUP($L45,Conf!$M$3:$Q$52,5,0),"") | O45: =IF(N45="","",N45-$N$9)
B46: =IF(Conf!B40="","",Clasificaciones!B45+1) | C46: =IFERROR(VLOOKUP($B46,Conf!$A$3:$E$52,2,0),"") | D46: =IFERROR(VLOOKUP($B46,Conf!$A$3:$E$52,5,0),"") | E46: =IF(D46<>"",D46-$D$9,"") | G46: =IF(Conf!H40="","",Clasificaciones!G45+1) | H46: =IFERROR(VLOOKUP($G46,Conf!$G$3:$K$52,2,0),"") | I46: =IFERROR(VLOOKUP($G46,Conf!$G$3:$K$52,5,0),"") | J46: =IF(I46="","",I46-$I$9) | L46: =IF(Conf!N40="","",Clasificaciones!L45+1) | M46: =IFERROR(VLOOKUP($L46,Conf!$M$3:$Q$52,2,0),"") | N46: =IFERROR(VLOOKUP($L46,Conf!$M$3:$Q$52,5,0),"") | O46: =IF(N46="","",N46-$N$9)
B47: =IF(Conf!B41="","",Clasificaciones!B46+1) | C47: =IFERROR(VLOOKUP($B47,Conf!$A$3:$E$52,2,0),"") | D47: =IFERROR(VLOOKUP($B47,Conf!$A$3:$E$52,5,0),"") | E47: =IF(D47<>"",D47-$D$9,"") | G47: =IF(Conf!H41="","",Clasificaciones!G46+1) | H47: =IFERROR(VLOOKUP($G47,Conf!$G$3:$K$52,2,0),"") | I47: =IFERROR(VLOOKUP($G47,Conf!$G$3:$K$52,5,0),"") | J47: =IF(I47="","",I47-$I$9) | L47: =IF(Conf!N41="","",Clasificaciones!L46+1) | M47: =IFERROR(VLOOKUP($L47,Conf!$M$3:$Q$52,2,0),"") | N47: =IFERROR(VLOOKUP($L47,Conf!$M$3:$Q$52,5,0),"") | O47: =IF(N47="","",N47-$N$9)
B48: =IF(Conf!B42="","",Clasificaciones!B47+1) | C48: =IFERROR(VLOOKUP($B48,Conf!$A$3:$E$52,2,0),"") | D48: =IFERROR(VLOOKUP($B48,Conf!$A$3:$E$52,5,0),"") | E48: =IF(D48<>"",D48-$D$9,"") | G48: =IF(Conf!H42="","",Clasificaciones!G47+1) | H48: =IFERROR(VLOOKUP($G48,Conf!$G$3:$K$52,2,0),"") | I48: =IFERROR(VLOOKUP($G48,Conf!$G$3:$K$52,5,0),"") | J48: =IF(I48="","",I48-$I$9) | L48: =IF(Conf!N42="","",Clasificaciones!L47+1) | M48: =IFERROR(VLOOKUP($L48,Conf!$M$3:$Q$52,2,0),"") | N48: =IFERROR(VLOOKUP($L48,Conf!$M$3:$Q$52,5,0),"") | O48: =IF(N48="","",N48-$N$9)
B49: =IF(Conf!B43="","",Clasificaciones!B48+1) | C49: =IFERROR(VLOOKUP($B49,Conf!$A$3:$E$52,2,0),"") | D49: =IFERROR(VLOOKUP($B49,Conf!$A$3:$E$52,5,0),"") | E49: =IF(D49<>"",D49-$D$9,"") | G49: =IF(Conf!H43="","",Clasificaciones!G48+1) | H49: =IFERROR(VLOOKUP($G49,Conf!$G$3:$K$52,2,0),"") | I49: =IFERROR(VLOOKUP($G49,Conf!$G$3:$K$52,5,0),"") | J49: =IF(I49="","",I49-$I$9) | L49: =IF(Conf!N43="","",Clasificaciones!L48+1) | M49: =IFERROR(VLOOKUP($L49,Conf!$M$3:$Q$52,2,0),"") | N49: =IFERROR(VLOOKUP($L49,Conf!$M$3:$Q$52,5,0),"") | O49: =IF(N49="","",N49-$N$9)
B50: =IF(Conf!B44="","",Clasificaciones!B49+1) | C50: =IFERROR(VLOOKUP($B50,Conf!$A$3:$E$52,2,0),"") | D50: =IFERROR(VLOOKUP($B50,Conf!$A$3:$E$52,5,0),"") | E50: =IF(D50<>"",D50-$D$9,"") | G50: =IF(Conf!H44="","",Clasificaciones!G49+1) | H50: =IFERROR(VLOOKUP($G50,Conf!$G$3:$K$52,2,0),"") | I50: =IFERROR(VLOOKUP($G50,Conf!$G$3:$K$52,5,0),"") | J50: =IF(I50="","",I50-$I$9) | L50: =IF(Conf!N44="","",Clasificaciones!L49+1) | M50: =IFERROR(VLOOKUP($L50,Conf!$M$3:$Q$52,2,0),"") | N50: =IFERROR(VLOOKUP($L50,Conf!$M$3:$Q$52,5,0),"") | O50: =IF(N50="","",N50-$N$9)
B51: =IF(Conf!B45="","",Clasificaciones!B50+1) | C51: =IFERROR(VLOOKUP($B51,Conf!$A$3:$E$52,2,0),"") | D51: =IFERROR(VLOOKUP($B51,Conf!$A$3:$E$52,5,0),"") | E51: =IF(D51<>"",D51-$D$9,"") | G51: =IF(Conf!H45="","",Clasificaciones!G50+1) | H51: =IFERROR(VLOOKUP($G51,Conf!$G$3:$K$52,2,0),"") | I51: =IFERROR(VLOOKUP($G51,Conf!$G$3:$K$52,5,0),"") | J51: =IF(I51="","",I51-$I$9) | L51: =IF(Conf!N45="","",Clasificaciones!L50+1) | M51: =IFERROR(VLOOKUP($L51,Conf!$M$3:$Q$52,2,0),"") | N51: =IFERROR(VLOOKUP($L51,Conf!$M$3:$Q$52,5,0),"") | O51: =IF(N51="","",N51-$N$9)
B52: =IF(Conf!B46="","",Clasificaciones!B51+1) | C52: =IFERROR(VLOOKUP($B52,Conf!$A$3:$E$52,2,0),"") | D52: =IFERROR(VLOOKUP($B52,Conf!$A$3:$E$52,5,0),"") | E52: =IF(D52<>"",D52-$D$9,"") | G52: =IF(Conf!H46="","",Clasificaciones!G51+1) | H52: =IFERROR(VLOOKUP($G52,Conf!$G$3:$K$52,2,0),"") | I52: =IFERROR(VLOOKUP($G52,Conf!$G$3:$K$52,5,0),"") | J52: =IF(I52="","",I52-$I$9) | L52: =IF(Conf!N46="","",Clasificaciones!L51+1) | M52: =IFERROR(VLOOKUP($L52,Conf!$M$3:$Q$52,2,0),"") | N52: =IFERROR(VLOOKUP($L52,Conf!$M$3:$Q$52,5,0),"") | O52: =IF(N52="","",N52-$N$9)
... B58: =IF(Conf!B52="","",Clasificaciones!B57+1) | C58: =IFERROR(VLOOKUP($B58,Conf!$A$3:$E$52,2,0),"") | D58: =IFERROR(VLOOKUP($B58,Conf!$A$3:$E$52,5,0),"") | E58: =IF(D58<>"",D58-$D$9,"") | G58: =IF(Conf!H52="","",Clasificaciones!G57+1) | H58: =IFERROR(VLOOKUP($G58,Conf!$G$3:$K$52,2,0),"") | I58: =IFERROR(VLOOKUP($G58,Conf!$G$3:$K$52,5,0),"") | J58: =IF(I58="","",I58-$I$9) | L58: =IF(Conf!N52="","",Clasificaciones!L57+1) | M58: =IFERROR(VLOOKUP($L58,Conf!$M$3:$Q$52,2,0),"") | N58: =IFERROR(VLOOKUP($L58,Conf!$M$3:$Q$52,5,0),"") | O58: =IF(N58="","",N58-$N$9)

Sheet Pilotos
A1: PILOTOS
B5: MotoGP | D5: Moto2 | F5: Moto3
B6: Nº | C6: Piloto | D6: Nº | E6: Piloto | F6: Nº | G6: Piloto
B7: 4 | C7: Andrea DOVIZIOSO | D7: 2 | E7: Josh HERRIN | F7: 3 | G7: Matteo FERRARI
B8: 5 | C8: Colin EDWARDS | D8: 3 | E8: Simone CORSI | F8: 4 | G8: Gabriel RAMOS
B9: 6 | C9: Stefan BRADL | D9: 4 | E9: Randy KRUMMENACHER | F9: 5 | G9: Romano FENATI
B10: 7 | C10: Hiroshi AOYAMA | D10: 5 | E10: Johann ZARCO | F10: 7 | G10: Efren VAZQUEZ
B11: 8 | C11: Hector BARBERA | D11: 7 | E11: Lorenzo BALDASARRI | F11: 8 | G11: Jack MILLER
B12: 9 | C12: Danilo PETRUCCI | D12: 8 | E12: Gino REA | F12: 9 | G12: Scott DEROUE
B13: 17 | C13: Karel ABRAHAM | D13: 10 | E13: Thitipong WAROKORN | F13: 10 | G13: Alexis MASBOU
B14: 19 | C14: Alvaro BAUTISTA | D14: 11 | E14: Sandro CORTESE | F14: 11 | G14: Livio LOI
B15: 23 | C15: Broc PARKES | D15: 12 | E15: Thomas LUTHI | F15: 12 | G15: Alex MARQUEZ
B16: 26 | C16: Dani PEDROSA | D16: 15 | E16: Alex DE ANGELIS | F16: 17 | G16: John McPHEE
B17: 29 | C17: Andrea IANNONE | D17: 18 | E17: Nicolas TEROL | F17: 19 | G17: Alessandro TONUCCI
B18: 35 | C18: Cal CRUTCHLOW | D18: 19 | E18: Xavier SIMEON | F18: 21 | G18: Francesco BAGNAIA
... B29: 99 | C29: Jorge LORENZO | D29: 53 | E29: Esteve RABAT | F29: 51 | G29: Bryan SCHOUTEN
D30: 54 | E30: Mattia PASINI | F30: 52 | G30: Danny KENT
D31: 55 | E31: Hafizh SYAHRIN | F31: 55 | G31: Andrea LOCATELLI
D32: 60 | E32: Julian SIMON | F32: 57 | G32: Eric GRANADO
D33: 70 | E33: Robin MULHAUSER | F33: 58 | G33: Juanfran GUEVARA
D34: 77 | E34: Dominique AEGERTER | F34: 61 | G34: Arthur SISSIS
D35: 81 | E35: Jordi TORRES | F35: 63 | G35: Zulfahmi KHAIRUDDIN
D36: 92 | E36: Alex MARIÑELARENA | F36: 65 | G36: Philipp OETTL
D37: 94 | E37: Jonas FOLGER | F37: 84 | G37: Jakub KORNFEIL
D38: 95 | E38: Anthony WEST | F38: 95 | G38: Jules DANILO
D39: 96 | E39: Louis ROSSI | F39: 98 | G39: Karel HANIKA
D40: 97 | E40: Roman RAMOS
D41: 88 | E41: Ricard CARDUS

Sheet Conf
A1: MOTOGP | G1: MOTO2 | M1: MOTO3
A2: RK | B2: PILOTO | C2: RKPTS | D2: FACTOR | E2: PTOS | G2: RK | H2: PILOTO | I2: RKPTS | J2: FACTOR | K2: PTOS | M2: RK | N2: PILOTO | O2: RKPTS | P2: FACTOR | Q2: PTOS
A3: =IF(B3<>"",C3+D3,"") -> 1 | B3: =IF(Pilotos!C7<>"",Pilotos!C7,"") -> Andrea DOVIZIOSO | C3: =IF(B3<>"",RANK(E3,$E$3:$E$52),"") -> 1 | D3: =IF(B3<>"",COUNTIF($E$3:E3,E3)-1,"") -> 0 | E3: =IF(B3<>"",SUMIF(Resultados!C:C,Conf!B3,Resultados!F:F),"") -> 0 | G3: =IF(H3<>"",I3+J3,"") -> 1 | H3: =IF(Pilotos!E7<>"",Pilotos!E7,"") -> Josh HERRIN | I3: =IF(H3<>"",RANK(K3,$K$3:$K$52),"") -> 1 | J3: =IF(H3<>"",COUNTIF($K$3:K3,K3)-1,"") -> 0 | K3: =IF(H3<>"",SUMIF(Resultados!D:D,Conf!H3,Resultados!F:F),"") -> 0 | M3: =IF(N3<>"",O3+P3,"") -> 1 | N3: =IF(Pilotos!G7<>"",Pilotos!G7,"") -> Matteo FERRARI | O3: =IF(N3<>"",RANK(Q3,$Q$3:$Q$52),"") -> 1 | P3: =IF(N3<>"",COUNTIF($Q$3:Q3,Q3)-1,"") -> 0 | Q3: =IF(N3<>"",SUMIF(Resultados!E:E,Conf!N3,Resultados!F:F),"") -> 0
A4: =IF(B4<>"",C4+D4,"") -> 2 | B4: =IF(Pilotos!C8<>"",Pilotos!C8,"") -> Colin EDWARDS | C4: =IF(B4<>"",RANK(E4,$E$3:$E$52),"") -> 1 | D4: =IF(B4<>"",COUNTIF($E$3:E4,E4)-1,"") -> 1 | E4: =IF(B4<>"",SUMIF(Resultados!C:C,Conf!B4,Resultados!F:F),"") -> 0 | G4: =IF(H4<>"",I4+J4,"") -> 2 | H4: =IF(Pilotos!E8<>"",Pilotos!E8,"") -> Simone CORSI | I4: =IF(H4<>"",RANK(K4,$K$3:$K$52),"") -> 1 | J4: =IF(H4<>"",COUNTIF($K$3:K4,K4)-1,"") -> 1 | K4: =IF(H4<>"",SUMIF(Resultados!D:D,Conf!H4,Resultados!F:F),"") -> 0 | M4: =IF(N4<>"",O4+P4,"") -> 2 | N4: =IF(Pilotos!G8<>"",Pilotos!G8,"") -> Gabriel RAMOS | O4: =IF(N4<>"",RANK(Q4,$Q$3:$Q$52),"") -> 1 | P4: =IF(N4<>"",COUNTIF($Q$3:Q4,Q4)-1,"") -> 1 | Q4: =IF(N4<>"",SUMIF(Resultados!E:E,Conf!N4,Resultados!F:F),"") -> 0
A5: =IF(B5<>"",C5+D5,"") -> 3 | B5: =IF(Pilotos!C9<>"",Pilotos!C9,"") -> Stefan BRADL | C5: =IF(B5<>"",RANK(E5,$E$3:$E$52),"") -> 1 | D5: =IF(B5<>"",COUNTIF($E$3:E5,E5)-1,"") -> 2 | E5: =IF(B5<>"",SUMIF(Resultados!C:C,Conf!B5,Resultados!F:F),"") -> 0 | G5: =IF(H5<>"",I5+J5,"") -> 3 | H5: =IF(Pilotos!E9<>"",Pilotos!E9,"") -> Randy KRUMMENACHER | I5: =IF(H5<>"",RANK(K5,$K$3:$K$52),"") -> 1 | J5: =IF(H5<>"",COUNTIF($K$3:K5,K5)-1,"") -> 2 | K5: =IF(H5<>"",SUMIF(Resultados!D:D,Conf!H5,Resultados!F:F),"") -> 0 | M5: =IF(N5<>"",O5+P5,"") -> 3 | N5: =IF(Pilotos!G9<>"",Pilotos!G9,"") -> Romano FENATI | O5: =IF(N5<>"",RANK(Q5,$Q$3:$Q$52),"") -> 1 | P5: =IF(N5<>"",COUNTIF($Q$3:Q5,Q5)-1,"") -> 2 | Q5: =IF(N5<>"",SUMIF(Resultados!E:E,Conf!N5,Resultados!F:F),"") -> 0
A6: =IF(B6<>"",C6+D6,"") -> 4 | B6: =IF(Pilotos!C10<>"",Pilotos!C10,"") -> Hiroshi AOYAMA | C6: =IF(B6<>"",RANK(E6,$E$3:$E$52),"") -> 1 | D6: =IF(B6<>"",COUNTIF($E$3:E6,E6)-1,"") -> 3 | E6: =IF(B6<>"",SUMIF(Resultados!C:C,Conf!B6,Resultados!F:F),"") -> 0 | G6: =IF(H6<>"",I6+J6,"") -> 4 | H6: =IF(Pilotos!E10<>"",Pilotos!E10,"") -> Johann ZARCO | I6: =IF(H6<>"",RANK(K6,$K$3:$K$52),"") -> 1 | J6: =IF(H6<>"",COUNTIF($K$3:K6,K6)-1,"") -> 3 | K6: =IF(H6<>"",SUMIF(Resultados!D:D,Conf!H6,Resultados!F:F),"") -> 0 | M6: =IF(N6<>"",O6+P6,"") -> 4 | N6: =IF(Pilotos!G10<>"",Pilotos!G10,"") -> Efren VAZQUEZ | O6: =IF(N6<>"",RANK(Q6,$Q$3:$Q$52),"") -> 1 | P6: =IF(N6<>"",COUNTIF($Q$3:Q6,Q6)-1,"") -> 3 | Q6: =IF(N6<>"",SUMIF(Resultados!E:E,Conf!N6,Resultados!F:F),"") -> 0
A7: =IF(B7<>"",C7+D7,"") -> 5 | B7: =IF(Pilotos!C11<>"",Pilotos!C11,"") -> Hector BARBERA | C7: =IF(B7<>"",RANK(E7,$E$3:$E$52),"") -> 1 | D7: =IF(B7<>"",COUNTIF($E$3:E7,E7)-1,"") -> 4 | E7: =IF(B7<>"",SUMIF(Resultados!C:C,Conf!B7,Resultados!F:F),"") -> 0 | G7: =IF(H7<>"",I7+J7,"") -> 5 | H7: =IF(Pilotos!E11<>"",Pilotos!E11,"") -> Lorenzo BALDASARRI | I7: =IF(H7<>"",RANK(K7,$K$3:$K$52),"") -> 1 | J7: =IF(H7<>"",COUNTIF($K$3:K7,K7)-1,"") -> 4 | K7: =IF(H7<>"",SUMIF(Resultados!D:D,Conf!H7,Resultados!F:F),"") -> 0 | M7: =IF(N7<>"",O7+P7,"") -> 5 | N7: =IF(Pilotos!G11<>"",Pilotos!G11,"") -> Jack MILLER | O7: =IF(N7<>"",RANK(Q7,$Q$3:$Q$52),"") -> 1 | P7: =IF(N7<>"",COUNTIF($Q$3:Q7,Q7)-1,"") -> 4 | Q7: =IF(N7<>"",SUMIF(Resultados!E:E,Conf!N7,Resultados!F:F),"") -> 0
A8: =IF(B8<>"",C8+D8,"") -> 6 | B8: =IF(Pilotos!C12<>"",Pilotos!C12,"") -> Danilo PETRUCCI | C8: =IF(B8<>"",RANK(E8,$E$3:$E$52),"") -> 1 | D8: =IF(B8<>"",COUNTIF($E$3:E8,E8)-1,"") -> 5 | E8: =IF(B8<>"",SUMIF(Resultados!C:C,Conf!B8,Resultados!F:F),"") -> 0 | G8: =IF(H8<>"",I8+J8,"") -> 6 | H8: =IF(Pilotos!E12<>"",Pilotos!E12,"") -> Gino REA | I8: =IF(H8<>"",RANK(K8,$K$3:$K$52),"") -> 1 | J8: =IF(H8<>"",COUNTIF($K$3:K8,K8)-1,"") -> 5 | K8: =IF(H8<>"",SUMIF(Resultados!D:D,Conf!H8,Resultados!F:F),"") -> 0 | M8: =IF(N8<>"",O8+P8,"") -> 6 | N8: =IF(Pilotos!G12<>"",Pilotos!G12,"") -> Scott DEROUE | O8: =IF(N8<>"",RANK(Q8,$Q$3:$Q$52),"") -> 1 | P8: =IF(N8<>"",COUNTIF($Q$3:Q8,Q8)-1,"") -> 5 | Q8: =IF(N8<>"",SUMIF(Resultados!E:E,Conf!N8,Resultados!F:F),"") -> 0
A9: =IF(B9<>"",C9+D9,"") -> 7 | B9: =IF(Pilotos!C13<>"",Pilotos!C13,"") -> Karel ABRAHAM | C9: =IF(B9<>"",RANK(E9,$E$3:$E$52),"") -> 1 | D9: =IF(B9<>"",COUNTIF($E$3:E9,E9)-1,"") -> 6 | E9: =IF(B9<>"",SUMIF(Resultados!C:C,Conf!B9,Resultados!F:F),"") -> 0 | G9: =IF(H9<>"",I9+J9,"") -> 7 | H9: =IF(Pilotos!E13<>"",Pilotos!E13,"") -> Thitipong WAROKORN | I9: =IF(H9<>"",RANK(K9,$K$3:$K$52),"") -> 1 | J9: =IF(H9<>"",COUNTIF($K$3:K9,K9)-1,"") -> 6 | K9: =IF(H9<>"",SUMIF(Resultados!D:D,Conf!H9,Resultados!F:F),"") -> 0 | M9: =IF(N9<>"",O9+P9,"") -> 7 | N9: =IF(Pilotos!G13<>"",Pilotos!G13,"") -> Alexis MASBOU | O9: =IF(N9<>"",RANK(Q9,$Q$3:$Q$52),"") -> 1 | P9: =IF(N9<>"",COUNTIF($Q$3:Q9,Q9)-1,"") -> 6 | Q9: =IF(N9<>"",SUMIF(Resultados!E:E,Conf!N9,Resultados!F:F),"") -> 0
A10: =IF(B10<>"",C10+D10,"") -> 8 | B10: =IF(Pilotos!C14<>"",Pilotos!C14,"") -> Alvaro BAUTISTA | C10: =IF(B10<>"",RANK(E10,$E$3:$E$52),"") -> 1 | D10: =IF(B10<>"",COUNTIF($E$3:E10,E10)-1,"") -> 7 | E10: =IF(B10<>"",SUMIF(Resultados!C:C,Conf!B10,Resultados!F:F),"") -> 0 | G10: =IF(H10<>"",I10+J10,"") -> 8 | H10: =IF(Pilotos!E14<>"",Pilotos!E14,"") -> Sandro CORTESE | I10: =IF(H10<>"",RANK(K10,$K$3:$K$52),"") -> 1 | J10: =IF(H10<>"",COUNTIF($K$3:K10,K10)-1,"") -> 7 | K10: =IF(H10<>"",SUMIF(Resultados!D:D,Conf!H10,Resultados!F:F),"") -> 0 | M10: =IF(N10<>"",O10+P10,"") -> 8 | N10: =IF(Pilotos!G14<>"",Pilotos!G14,"") -> Livio LOI | O10: =IF(N10<>"",RANK(Q10,$Q$3:$Q$52),"") -> 1 | P10: =IF(N10<>"",COUNTIF($Q$3:Q10,Q10)-1,"") -> 7 | Q10: =IF(N10<>"",SUMIF(Resultados!E:E,Conf!N10,Resultados!F:F),"") -> 0
A11: =IF(B11<>"",C11+D11,"") -> 9 | B11: =IF(Pilotos!C15<>"",Pilotos!C15,"") -> Broc PARKES | C11: =IF(B11<>"",RANK(E11,$E$3:$E$52),"") -> 1 | D11: =IF(B11<>"",COUNTIF($E$3:E11,E11)-1,"") -> 8 | E11: =IF(B11<>"",SUMIF(Resultados!C:C,Conf!B11,Resultados!F:F),"") -> 0 | G11: =IF(H11<>"",I11+J11,"") -> 9 | H11: =IF(Pilotos!E15<>"",Pilotos!E15,"") -> Thomas LUTHI | I11: =IF(H11<>"",RANK(K11,$K$3:$K$52),"") -> 1 | J11: =IF(H11<>"",COUNTIF($K$3:K11,K11)-1,"") -> 8 | K11: =IF(H11<>"",SUMIF(Resultados!D:D,Conf!H11,Resultados!F:F),"") -> 0 | M11: =IF(N11<>"",O11+P11,"") -> 9 | N11: =IF(Pilotos!G15<>"",Pilotos!G15,"") -> Alex MARQUEZ | O11: =IF(N11<>"",RANK(Q11,$Q$3:$Q$52),"") -> 1 | P11: =IF(N11<>"",COUNTIF($Q$3:Q11,Q11)-1,"") -> 8 | Q11: =IF(N11<>"",SUMIF(Resultados!E:E,Conf!N11,Resultados!F:F),"") -> 0
A12: =IF(B12<>"",C12+D12,"") -> 10 | B12: =IF(Pilotos!C16<>"",Pilotos!C16,"") -> Dani PEDROSA | C12: =IF(B12<>"",RANK(E12,$E$3:$E$52),"") -> 1 | D12: =IF(B12<>"",COUNTIF($E$3:E12,E12)-1,"") -> 9 | E12: =IF(B12<>"",SUMIF(Resultados!C:C,Conf!B12,Resultados!F:F),"") -> 0 | G12: =IF(H12<>"",I12+J12,"") -> 10 | H12: =IF(Pilotos!E16<>"",Pilotos!E16,"") -> Alex DE ANGELIS | I12: =IF(H12<>"",RANK(K12,$K$3:$K$52),"") -> 1 | J12: =IF(H12<>"",COUNTIF($K$3:K12,K12)-1,"") -> 9 | K12: =IF(H12<>"",SUMIF(Resultados!D:D,Conf!H12,Resultados!F:F),"") -> 0 | M12: =IF(N12<>"",O12+P12,"") -> 10 | N12: =IF(Pilotos!G16<>"",Pilotos!G16,"") -> John McPHEE | O12: =IF(N12<>"",RANK(Q12,$Q$3:$Q$52),"") -> 1 | P12: =IF(N12<>"",COUNTIF($Q$3:Q12,Q12)-1,"") -> 9 | Q12: =IF(N12<>"",SUMIF(Resultados!E:E,Conf!N12,Resultados!F:F),"") -> 0
A13: =IF(B13<>"",C13+D13,"") -> 11 | B13: =IF(Pilotos!C17<>"",Pilotos!C17,"") -> Andrea IANNONE | C13: =IF(B13<>"",RANK(E13,$E$3:$E$52),"") -> 1 | D13: =IF(B13<>"",COUNTIF($E$3:E13,E13)-1,"") -> 10 | E13: =IF(B13<>"",SUMIF(Resultados!C:C,Conf!B13,Resultados!F:F),"") -> 0 | G13: =IF(H13<>"",I13+J13,"") -> 11 | H13: =IF(Pilotos!E17<>"",Pilotos!E17,"") -> Nicolas TEROL | I13: =IF(H13<>"",RANK(K13,$K$3:$K$52),"") -> 1 | J13: =IF(H13<>"",COUNTIF($K$3:K13,K13)-1,"") -> 10 | K13: =IF(H13<>"",SUMIF(Resultados!D:D,Conf!H13,Resultados!F:F),"") -> 0 | M13: =IF(N13<>"",O13+P13,"") -> 11 | N13: =IF(Pilotos!G17<>"",Pilotos!G17,"") -> Alessandro TONUCCI | O13: =IF(N13<>"",RANK(Q13,$Q$3:$Q$52),"") -> 1 | P13: =IF(N13<>"",COUNTIF($Q$3:Q13,Q13)-1,"") -> 10 | Q13: =IF(N13<>"",SUMIF(Resultados!E:E,Conf!N13,Resultados!F:F),"") -> 0
A14: =IF(B14<>"",C14+D14,"") -> 12 | B14: =IF(Pilotos!C18<>"",Pilotos!C18,"") -> Cal CRUTCHLOW | C14: =IF(B14<>"",RANK(E14,$E$3:$E$52),"") -> 1 | D14: =IF(B14<>"",COUNTIF($E$3:E14,E14)-1,"") -> 11 | E14: =IF(B14<>"",SUMIF(Resultados!C:C,Conf!B14,Resultados!F:F),"") -> 0 | G14: =IF(H14<>"",I14+J14,"") -> 12 | H14: =IF(Pilotos!E18<>"",Pilotos!E18,"") -> Xavier SIMEON | I14: =IF(H14<>"",RANK(K14,$K$3:$K$52),"") -> 1 | J14: =IF(H14<>"",COUNTIF($K$3:K14,K14)-1,"") -> 11 | K14: =IF(H14<>"",SUMIF(Resultados!D:D,Conf!H14,Resultados!F:F),"") -> 0 | M14: =IF(N14<>"",O14+P14,"") -> 12 | N14: =IF(Pilotos!G18<>"",Pilotos!G18,"") -> Francesco BAGNAIA | O14: =IF(N14<>"",RANK(Q14,$Q$3:$Q$52),"") -> 1 | P14: =IF(N14<>"",COUNTIF($Q$3:Q14,Q14)-1,"") -> 11 | Q14: =IF(N14<>"",SUMIF(Resultados!E:E,Conf!N14,Resultados!F:F),"") -> 0
... A52: =IF(B52<>"",C52+D52,"") | B52: =IF(Pilotos!C56<>"",Pilotos!C56,"") | C52: =IF(B52<>"",RANK(E52,$E$3:$E$52),"") | D52: =IF(B52<>"",COUNTIF($E$3:E52,E52)-1,"") | E52: =IF(B52<>"",SUMIF(Resultados!C:C,Conf!B52,Resultados!F:F),"") | G52: =IF(H52<>"",I52+J52,"") | H52: =IF(Pilotos!E56<>"",Pilotos!E56,"") | I52: =IF(H52<>"",RANK(K52,$K$3:$K$52),"") | J52: =IF(H52<>"",COUNTIF($K$3:K52,K52)-1,"") | K52: =IF(H52<>"",SUMIF(Resultados!D:D,Conf!H52,Resultados!F:F),"") | M52: =IF(N52<>"",O52+P52,"") | N52: =IF(Pilotos!G56<>"",Pilotos!G56,"") | O52: =IF(N52<>"",RANK(Q52,$Q$3:$Q$52),"") | P52: =IF(N52<>"",COUNTIF($Q$3:Q52,Q52)-1,"") | Q52: =IF(N52<>"",SUMIF(Resultados!E:E,Conf!N52,Resultados!F:F),"")
